Workbook
Name \: #REF!
Name _________________________________________________bla1: [1]leads!$H$7
Name _________________________________________________l1: [2]leads!$A$3:$E$108
Name _________________________________________________l12: #REF!
Name _________________________________________________l3: #REF!
Name _________________________________________________l4: [3]Sheet1!$W$2:$Y$103
Name _________________________________________________l5: #REF!
Name _________________________________________________mm1: [4]r!$F$4
Name _________________________________________________rr3: [5]v!$A$2:$E$51
Name _________________________________________________rrr1: [5]r!$B$1:$I$145
Name _________________________________________________ss12: [6]rdamdata!$J$8
Name _________________________________________________ss20: [6]rdamdata!$J$7
Name _________________________________________________ss40: [6]rdamdata!$J$6
Name _________________________________________________var1: #REF!
Name _________________________________________________var4: #REF!
Name ________________________________________________bla1: [1]leads!$H$7
Name ________________________________________________l1: [2]leads!$A$3:$E$108
Name ________________________________________________l12: #REF!
Name ________________________________________________l3: #REF!
Name ________________________________________________l4: [3]Sheet1!$W$2:$Y$103
Name ________________________________________________l5: #REF!
Name ________________________________________________mm1: [4]r!$F$4
Name ________________________________________________rr3: [5]v!$A$2:$E$51
Name ________________________________________________rrr1: [5]r!$B$1:$I$145
Name ________________________________________________ss12: [6]rdamdata!$J$8
Name ________________________________________________ss20: [6]rdamdata!$J$7
Name ________________________________________________ss40: [6]rdamdata!$J$6
Name ________________________________________________var1: #REF!
Name ________________________________________________var4: #REF!
Name _______________________________________________bla1: [1]leads!$H$7
Name _______________________________________________cur1: [7]r!$F$30
Name _______________________________________________l1: [2]leads!$A$3:$E$108
Name _______________________________________________l12: #REF!
Name _______________________________________________l2: [7]r!$F$29
Name _______________________________________________l3: #REF!
Name _______________________________________________l4: [3]Sheet1!$W$2:$Y$103
Name _______________________________________________l5: #REF!
Name _______________________________________________l6: [7]r!$F$4
Name _______________________________________________l7: [8]r!$F$4
Name _______________________________________________l8: [7]r!$F$2
Name _______________________________________________l9: [7]r!$F$3
Name _______________________________________________mm1: [4]r!$F$4
Name _______________________________________________mm11: [7]r!$F$4
Name _______________________________________________mm111: [8]r!$F$4
Name _______________________________________________pc2: #REF!
Name _______________________________________________pv2: #REF!
Name _______________________________________________rr3: [5]v!$A$2:$E$51
Name _______________________________________________rrr1: [5]r!$B$1:$I$145
Name _______________________________________________ss12: [6]rdamdata!$J$8
Name _______________________________________________ss20: [6]rdamdata!$J$7
Name _______________________________________________ss40: [6]rdamdata!$J$6
Name _______________________________________________var1: #REF!
Name _______________________________________________var4: #REF!
Name ______________________________________________bla1: [1]leads!$H$7
Name ______________________________________________cur1: [7]r!$F$30
Name ______________________________________________l1: [2]leads!$A$3:$E$108
Name ______________________________________________l12: #REF!
Name ______________________________________________l2: [7]r!$F$29
Name ______________________________________________l3: #REF!
Name ______________________________________________l4: [3]Sheet1!$W$2:$Y$103

Sheet cover
A1: vvvvvvvvvvvvvvvvvvvvvvvvvvvvvvvvvvvvvvvvvvvvvvvvvvvvvvvvvvvvvvvvvv
A2: vvvvvvvvvvvvvvvvvvvvvvvvvvvvvvvvvvvvvvvvvvvvvvvvvvvvvvvvvvvvvvvvvvvvvvvvvvvvvvvvvvvvvvvvvvvvvvvvvvvvvvvvvvvvvvvvvvvvvvvvvvvvvvvvvvvvvvvvvvvvvvvvvvvvvvvvvvvvvvvvvvvvvvvvvvvvvvvvvvvvvvvvvvvvvvvvvvvvvvvvvvvvvvvvvvvvvvvvvvvvvvvvvvvvvvvvvvvvvvvvvvvvvvvvvvvvvvvvvvvvvvvvvvvvvvvvvvvvvvvvvv | K2: vvvvvvvvvvvvvvvvvvvvvvvvvvvvvvvvvvvvvvvvvvvvvvvvvvvvvvvvvvvvvvvvvvvvvvvvvvvvvvvvvvvvvvvvvvvvvvvvvvvvvvvvvvvvvvvvvvvvvvvvvvvvvvvvvvvvvvvvvvvvvvvvvvvvvvvvvvvvvvvvvvvvvvvvvvvvvvvvvvvvvvvvvvvvvvvvvvvvvvvvvvvvvvvvvvvvvvvvvvvvvvvvvvvvvvvvvvvvvvvvvvvvvvvvvvvvvvvvvvvvvvvvvvvvvvvvvvvvvvvvvv
B18: PANCHAYATI RAJ ENGINEERING DEPARTMENT
B20: DETAILED CUM ABSTRACT ESTIMATE
C23: NAME OF THE WORK | F23: : | G23: ='lead 2025-26'!C3 -> Construction of Slab culvert at 4/2 to 4/4 on the road from NH167B to Kambaladinne road via Bodawada, Akkampeta and Renimadugu in Pamuru Mandal.
C25: ESTIMATE COST Rs | F25: : | G25: ='lead 2025-26'!K4 -> 70.00 Lakhs
C27: GRANT | F27: : | G27: FOR ADMINISTRATIVE SANCTION
C29: NAME OF THE MANDAL | F29: : | G29: PAMURU.
C31: NAME OF THE SUB.DIVISION. | F31: : | G31: VELIGANDLA
C33: NAME OF THE DIVISION | F33: : | G33: ONGOLE
C35: NAME OF THE CIRCLE | F35: : | G35: ONGOLE
C37: NAME OF THE DISTRICT | F37: : | G37: PRAKASAM
A40: vvvvvvvvvVvvvvvvvvvvvvvvvvvvvvvvvvvvvvvvvvvvvvvvvvvvvvvvvvvvv

Sheet SPECI
A1: SPECIFICATION REPORT
A3: Specification Report to accompany the estimate for the work "
A4: ='lead 2025-26'!C3 -> Construction of Slab culvert at 4/2 to 4/4 on the road from NH167B to Kambaladinne road via Bodawada, Akkampeta and Renimadugu in Pamuru Mandal.
G5: Estt. Rs. | H5: ='lead 2025-26'!K4 -> 70.00 Lakhs
A7: The above road, the flow of a stream is causing obstruction to vehicular movement, creating significant inconvenience to the public. As per the instructions of the District Collector, it has been proposed to construct a 5Meters of 3Vents slab culvert at this location to facilitate smooth traffic movement. Hence the estimate is prepared with the following provisions.
A8: 1 | B8: Earthwork in excavation for structures as per drawing and technical specifications Clause 305.1
A9: 2 | B9: Sand filling in foundation trenches as per drawing and technical specification Clause 305.3.9
A10: 3 | B10: Providing concrete for plain concrete M 10 grade in open foundations using 40 mm nominal size Graded hard stone aggregate for bed concrete
A11: 4 | B11: Plain cement concrete M 15 grade (Design mix) using 40,20 & 10mm metal mechanically mixed in Open foundations
A12: 5 | B12: Plain cement concrete M 15 grade (Design mix) using 40,20 & 10mm metal mechanically mixed in Substructures
A13: 6 | B13: Providing and laying reinforced cement concrete M25 grade (Design mix) for bed blocks
A14: 7 | B14: Providing and laying reinforced cement concrete M25 grade (Design mix) for Deck slab
A15: 8 | B15: Providing and laying reinforced cement concrete M30 grade (1:1.5:2) for Wearing coat
A16: 9 | B16: Supplying, fitting and placing HYSD bar reinforcement in foundation complete as per drawings and technical specifications
A17: Necessary provisions are shown for Q.C Charges @ 0.50%, GST charges @ 18%, NAC Charges @ 0.10%, Seigneorage charges are also shown in the estimate.
A18: The estimate is prepared as per the current schedule of rates for the year 2025-26 and the work will be executed as per MORD specifications

Sheet abstract
A1: GENETAL ABSTRACT | N1: B
A2: Name of the wok: | C2: ='lead 2025-26'!C3:K3 -> Construction of Slab culvert at 4/2 to 4/4 on the road from NH167B to Kambaladinne road via Bodawada, Akkampeta and Renimadugu in Pamuru Mandal.
I3: Est.Cost:-Rs | L3: ='lead 2025-26'!K4 -> 70.00 Lakhs
A4: S.No | B4: Description of Item | C4: No | F4: Measurements | I4: Quantity | K4: Rate | L4: Per | M4: Amount in Rs
F5: Length | G5: Breadth | H5: depth
A6: 1 | B6: 2 | C6: 3 | F6: 4 | G6: 5 | H6: 6 | I6: 7 | K6: 8 | L6: 9 | M6: 10
A7: 1 | B7: Construction of Slab culvert | I7: 1 | J7: No | K7: ='slab culvert'!M65 -> 5567083 | L7: 1No | M7: =ROUND(I7*K7,0) -> 5567083
A8: 2 | B8: Road furniture | I8: 1 | J8: No | K8: ='road furntiture'!M11 -> 11132 | L8: 1No | M8: =ROUND(I8*K8,0) -> 11132
M9: =SUM(M7:M8) -> 5578215
A10: 3 | B10: Provision for seigneorage charges | I10: 1 | J10: No | K10: =SEINEORAGE!H22 -> 232973 | L10: 1No | M10: =ROUND(I10*K10,0) -> 232973
M11: =SUM(M9:M10) -> 5811188
A12: 4 | B12: Provision for GST charges @ 18% | M12: =ROUND(M11*18%,0) -> 1046014
A13: 5 | B13: Provision for QC charges @ 0.50% | M13: =ROUND(M11*0.5%,0) -> 29056
A14: 6 | B14: Provision for NAC charges @ 0.10% | M14: =ROUND(M11*0.1%,0) -> 5811
A15: 7 | B15: Unforseen items such as if any | M15: =N15 -> 107931 | N15: =N16-M11-M12-M13-M14 -> 107931
I16: Total:- | M16: =SUM(M11:M15) -> 7000000 | N16: 7000000
H19: Deputy Executive Engineer
H20: PIU (PR) Sub Division
H21: Veligandla

Sheet slab culvert
A1: DETAILED ESTIMATE CUM ABSTRACT
A2: Name of the Work | C2: ='lead 2025-26'!C3:K3 -> Construction of Slab culvert at 4/2 to 4/4 on the road from NH167B to Kambaladinne road via Bodawada, Akkampeta and Renimadugu in Pamuru Mandal.
I3: Est.Cost:-Rs | L3: ='lead 2025-26'!K4 -> 70.00 Lakhs | N3: 1
A4: S.No | B4: Description of Item | C4: No | F4: Measurements | I4: Quantity | K4: Rate | L4: Per | M4: Amount in Rs | N4: 10
F5: Length | G5: Breadth | H5: depth
A6: 1 | B6: 2 | C6: 3 | F6: 4 | G6: 5 | H6: 6 | I6: 7 | K6: 8 | L6: 9 | M6: 10
A7: 1 | B7: Earthwork in excavation for structures as per drawing and technical specifications Clause 305.1 including setting out, construction of shoring and bracing, removal of stumps and other deleterious material and disposal upto a lead of 50 m, dressing of sides and bottom and backfilling in trenches with excavated suitable material as per Technical Specification 305 MORD / 304 MORTH ,
B8: For Raft | C8: 1 | D8: x | E8: 1 | F8: 19.9 | G8: 10 | H8: 2.1 | I8: =ROUND(IF(AND(F8:H8),C8*E8*F8*G8*H8,IF(AND(F8,G8),C8*E8*F8*G8,IF(AND(F8,H8),C8*E8*F8*H8,IF(AND(G8,H8),C8*E8*G8*H8,IF(F8,C8*E8*F8,IF(G8,C8*E8*G8,IF(H8,C8*E8*H8,C8*E8))))))),2) -> 417.9 | J8: Cum
B9: For Wing walls | C9: 2 | D9: x | E9: 2 | F9: 10 | G9: 2.5 | H9: 2.1 | I9: =ROUND(IF(AND(F9:H9),C9*E9*F9*G9*H9,IF(AND(F9,G9),C9*E9*F9*G9,IF(AND(F9,H9),C9*E9*F9*H9,IF(AND(G9,H9),C9*E9*G9*H9,IF(F9,C9*E9*F9,IF(G9,C9*E9*G9,IF(H9,C9*E9*H9,C9*E9))))))),2) -> 210 | J9: Cum
B10: diversion road | C10: 1 | D10: x | E10: 1 | F10: 30 | G10: 7.5 | H10: 1.2 | I10: =ROUND(IF(AND(F10:H10),C10*E10*F10*G10*H10,IF(AND(F10,G10),C10*E10*F10*G10,IF(AND(F10,H10),C10*E10*F10*H10,IF(AND(G10,H10),C10*E10*G10*H10,IF(F10,C10*E10*F10,IF(G10,C10*E10*G10,IF(H10,C10*E10*H10,C10*E10))))))),2) -> 270 | J10: Cum
I12: =SUM(I8:I11) -> 897.9 | J12: Cum | K12: ='DATA SHEET 2025-26'!G21 -> 126.69 | L12: 1Cum | M12: =ROUND(I12*K12,0) -> 113755
A13: 1 | B13: Sand filling in foundation trenches as per drawing and technical specification Clause 305.3.9 MORD & 304 MORTH including Over Head Charges, Contractor Profit @ 13.615 % But excluding Seignorage Charges and GST
B14: For Raft | C14: 1 | D14: x | E14: 1 | F14: 19.9 | G14: 10 | H14: 0.5 | I14: =ROUND(IF(AND(F14:H14),C14*E14*F14*G14*H14,IF(AND(F14,G14),C14*E14*F14*G14,IF(AND(F14,H14),C14*E14*F14*H14,IF(AND(G14,H14),C14*E14*G14*H14,IF(F14,C14*E14*F14,IF(G14,C14*E14*G14,IF(H14,C14*E14*H14,C14*E14))))))),2) -> 99.5 | J14: Cum
B15: For Wing walls | C15: 2 | D15: x | E15: 2 | F15: 10 | G15: 2.5 | H15: 0.5 | I15: =ROUND(IF(AND(F15:H15),C15*E15*F15*G15*H15,IF(AND(F15,G15),C15*E15*F15*G15,IF(AND(F15,H15),C15*E15*F15*H15,IF(AND(G15,H15),C15*E15*G15*H15,IF(F15,C15*E15*F15,IF(G15,C15*E15*G15,IF(H15,C15*E15*H15,C15*E15))))))),2) -> 50 | J15: Cum
I17: =SUM(I14:I16) -> 149.5 | J17: Cum | K17: ='DATA SHEET 2025-26'!G33 -> 153.13 | L17: 1Cum | M17: =ROUND(I17*K17,0) -> 22893
A18: 2 | B18: Providing concrete for plain concrete M 10 grade in open foundations using 40 mm nominal size Graded hard stone aggregate, mechanically mixed, placed in foundation and compacted by vibration including curing for 14 days complete as per drawings and technical specifications Clause 802, 803, 1202 & 1203 MORD and 1500, 1700 & 2100 MORTH ,
B19: For Raft | C19: 1 | D19: x | E19: 1 | F19: 19.9 | G19: 9.86 | H19: 0.5 | I19: =ROUND(IF(AND(F19:H19),C19*E19*F19*G19*H19,IF(AND(F19,G19),C19*E19*F19*G19,IF(AND(F19,H19),C19*E19*F19*H19,IF(AND(G19,H19),C19*E19*G19*H19,IF(F19,C19*E19*F19,IF(G19,C19*E19*G19,IF(H19,C19*E19*H19,C19*E19))))))),2) -> 98.11 | J19: Cum
B20: Below Wings | C20: 2 | D20: x | E20: 2 | F20: 10 | G20: 2.25 | H20: 0.5 | I20: =ROUND(IF(AND(F20:H20),C20*E20*F20*G20*H20,IF(AND(F20,G20),C20*E20*F20*G20,IF(AND(F20,H20),C20*E20*F20*H20,IF(AND(G20,H20),C20*E20*G20*H20,IF(F20,C20*E20*F20,IF(G20,C20*E20*G20,IF(H20,C20*E20*H20,C20*E20))))))),2) -> 45 | J20: Cum
B21: For Vent Portion | C21: 1 | D21: x | E21: 1 | F21: 15 | G21: 2.88 | H21: 0.1 | I21: =ROUND(IF(AND(F21:H21),C21*E21*F21*G21*H21,IF(AND(F21,G21),C21*E21*F21*G21,IF(AND(F21,H21),C21*E21*F21*H21,IF(AND(G21,H21),C21*E21*G21*H21,IF(F21,C21*E21*F21,IF(G21,C21*E21*G21,IF(H21,C21*E21*H21,C21*E21))))))),2) -> 4.32 | J21: Cum
B22: For appron bed | C22: 1 | D22: x | E22: 4 | F22: 10 | G22: 9.56 | H22: 0.1 | I22: =ROUND(IF(AND(F22:H22),C22*E22*F22*G22*H22,IF(AND(F22,G22),C22*E22*F22*G22,IF(AND(F22,H22),C22*E22*F22*H22,IF(AND(G22,H22),C22*E22*G22*H22,IF(F22,C22*E22*F22,IF(G22,C22*E22*G22,IF(H22,C22*E22*H22,C22*E22))))))),2) -> 38.24 | J22: Cum
I24: =SUM(I19:I23) -> 185.67 | J24: Cum | K24: ='DATA SHEET 2025-26'!G52 -> 6049.27 | L24: 1Cum | M24: =ROUND(I24*K24,0) -> 1123168
A25: 3 | B25: Plain cement concrete M 15 grade (Design mix) using 40,20 & 10mm metal mechanically mixed in Open foundations complete as per drawings and technical specification Clauses 802, 804, 805, 806, 807, 1202 and 1204 MORD and 1500, 1700 & 2200 MORTH ,
B26: For Abutment 1st Step | C26: 1 | D26: x | E26: 2 | F26: 7.5 | G26: 3 | H26: 0.6 | I26: =ROUND(IF(AND(F26:H26),C26*E26*F26*G26*H26,IF(AND(F26,G26),C26*E26*F26*G26,IF(AND(F26,H26),C26*E26*F26*H26,IF(AND(G26,H26),C26*E26*G26*H26,IF(F26,C26*E26*F26,IF(G26,C26*E26*G26,IF(H26,C26*E26*H26,C26*E26))))))),2) -> 27 | J26: Cum
B27: For Abutment 2nd Step | C27: 1 | D27: x | E27: 2 | F27: 7.5 | G27: 2.7 | H27: 0.6 | I27: =ROUND(IF(AND(F27:H27),C27*E27*F27*G27*H27,IF(AND(F27,G27),C27*E27*F27*G27,IF(AND(F27,H27),C27*E27*F27*H27,IF(AND(G27,H27),C27*E27*G27*H27,IF(F27,C27*E27*F27,IF(G27,C27*E27*G27,IF(H27,C27*E27*H27,C27*E27))))))),2) -> 24.3 | J27: Cum
B28: For Abutment 3rd Step | C28: 1 | D28: x | E28: 2 | F28: 7.5 | G28: 2.2 | H28: 0.4 | I28: =ROUND(IF(AND(F28:H28),C28*E28*F28*G28*H28,IF(AND(F28,G28),C28*E28*F28*G28,IF(AND(F28,H28),C28*E28*F28*H28,IF(AND(G28,H28),C28*E28*G28*H28,IF(F28,C28*E28*F28,IF(G28,C28*E28*G28,IF(H28,C28*E28*H28,C28*E28))))))),2) -> 13.2 | J28: Cum
B29: For Piers 1st Step | C29: 2 | D29: x | E29: 1 | F29: 9.1 | G29: 1.45 | H29: 0.3 | I29: =ROUND(IF(AND(F29:H29),C29*E29*F29*G29*H29,IF(AND(F29,G29),C29*E29*F29*G29,IF(AND(F29,H29),C29*E29*F29*H29,IF(AND(G29,H29),C29*E29*G29*H29,IF(F29,C29*E29*F29,IF(G29,C29*E29*G29,IF(H29,C29*E29*H29,C29*E29))))))),2) -> 7.92 | J29: Cum
B30: For Piers 2nd Step | C30: 2 | D30: x | E30: 1 | F30: 7.5 | G30: 1.20+1.05/ 2 | H30: 1.3 | I30: =ROUND(C30*E30*F30*H30*(1.2+1.05)/2,2) -> 21.94 | J30: Cum
B31: For Piers Cut Waters | C31: 2 | D31: x | E31: 2 | F31: 1.20+1.05/ 2 | G31: 0.56 | H31: 1.3 | I31: =ROUND(C31*E31*G31*H31*(1.2+1.05)/2,2) -> 3.28 | J31: Cum
B32: Wing walls | C32: 2 | D32: x | E32: 2 | F32: 10 | G32: 1.95+1.35/ 2 | H32: 1.6 | I32: =ROUND(C32*E32*F32*H32*(1.95+1.35)/2,2) -> 105.6 | J32: Cum
B33: Appron Retaing wall | C33: 1 | D33: x | E33: 2 | F33: 19.9 | G33: 0.75+0.45/ 2 | H33: 0.75 | I33: =ROUND(C33*E33*F33*H33*(0.75+0.45)/2,2) -> 17.91 | J33: Cum
I35: =SUM(I26:I34) -> 221.15 | J35: Cum | K35: ='DATA SHEET 2025-26'!G88 -> 6134.136 | L35: 1Cum | M35: =ROUND(I35*K35,0) -> 1356564
A36: 4 | B36: Plain cement concrete M 15 grade (Design mix) using 40,20 & 10mm metal mechanically mixed in Substructures complete as per drawings and technical specification Clauses 802, 804, 805, 806, 807, 1202 and 1204 MORD and 1500, 1700 & 2200 MORTH.
B37: Sub Structure of Abutment | C37: 1 | D37: x | E37: 2 | F37: 7.5 | G37: (1.30+0.70)/ 2 | H37: 3.5 | I37: =ROUND(C37*E37*F37*H37*(1.3+0.7)/2,2) -> 52.5 | J37: Cum
B38: Sub Structure of Piers | C38: 2 | D38: x | E38: 1 | F38: 7.5 | G38: (1.05+0.90)/ 2 | H38: 3.5 | I38: =ROUND(C38*E38*F38*H38*(1.05+0.9)/2,2) -> 51.19 | J38: Cum
B39: For Piers Cut Waters | C39: 2 | D39: x | E39: 2 | F39: (1.05+0.90) 2 | G39: 0.46 | H39: 3.5 | I39: =ROUND(C39*E39*G39*H39*(1.05+0.9)/2,2) -> 6.28 | J39: Cum
B40: For Wing walls upto Bed Block level | C40: 2 | D40: x | E40: 2 | F40: 10 | G40: 1.35+0.45/ 2 | H40: 4 | I40: =ROUND(C40*E40*F40*H40*(1.35+0.45)/2,2) -> 144 | J40: Cum
I42: =SUM(I37:I41) -> 253.97 | J42: Cum | K42: ='DATA SHEET 2025-26'!G112 -> 6488.03 | L42: 1Cum | M42: =ROUND(I42*K42,0) -> 1647765
A43: 5 | B43: Providing and laying reinforced cement concrete M25 grade (Design mix) for bed blocks foundations using 20 & 10 mm nominal size graded hard stone aggregates mechanically mixied placed in founation and compacted by vibration including curing for 14 days complete as per drawing and technical specification clause 802, 803, 1202 & 1203 MORD and 1500, 1700 & 2100 MORTH
B44: Over Abutment | C44: 1 | D44: x | E44: 2 | F44: 7.5 | G44: 0.7 | H44: 0.2 | I44: =ROUND(IF(AND(F44:H44),C44*E44*F44*G44*H44,IF(AND(F44,G44),C44*E44*F44*G44,IF(AND(F44,H44),C44*E44*F44*H44,IF(AND(G44,H44),C44*E44*G44*H44,IF(F44,C44*E44*F44,IF(G44,C44*E44*G44,IF(H44,C44*E44*H44,C44*E44))))))),2) -> 2.1 | J44: Cum
B45: Dirt walls over abutments | C45: 1 | D45: x | E45: 2 | F45: 7.5 | G45: 0.4 | H45: 0.3 | I45: =ROUND(IF(AND(F45:H45),C45*E45*F45*G45*H45,IF(AND(F45,G45),C45*E45*F45*G45,IF(AND(F45,H45),C45*E45*F45*H45,IF(AND(G45,H45),C45*E45*G45*H45,IF(F45,C45*E45*F45,IF(G45,C45*E45*G45,IF(H45,C45*E45*H45,C45*E45))))))),2) -> 1.8 | J45: Cum
...

Sheet road furntiture
A1: SUB ESTIMATE
A2: Name of the Work | C2: ='lead 2025-26'!C3 -> Construction of Slab culvert at 4/2 to 4/4 on the road from NH167B to Kambaladinne road via Bodawada, Akkampeta and Renimadugu in Pamuru Mandal.
A3: Name of the sub Work | C3: Road furniture
I4: Est.Cost:-Rs | L4: =M11 -> 11132
A5: S.No | B5: Description of Item | C5: No | F5: Measurements | I5: Quantity | K5: Rate | L5: Per | M5: Amount in Rs
F6: Length | G6: Breadth | H6: depth
A7: 1 | B7: 2 | C7: 3 | F7: 4 | G7: 5 | H7: 6 | I7: 7 | K7: 8 | L7: 9 | M7: 10
A8: 1 | B8: Supply and Installation of Hazard Markers using M.S. Angle of size 55X55X6mm and 120 cm high above ground level painted with two coats of black & white stripes of 15cm wide with first quality synthetic enamel paint over one coat of appropriate primer of approved brand, colour, with 30cm X 90cm retro reflective sheeting type III/IV of yellow colour fixed at top over 1.5mm aluminium sheet with standard supports consisting of alternately black and yellow stripes, with black stripes in screen printing sloping downward at an angle of 45degree towards the side of the obstruction on which the traffic is pass and buried in to the ground in a trench of size 30cm X 30cm, and 50cm depth filled with CC 1:2:4 including cost and conveyance of all materials, equipment, machinery and labour with all lead and lifts, loading and unloading charges necessary for successful completion of works as directed by the Engineer-in-Charge and conforming to IRC 79-1981 & MoRTH specification no. 805 and approved drawings etc., complete for finished item of work including cost and conveyance of all materials, all labour charges, over head charges & Contractors Profit but excluding GST and seigniorage charges etc., complete for finished item of work.
C9: 1 | D9: x | E9: 4 | I9: =ROUND(C9*E9,2) -> 4 | J9: No | K9: 2783 | L9: 1No | M9: =ROUND(I9*K9,0) -> 11132
I11: Total:- | M11: =SUM(M8:M10) -> 11132

Sheet SEINEORAGE
A1: SEIGNEORAGE STATEMENT
A2: ='lead 2025-26'!B3&'lead 2025-26'!C3 -> Name of the work : Construction of Slab culvert at 4/2 to 4/4 on the road from NH167B to Kambaladinne road via Bodawada, Akkampeta and Renimadugu in Pamuru Mandal.
A3: S.No | B3: Description of Item | H3: Earth | I3: Sand | J3: Metal | K3: Gravel
A4: 1 | B4: Earthwork | C4: Earth | D4: ='slab culvert'!I12 -> 897.9 | G4: = | H4: =D4 -> 897.9
A5: 2 | B5: M-10 (1:3:6) | C5: Sand | D5: ='slab culvert'!I24 -> 185.67 | E5: x | F5: 0.45 | G5: = | I5: =ROUND(D5*F5,2) -> 83.55
C6: Metal | D6: =D5 -> 185.67 | E6: x | F6: 0.9 | G6: = | J6: =ROUND(D6*F6,2) -> 167.1
A7: 3 | B7: M-15 (1:2.5:5) | C7: Sand | D7: ='slab culvert'!I35 -> 221.15 | E7: x | F7: 0.45 | G7: = | I7: =ROUND(D7*F7,2) -> 99.52
C8: Metal | D8: =D7 -> 221.15 | E8: x | F8: 0.9 | G8: = | J8: =ROUND(D8*F8,2) -> 199.04
A9: 4 | B9: M-15 (1:2.5:5) | C9: Sand | D9: ='slab culvert'!I42 -> 253.97 | E9: x | F9: 0.45 | G9: = | I9: =ROUND(D9*F9,2) -> 114.29
C10: Metal | D10: =D9 -> 253.97 | E10: x | F10: 0.9 | G10: = | J10: =ROUND(D10*F10,2) -> 228.57
A11: 5 | B11: M-25 (bed blocks) | C11: Sand | D11: ='slab culvert'!I49 -> 6.76 | E11: x | F11: 0.45 | G11: = | I11: =ROUND(D11*F11,2) -> 3.04
C12: Metal | D12: =D11 -> 6.76 | E12: x | F12: 0.9 | G12: = | J12: =ROUND(D12*F12,2) -> 6.08
A13: 6 | B13: M-25 (Deck slab) | C13: Sand | D13: ='slab culvert'!I54 -> 44.61 | E13: x | F13: 0.45 | G13: = | I13: =ROUND(D13*F13,2) -> 20.07
C14: Metal | D14: =D13 -> 44.61 | E14: x | F14: 0.9 | G14: = | J14: =ROUND(D14*F14,2) -> 40.15
A15: 7 | B15: M-30 (Wearing coat) | C15: Sand | D15: ='slab culvert'!I60 -> 28.76 | E15: x | F15: 0.45 | G15: = | I15: =ROUND(D15*F15,2) -> 12.94
C16: Metal | D16: =D15 -> 28.76 | E16: x | F16: 0.9 | G16: = | J16: =ROUND(D16*F16,2) -> 25.88
H18: =SUM(H4:H17) -> 897.9 | I18: =SUM(I4:I17) -> 333.41 | J18: =SUM(J4:J17) -> 666.82 | K18: =SUM(K4:K17) -> 0
H19: 104.4 | I19: 0 | J19: 208.8 | K19: 104.4
G20: = | H20: =ROUND(H18*H19,2) -> 93740.76 | I20: =ROUND(I18*I19,2) -> 0 | J20: =ROUND(J18*J19,2) -> 139232.02 | K20: =ROUND(K18*K19,2) -> 0
G21: = | H21: =H20+I20+J20+K20 -> 232972.78
G22: Or | H22: =ROUND(H21,0) -> 232973
F26: Deputy Executive Engineer
F27: PIU (PR) Sub Division
F28: Veligandla

Sheet lead 2025-26
A1: LEAD STATEMENT (2025-2026)
B3: Name of the work : | C3: Construction of Slab culvert at 4/2 to 4/4 on the road from NH167B to Kambaladinne road via Bodawada, Akkampeta and Renimadugu in Pamuru Mandal.
I4: Est. Cost Rs: | K4: 70.00 Lakhs
A6: Sl. No. | B6: Name of the Material | C6: Name of the Quarry | D6: CFMS Code | E6: Units | F6: Conveyance charges | H6: Initial cost | I6: Blastering charges | J6: 25% HBG MC Charges | K6: Total | L6: ave total
F7: Lead in Km | G7: Conveyance charges
A8: 1 | B8: 2 | C8: 3 | D8: 4 | E8: 5 | F8: 6 | G8: 7 | H8: 8 | I8: 9 | J8: 10 | K8: 11
A9: =IF(B9<>"",SUBTOTAL(103,$B9:B$9),"") -> 1 | B9: Sand for Concrete | C9: K.Bitragunta | D9: MAT-00027 | E9: 1 Cum | F9: 78 | G9: =VLOOKUP(F9,'CON 2025-26'!A6:D290,2,TRUE) -> 1107.01 | K9: =SUM(G9:J9) -> 1107.01
A10: =IF(B10<>"",SUBTOTAL(103,$B$9:B10),"") -> 2 | B10: Sand for Filling | C10: Local vagu | D10: MAT-00028 | E10: 1 Cum | F10: 5 | G10: =VLOOKUP(F10,'CON 2025-26'!A7:D291,2,TRUE) -> 103 | K10: =SUM(G10:J10) -> 103
A11: =IF(B11<>"",SUBTOTAL(103,$B$9:B11),"") -> 3 | B11: 20mm HBG Metal | C11: Ramatherdham | D11: MAT-00218 | E11: 1 Cum | F11: 110 | G11: =VLOOKUP(F11,'CON 2025-26'!A6:D131,3,TRUE) -> 1458.41 | H11: 1285 | I11: 70 | J11: =ROUND(H11*0.25,2) -> 321.25 | K11: =SUM(G11:J11) -> 3134.66 | O11: =H11+I11+J11 -> 1676.25
A12: =IF(B12<>"",SUBTOTAL(103,$B$9:B12),"") -> 4 | B12: 10mm HBG Metal | C12: Ramatherdham | D12: MAT-00217 | E12: 1 Cum | F12: =F11 -> 110 | G12: =VLOOKUP(F12,'CON 2025-26'!A7:D133,3,TRUE) -> 1458.41 | H12: 860 | I12: 70 | J12: =ROUND(H12*0.25,2) -> 215 | K12: =SUM(G12:J12) -> 2603.41 | O12: =H12+I12+J12 -> 1145
A13: =IF(B13<>"",SUBTOTAL(103,$B$9:B13),"") -> 5 | B13: 40mm HBG Metal | C13: Ramatherdham | D13: MAT-00220 | E13: 1 Cum | F13: =F12 -> 110 | G13: =VLOOKUP(F13,'CON 2025-26'!A8:D133,3,TRUE) -> 1458.41 | H13: 770 | I13: 70 | J13: =ROUND(H13*0.25,2) -> 192.5 | K13: =SUM(G13:J13) -> 2490.91 | O13: =H13+I13+J13 -> 1032.5
A14: =IF(B14<>"",SUBTOTAL(103,$B$9:B14),"") -> 6 | B14: Cement | C14: Local | D14: MAT-00005 | E14: 1 MT | H14: 4220 | K14: =SUM(G14:J14) -> 4220
A15: =IF(B15<>"",SUBTOTAL(103,$B$9:B15),"") -> 7 | B15: Steel - Fe 415 Aug.25 | C15: Local | D15: MAT-00063 | E15: 1 MT | H15: 58000 | K15: =SUM(G15:J15) -> 58000
A17: 1 | B17: Certified that the above leads are correct to the best of my knowledge.
A18: 2 | B18: Certified that the rates are provided as per SSR 2025-26

Sheet DATA SHEET 2025-26
A1: DATA SHEET (2025-26)
A2: Name of the Work: | C2: ='lead 2025-26'!C3:K3 -> Construction of Slab culvert at 4/2 to 4/4 on the road from NH167B to Kambaladinne road via Bodawada, Akkampeta and Renimadugu in Pamuru Mandal.
A3: S. No. | B3: Index Code | C3: Description of item | D3: Unit | E3: Qty | F3: Rate | G3: Amount
A4: 1 | B4: 2 | C4: 3 | D4: 4 | E4: 5 | F4: 6 | G4: 7
A5: 1 | B5: RBR-FNDN-1 (B) | C5: Excavation for Structures
C6: Excavation of structures:
C7: Earthwork in excavation for structures as per drawing and technical specifications Clause 305.1 including setting out, construction of shoring and bracing, removal of stumps and other deleterious material and disposal upto a lead of 50 m, dressing of sides and bottom and backfilling in trenches with excavated suitable material as per Technical Specification 305 MORD / 304 MORTH ,
C8: Note : Classifications of Earth Work Specification are as per 302.2.1(a) of MORD and 301.2.1 of MORT&H
C9: Ordinary soil
C10: Mechanical Means
C11: Upto 3 m depth
C12: Unit = cum
C13: Taking output = 240 cum
C14: a) Labour
C15: Mazdoor (Unskilled) | D15: day | E15: 8.32 | F15: 615 | G15: =ROUND(F15*E15,2) -> 5116.8
C16: b) Machinery
C17: Hydraulic Excavator 1 cum bucket capacity | D17: hour | E17: 6 | F17: 3607.52 | G17: =ROUND(F17*E17,2) -> 21645.12
G18: =SUM(G15:G17) -> 26761.92
C19: Overheads & Contractors Profit @13.615% | G19: =ROUND(G18*13.615%,2) -> 3643.64
C20: Cost for 240 cum = a+b+c+d | G20: =SUM(G18:G19) -> 30405.56
C21: Rate per cum = /240 | G21: =ROUND(G20/240,2) -> 126.69
A22: 2 | B22: RBR-FNDN-2 | C22: Sand filling in foundation trenches as per drawing and technical specification Clause 305.3.9 MORD & 304 MORTH including Over Head Charges, Contractor Profit @ 13.615 % But excluding Seignorage Charges and GST
C23: Sand filling
C24: Unit = 6 cum
C25: a) Labour
C26: Mate | D26: day | E26: -
C27: Mazdoor (Unskilled) | D27: day | E27: 0.31 | F27: 615 | G27: =ROUND(F27*E27,2) -> 190.65
C28: b) Material
C29: Sand | D29: cum | E29: 6 | F29: ='lead 2025-26'!K10 -> 103 | G29: =ROUND(F29*E29,2) -> 618
C30: Rate per 6 Cum | G30: =SUM(G27:G29) -> 808.65
C31: Rate per 1 Cum | G31: =ROUND(G30/6,2) -> 134.78
C32: Overheads & Contractors Profit @13.615% | G32: =ROUND(G31*13.615%,2) -> 18.35
G33: =SUM(G31:G32) -> 153.13
A34: 3 | B34: RBR-FNDN-4 | C34: Providing concrete for plain concrete M 10 grade in open foundations using 40 mm nominal size Graded hard stone aggregate, mechanically mixed, placed in foundation and compacted by vibration including curing for 14 days complete as per drawings and technical specifications Clause 802, 803, 1202 & 1203 MORD and 1500, 1700 & 2100 MORTH ,
C35: P.C.C grade M 10
C36: Nominal mix 1:3:6
C37: Unit = cum
C38: (a) Material
C39: Cement | D39: t | E39: 0.22 | F39: ='lead 2025-26'!K14 -> 4220 | G39: =ROUND(F39*E39,2) -> 928.4
C40: Sand for concrete | D40: cum | E40: 0.45 | F40: ='lead 2025-26'!$K$9 -> 1107.01 | G40: =ROUND(F40*E40,2) -> 498.15
...

Sheet CON 2025-26
A1: Conveyance charges-2025-26
B2: As per Machinery
A3: Lead in KM | B3: Earth/Sand/Gravel | C3: Metal | D3: Bricks
B4: Initial lead Rete | C4: Initial lead Rete | D4: Initial lead Rete
A5: 1 | B5: 2 | C5: 3 | D5: 4
A6: 1 | B6: 38.62 | C6: 37.07 | D6: 61.79
A7: 2 | B7: 54.08 | C7: 51.91 | D7: 86.51
A8: 3 | B8: 72.1 | C8: 69.21 | D8: 115.34
A9: 4 | B9: 87.55 | C9: 84.04 | D9: 140.06
A10: 5 | B10: 103 | C10: 98.86 | D10: 164.77
A11: 6 | B11: =B10+15.45 -> 118.45 | C11: =C10+14.83 -> 113.69 | D11: =D10+24.72 -> 189.49
A12: 7 | B12: =B11+15.45 -> 133.9 | C12: =C11+14.83 -> 128.52 | D12: =D11+24.72 -> 214.21
A13: 8 | B13: =B12+15.45 -> 149.35 | C13: =C12+14.83 -> 143.35 | D13: =D12+24.72 -> 238.93
A14: 9 | B14: =B13+15.45 -> 164.8 | C14: =C13+14.83 -> 158.18 | D14: =D13+24.72 -> 263.65
A15: 10 | B15: =B14+15.45 -> 180.25 | C15: =C14+14.83 -> 173.01 | D15: =D14+24.72 -> 288.37
A16: 11 | B16: =B15+15.45 -> 195.7 | C16: =C15+14.83 -> 187.84 | D16: =D15+24.72 -> 313.09
A17: 12 | B17: =B16+15.45 -> 211.15 | C17: =C16+14.83 -> 202.67 | D17: =D16+24.72 -> 337.81
A18: 13 | B18: =B17+15.45 -> 226.6 | C18: =C17+14.83 -> 217.5 | D18: =D17+24.72 -> 362.53
A19: 14 | B19: =B18+15.45 -> 242.05 | C19: =C18+14.83 -> 232.33 | D19: =D18+24.72 -> 387.25
A20: 15 | B20: =B19+15.45 -> 257.5 | C20: =C19+14.83 -> 247.16 | D20: =D19+24.72 -> 411.97
A21: 16 | B21: =B20+15.45 -> 272.95 | C21: =C20+14.83 -> 261.99 | D21: =D20+24.72 -> 436.69
A22: 17 | B22: =B21+15.45 -> 288.4 | C22: =C21+14.83 -> 276.82 | D22: =D21+24.72 -> 461.41
... A35: 30 | B35: =B34+15.45 -> 489.25 | C35: =C34+14.83 -> 469.61 | D35: =D34+24.72 -> 782.77
A36: 31 | B36: =B35+12.87 -> 502.12 | C36: =C35+12.36 -> 481.97 | D36: =D35+20.6 -> 803.37
A37: 32 | B37: =B36+12.87 -> 514.99 | C37: =C36+12.36 -> 494.33 | D37: =D36+20.6 -> 823.97
A38: 33 | B38: =B37+12.87 -> 527.86 | C38: =C37+12.36 -> 506.69 | D38: =D37+20.6 -> 844.57
A39: 34 | B39: =B38+12.87 -> 540.73 | C39: =C38+12.36 -> 519.05 | D39: =D38+20.6 -> 865.17
A40: 35 | B40: =B39+12.87 -> 553.6 | C40: =C39+12.36 -> 531.41 | D40: =D39+20.6 -> 885.77
A41: 36 | B41: =B40+12.87 -> 566.47 | C41: =C40+12.36 -> 543.77 | D41: =D40+20.6 -> 906.37
A42: 37 | B42: =B41+12.87 -> 579.34 | C42: =C41+12.36 -> 556.13 | D42: =D41+20.6 -> 926.97
A43: 38 | B43: =B42+12.87 -> 592.21 | C43: =C42+12.36 -> 568.49 | D43: =D42+20.6 -> 947.57
A44: 39 | B44: =B43+12.87 -> 605.08 | C44: =C43+12.36 -> 580.85 | D44: =D43+20.6 -> 968.17
A45: 40 | B45: =B44+12.87 -> 617.95 | C45: =C44+12.36 -> 593.21 | D45: =D44+20.6 -> 988.77
A46: 41 | B46: =B45+12.87 -> 630.82 | C46: =C45+12.36 -> 605.57 | D46: =D45+20.6 -> 1009.37
A47: 42 | B47: =B46+12.87 -> 643.69 | C47: =C46+12.36 -> 617.93 | D47: =D46+20.6 -> 1029.97
... A305: 300 | B305: =B304+12.87 -> 3964.15 | C305: =C304+12.36 -> 3806.81 | D305: =D304+20.6 -> 6344.77
