Workbook
Name __can435: 43.3
Name _can430: 40.73
Name _can435: 43.3
Name Header_Row: ROW(#REF!)
Name Header_Row: ROW(#REF!)
Name Header_Row: ROW(#REF!)
Name Header_Row: ROW(#REF!)
Name Header_Row: ROW(#REF!)
Name Header_Row: ROW(#REF!)
Name Header_Row: ROW(#REF!)
Name Header_Row: ROW(#REF!)
Name Header_Row: ROW(#REF!)
Name Header_Row: ROW(#REF!)
Name Header_Row: ROW(#REF!)
Name Header_Row: ROW(#REF!)
Name Header_Row: ROW(#REF!)
Name Header_Row: ROW(#REF!)
Name Header_Row: ROW(#REF!)
Name io: DATE(YEAR([0]!Loan_Start),MONTH([0]!Loan_Start)+Payment_Number,DAY([0]!Loan_Start))
Name io: DATE(YEAR([0]!Loan_Start),MONTH([0]!Loan_Start)+Payment_Number,DAY([0]!Loan_Start))
Name io: DATE(YEAR([0]!Loan_Start),MONTH([0]!Loan_Start)+Payment_Number,DAY([0]!Loan_Start))
Name io: DATE(YEAR([0]!Loan_Start),MONTH([0]!Loan_Start)+Payment_Number,DAY([0]!Loan_Start))
Name io: DATE(YEAR([0]!Loan_Start),MONTH([0]!Loan_Start)+Payment_Number,DAY([0]!Loan_Start))
Name io: DATE(YEAR([0]!Loan_Start),MONTH([0]!Loan_Start)+Payment_Number,DAY([0]!Loan_Start))
Name io: DATE(YEAR([0]!Loan_Start),MONTH([0]!Loan_Start)+Payment_Number,DAY([0]!Loan_Start))
Name io: DATE(YEAR([0]!Loan_Start),MONTH([0]!Loan_Start)+Payment_Number,DAY([0]!Loan_Start))
Name io: DATE(YEAR([0]!Loan_Start),MONTH([0]!Loan_Start)+Payment_Number,DAY([0]!Loan_Start))
Name io: DATE(YEAR([0]!Loan_Start),MONTH([0]!Loan_Start)+Payment_Number,DAY([0]!Loan_Start))
Name io: DATE(YEAR([0]!Loan_Start),MONTH([0]!Loan_Start)+Payment_Number,DAY([0]!Loan_Start))
Name io: DATE(YEAR([0]!Loan_Start),MONTH([0]!Loan_Start)+Payment_Number,DAY([0]!Loan_Start))
Name io: DATE(YEAR([0]!Loan_Start),MONTH([0]!Loan_Start)+Payment_Number,DAY([0]!Loan_Start))
Name io: DATE(YEAR([0]!Loan_Start),MONTH([0]!Loan_Start)+Payment_Number,DAY([0]!Loan_Start))
Name io: DATE(YEAR([0]!Loan_Start),MONTH([0]!Loan_Start)+Payment_Number,DAY([0]!Loan_Start))
Name io: DATE(YEAR([0]!Loan_Start),MONTH([0]!Loan_Start)+Payment_Number,DAY([0]!Loan_Start))
Name kjghd: #N/A
Name kjghd: OFFSET([0]!Full_Print,0,0,[2]CR!Last_Row)
Name kjghd: OFFSET([0]!Full_Print,0,0,[2]CR!Last_Row)
Name kjghd: #N/A
Name kjghd: #N/A
Name kjghd: #N/A
Name kjghd: #N/A
Name kjghd: OFFSET([0]!Full_Print,0,0,[2]CR!Last_Row)
Name Last_Row: #N/A
Name Last_Row: #N/A
Name Last_Row: IF([2]CR!Values_Entered,[0]!Header_Row+[2]CR!Number_of_Payments,[0]!Header_Row)
Name Last_Row: IF([2]CR!Values_Entered,[0]!Header_Row+[2]CR!Number_of_Payments,[0]!Header_Row)
Name Last_Row: #N/A
Name Last_Row: #N/A
Name Last_Row: #N/A
Name Last_Row: #N/A
Name Last_Row: #N/A
Name Last_Row: IF([2]CR!Values_Entered,[0]!Header_Row+[2]CR!Number_of_Payments,[0]!Header_Row)
Name Number_of_Payments: MATCH(0.01,[0]!End_Bal,-1)+1
Name Number_of_Payments: MATCH(0.01,[0]!End_Bal,-1)+1
Name Number_of_Payments: MATCH(0.01,[0]!End_Bal,-1)+1
Name Number_of_Payments: MATCH(0.01,[0]!End_Bal,-1)+1
Name Number_of_Payments: MATCH(0.01,[0]!End_Bal,-1)+1
Name Number_of_Payments: MATCH(0.01,[0]!End_Bal,-1)+1
Name Number_of_Payments: MATCH(0.01,[0]!End_Bal,-1)+1
Name Number_of_Payments: MATCH(0.01,[0]!End_Bal,-1)+1

Sheet 0000000000000

Sheet COVER
A1: fffffffffffffffffffffffffffffffffffffffffffffffffffffffffffffffffffffffffffffffffffffffffffffffffffffffffffffffffffffffffffffffffffffffffffffffffffffffffffffffffffffffffffffffffffffffffffffffffffffffffffffffffffffffffffffffffffffffffffffffffffffffffffffffffffffffffffffffffffffffffffffffffffffffffffffffffffffffffffffffffffffffffffffffffffffffffffffffffffffffffffffffffffffffffffffffffffffffffffffffffffffffffffffffffffffffffffffffffffff | B1: fffffffffffffffffffffffffffffffffffffffffffffffffffffffffffffffffffffffffffffffffffffffffffffffffffffffffffffffffffffffffffffffffffffffffffffffffffffffffffffffffffffffffffffffffffffffffffffffffffffffffffffffffffffffffffffffffffffffffffffffffffffffffffffffffffffffffffffffffffffffffffffffffffffffffffffffffffffffffffffffffffffffffffffffffffffffffffffffffffffffffffffffffffffffffffffffffffffff | K1: ffffffffffffffffffffffffffffffffffffffffffffffffffffffffffffffffffffffffffffffffffffffffffffffffffffffffffffffffffffffffffffffffffffffffffffffffffffffffffffffffffffffffffffffffffffffffffffffffffffffffffffffffffffffffffffffffffffffffffffffffffffffffffffffffffffffffffffffffffffffffffffffffffffffffffffffffffffffffffffffffffffffffffffffffffffffffffffffffffffffffffffffff
B18: PANCHAYATI RAJ ENGINEERING DEPARTMENT
B20: WORKING ESTIMATE
C23: NAME OF THE WORK | F23: : | G23: ='lead 19-20'!C2 -> Providing Additional Space for Agriculture Staff in Baduguleru GP of Kanigiri Mandal
C25: ESTIMATE COST & Grant | F25: : | G25: ='lead 19-20'!K4 -> 21.80 Lakhs
C27: WORK ID | F27: : | G27: ='lead 19-20'!C4 -> No: 087043102002090039
C29: NAME OF THE MANDAL | F29: : | G29: KANIGIRI
C31: NAME OF SUB.DIVISION. | F31: : | G31: KANIGIRI
C33: NAME OF THE DIVISION | F33: : | G33: KANDUKUR
C35: NAME OF CIRCLE | F35: : | G35: ONGOLE
C37: NAME OF DISTRICT | F37: : | G37: PRAKASAM
A39: ffffffffffffffffffffffffffffffffffffffffffffffffffffffffffffffffffffffffffffffffffffffffffffffffffffffffffffffffffffffffffffffffffffffffffffffffffffffffffffffffffffffffffffffffffffffffffffffffffffffffffffffffffffffffffffffffffffffffffffffffffffffffffffffffffffffffffffffffffffffffffffffffffffffffffffffffffffffffffffffffffffffffffffffffffffffffffffffffffffffffffffffff

Sheet SPE
A1: SPECIFICATION REPORT
A3: Specification Report to accompany the working estimate for the work "
A4: ='lead 19-20'!C2 -> Providing Additional Space for Agriculture Staff in Baduguleru GP of Kanigiri Mandal
F5: Estt. Rs. | H5: ='lead 19-20'!K4 -> 21.80 Lakhs
A7: The above road has been administratively sancationed for Rs. 21.80 Lakhs vide Progs.Rc No T3/MGNREGS/2020 Dt 30-06-2020 of the District Collector & District Programme Co-Ordinator, MGNREGS, Prakasam District. Ongole under MGNREGS 90% and Agriculture Department Grant 10% Grant during the year 2019-20. The work was entrusted to Grama Panchayat, Baduguleru
A8: During execution of work the working estimate is prepared As per the instructions of higher authorities items rates as per recording dates (adopting SSR 2019-20, SSR 2020-21, SSR 2021-22 and SSR 2022-23) and same may be submitted for your kind approval.
A9: The working estimate is prepared as per the agreement rates based on the SSR of 2019-2020, 2020-21, 2021-22 & 2022-23 and the work has been carried out as per APSS.
E12: ='lead 19-20'!$H$31 -> Deputy Executive Engineer | H12: ='lead 19-20'!$K$31 -> Assistant Engineer
E13: ='lead 19-20'!$H$32 -> PRI Sub Division | H13: ='lead 19-20'!$K$32 -> Mandal Praja parishad
E14: ='lead 19-20'!$H$33 -> Kanigiri | H14: ='lead 19-20'!$K$33 -> Kanigiri

Sheet Genetic
A1: ='lead 19-20'!B2&'lead 19-20'!C2 -> Name of the Work: Providing Additional Space for Agriculture Staff in Baduguleru GP of Kanigiri Mandal
C3: Est.Rs. | D3: ='lead 19-20'!K4 -> 21.80 Lakhs
A5: S.No | B5: Material | C5: Quantity | D5: Unit Price | E5: Total
A6: 1 | B6: Provision towards QC Charges at 0.5% | C6: =INPUT!H113 -> 10680 | D6: 1 | E6: =ROUND(C6*D6,2) -> 10680
A7: 2 | B7: Provision for Seigniorage charges | C7: =INPUT!H114 -> 22792 | D7: 1 | E7: =ROUND(C7*D7,2) -> 22792
A8: 3 | B8: Provision towards unforeseen items of work | C8: =2180000-E6-E7-E9 -> 2136311 | D8: 1 | E8: =ROUND(C8*D8,2) -> 2136311
A9: 4 | B9: D36915-CW-GA01.Amount for wage component | C9: =ROUND(E9/D9,2) -> 43.11 | D9: 237 | E9: =INPUT!H18 -> 10217
E10: =SUM(E6:E9) -> 2180000
A12: S.No | B12: Material | C12: Quantity | D12: Unit Price | E12: Total
A13: 1 | B13: D16923-CW-GA02.cement | C13: =INPUT!E29 -> 544.25 | D13: =INPUT!F26 -> 235 | E13: =ROUND(C13*D13,0) -> 127899
A14: 2 | B14: D16939-Cost of Sand | C14: =INPUT!E31 -> 36 | D14: =INPUT!F31 -> 375 | E14: =ROUND(C14*D14,0) -> 13500
A15: 3 | B15: D16940-Transportion of Sand | C15: =INPUT!E32 -> 22.5 | D15: =INPUT!F32 -> 809 | E15: =ROUND(C15*D15,0) -> 18203
A16: 4 | B16: -CW-GA03.sand for filling | C16: =INPUT!E42 -> 36.17 | D16: =INPUT!F42 -> 1915.93 | E16: =ROUND(C16*D16,0) -> 69299
A17: 5 | B17: D16937-CW-GA19.sand for Concrete | C17: =INPUT!E63 -> 29.45 | D17: =INPUT!F63 -> 2059.93 | E17: =ROUND(C17*D17,0) -> 60665
A18: 6 | B18: D16937-CW-GA19.sand for Concrete | C18: =INPUT!E64 -> 0 | D18: =INPUT!F64 -> 1721 | E18: =ROUND(C18*D18,0) -> 0
A19: 7 | B19: -GA04.sand for mortar | C19: =INPUT!E52 -> 21.72 | D19: =INPUT!F52 -> 2059.93 | E19: =ROUND(C19*D19,0) -> 44742
A20: 8 | B20: -GA04.sand for mortar | C20: =INPUT!E53 -> 0 | D20: =INPUT!F53 -> 304.7 | E20: =ROUND(C20*D20,0) -> 0
A21: 9 | B21: D16928-CW-GA7.20mm to 12mm HBG/HBT graded Metal:Consisting of 20mm metal 60% and12mm metal 40% | C21: =INPUT!E73 -> 39.09 | D21: =INPUT!F73 -> 1377.84 | E21: =ROUND(C21*D21,0) -> 53860
A22: 10 | B22: D16928-CW-GA7.20mm to 12mm HBG/HBT graded Metal:Consisting of 20mm metal 60% and12mm metal 40% | C22: =INPUT!E74 -> 0 | D22: =INPUT!F74 -> 2046.91 | E22: =ROUND(C22*D22,0) -> 0
A23: 11 | B23: D16930-CW-GA9.40 mm nominal HBG/HBT Graded Metal | C23: =INPUT!E83 -> 19.83 | D23: =INPUT!F83 -> 1375.8 | E23: =ROUND(C23*D23,0) -> 27282
A24: 12 | B24: CW-GA20.cost and supply of Steel | C24: =INPUT!E101 -> 2.28 | D24: =INPUT!F101 -> 48970 | E24: =ROUND(C24*D24,0) -> 111652
A25: 13 | B25: CW-GA20.cost and supply of Steel | C25: =INPUT!E102 -> 2.08 | D25: =INPUT!F102 -> 48380 | E25: =ROUND(C25*D25,0) -> 100630
A26: 14 | B26: CW-GA20.cost and supply of Steel | C26: =INPUT!E103 -> 0.3 | D26: =INPUT!F103 -> 62540 | E26: =ROUND(C26*D26,0) -> 18762
A27: 15 | B27: CW-GA20.cost and supply of Steel | C27: =INPUT!E104 -> 0.22 | D27: =INPUT!F104 -> 71980 | E27: =ROUND(C27*D27,0) -> 15836
A28: 16 | B28: CW-GA20.cost and supply of Steel | C28: =INPUT!E105 -> 0 | D28: =INPUT!F105 -> 75520 | E28: =ROUND(C28*D28,0) -> 0
A29: 17 | B29: D16931-CW-G10.Cost towards engaging skilled labour,semi skilled labour,other materials and equipment charges including all other materials | C29: 1 | D29: =G29-E13-E14-E15-E16-E17-E19-E21-E23-E24-E25-E30-E31-E32-E9-E33-E22-E26-E27-E28-E20-E18 -> 1473704 | E29: =ROUND(C29*D29,2) -> 1473704 | G29: 2180000
A30: 18 | B30: D16932-CW-G12.QC @0.5% | C30: 1 | D30: =INPUT!H113 -> 10680 | E30: =ROUND(C30*D30,2) -> 10680
A31: 19 | B31: D16933-CW-G13.Seignorage charges | C31: 1 | D31: =INPUT!H114 -> 22792 | E31: =ROUND(C31*D31,2) -> 22792
A32: 20 | B32: Provision For Work Wise File | C32: 1 | D32: =INPUT!H117 -> 0 | E32: =ROUND(C32*D32,2) -> 0
A33: 21 | B33: amount for unforcen items. | C33: 1 | D33: =INPUT!H118 -> 277 | E33: =ROUND(C33*D33,2) -> 277
E34: =SUM(E13:E33) -> 2169783
B38: =INPUT!C125 -> Deputy Executive Engineer | D38: =INPUT!G125 -> Assistant Engineer
B39: =INPUT!C126 -> PRI Sub Division | D39: =INPUT!G126 -> Mandal Praja parishad
B40: =INPUT!C127 -> Kanigiri | D40: =INPUT!G127 -> Kanigiri

Sheet NIC
A1: ACTIVITY MASTER
A2: ='lead 19-20'!B2&'lead 19-20'!C2 -> Name of the Work: Providing Additional Space for Agriculture Staff in Baduguleru GP of Kanigiri Mandal
F3: Est Rs. | G3: ='lead 19-20'!K4 -> 21.80 Lakhs
A4: S.No. | B4: Material Task No. | C4: Description of Item | D4: Quantity | E4: Per | F4: Rate | G4: Amount
A5: 1 | B5: 2 | C5: 3 | D5: 4 | E5: 5 | F5: 6 | G5: 7
C6: Construction of Ground floor | H6: -
C7: Wage Component | G7: 1e-08
A8: 1 | B8: ACT0001 | C8: Clearing light jungle | D8: =WORK!I13 -> 0 | E8: Sqm | F8: =WORK!K13 -> 5.22 | G8: =ROUND(D8*F8,0) -> 0 | H8: 19-20
A9: 1 | B9: ACT0001 | C9: Clearing light jungle | D9: =WORK!I19 -> 0 | E9: Sqm | F9: =WORK!K19 -> 5.86 | G9: =ROUND(D9*F9,0) -> 0 | H9: 20-21
A10: 1 | B10: ACT0001 | C10: Clearing light jungle | D10: =WORK!I25 -> 0 | E10: Sqm | F10: =WORK!K25 -> 6.06 | G10: =ROUND(D10*F10,0) -> 0 | H10: 21-22
A11: 1 | B11: ACT0001 | C11: Clearing light jungle | D11: =WORK!I31 -> 0 | E11: Sqm | F11: =WORK!K31 -> 6.06 | G11: =ROUND(D11*F11,0) -> 0 | H11: 22-23
A12: 1 | B12: ACT1338 | C12: Earthwork excavation for foundation | D12: =WORK!I48 -> 82.24 | E12: Cum | F12: =WORK!K48 -> 124.24 | G12: =ROUND(D12*F12,0) -> 10217 | H12: 19-20
A13: 2 | B13: ACT1338 | C13: Earthwork excavation for foundation | D13: =WORK!I54 -> 0 | E13: Cum | F13: =WORK!K54 -> 139.55 | G13: =ROUND(D13*F13,0) -> 0 | H13: 20-21
A14: 2 | B14: ACT1338 | C14: Earthwork excavation for foundation | D14: =WORK!I61 -> 0 | E14: Cum | F14: =WORK!K61 -> 144.26 | G14: =ROUND(D14*F14,0) -> 0 | H14: 21-22
A15: 2 | B15: ACT1338 | C15: Earthwork excavation for foundation | D15: =WORK!I68 -> 0 | E15: Cum | F15: =WORK!K68 -> 144.26 | G15: =ROUND(D15*F15,0) -> 0 | H15: 22-23
C16: Material Component | G16: 1e-08
A17: 2 | B17: ACT0026 | C17: PCC (1:4:8) for bed concrete | D17: =WORK!I96 -> 22.03 | E17: Cum | F17: =WORK!K96 -> 3877.28 | G17: =ROUND(D17*F17,0) -> 85416 | H17: 19-20
A18: 4 | B18: ACT0026 | C18: PCC (1:4:8) for bed concrete | D18: =WORK!I110 -> 0 | E18: Cum | F18: =WORK!K110 -> 4067.84 | G18: =ROUND(D18*F18,0) -> 0 | H18: 20-21
A19: 4 | B19: ACT0026 | C19: PCC (1:4:8) for bed concrete | D19: =WORK!I120 -> 0 | E19: Cum | F19: =WORK!K120 -> 4332.55 | G19: =ROUND(D19*F19,0) -> 0 | H19: 21-22
A20: 4 | B20: ACT0026 | C20: PCC (1:4:8) for bed concrete | D20: =WORK!I128 -> 0 | E20: Cum | F20: =WORK!K128 -> 4583.31 | G20: =ROUND(D20*F20,0) -> 0 | H20: 22-23
A21: 4 | B21: ACT0027 | C21: PCC (1:5:10) for bed concrete | D21: =WORK!I137 -> 0 | E21: Cum | F21: =WORK!K137 -> 3725 | G21: =ROUND(D21*F21,0) -> 0 | H21: 19-20
A22: 4 | B22: ACT0027 | C22: PCC (1:5:10) for bed concrete | D22: =WORK!I146 -> 0 | E22: Cum | F22: =WORK!K146 -> 3915.56 | G22: =ROUND(D22*F22,0) -> 0 | H22: 20-21
A23: 4 | B23: ACT0027 | C23: PCC (1:5:10) for bed concrete | D23: =WORK!I155 -> 0 | E23: Cum | F23: =WORK!K155 -> 4180.27 | G23: =ROUND(D23*F23,0) -> 0 | H23: 21-22
A24: 4 | B24: ACT0027 | C24: PCC (1:5:10) for bed concrete | D24: =WORK!I164 -> 0 | E24: Cum | F24: =WORK!K164 -> 4431.03 | G24: =ROUND(D24*F24,0) -> 0 | H24: 22-23
A25: 3 | B25: ACT0409 | C25: Filling basement with Selected earth | D25: =WORK!I170 -> 13.28 | E25: Cum | F25: =WORK!K170 -> 183 | G25: =ROUND(D25*F25,0) -> 2430 | H25: 19-20
A26: 3 | B26: ACT0409 | C26: Filling basement with Selected earth | D26: =WORK!I176 -> 0 | E26: Cum | F26: =WORK!K176 -> 205.87 | G26: =ROUND(D26*F26,0) -> 0 | H26: 20-21
A27: 3 | B27: ACT0409 | C27: Filling basement with Selected earth | D27: =WORK!I182 -> 0 | E27: Cum | F27: =WORK!K182 -> 199.97 | G27: =ROUND(D27*F27,0) -> 0 | H27: 21-22
A28: 3 | B28: ACT0409 | C28: Filling basement with Selected earth | D28: =WORK!I188 -> 0 | E28: Cum | F28: =WORK!K188 -> 216.13 | G28: =ROUND(D28*F28,0) -> 0 | H28: 22-23
A29: 5 | B29: ACT0256 | C29: Filling basement with Gravel | D29: =WORK!I194 -> 0 | E29: Cum | F29: =WORK!K194 -> 210 | G29: =ROUND(D29*F29,0) -> 0 | H29: 19-20
A30: 5 | B30: ACT0256 | C30: Filling basement with Gravel | D30: =WORK!I200 -> 0 | E30: Cum | F30: =WORK!K200 -> 247.07 | G30: =ROUND(D30*F30,0) -> 0 | H30: 20-21
A31: 5 | B31: ACT0256 | C31: Filling basement with Gravel | D31: =WORK!I206 -> 0 | E31: Cum | F31: =WORK!K206 -> 266.72 | G31: =ROUND(D31*F31,0) -> 0 | H31: 21-22
A32: 5 | B32: ACT0256 | C32: Filling basement with Gravel | D32: =WORK!I212 -> 0 | E32: Cum | F32: =WORK!K212 -> 272.13 | G32: =ROUND(D32*F32,0) -> 0 | H32: 22-23
A33: 4 | B33: ACT0020 | C33: Filling basement with Sand filling | D33: =WORK!I223 -> 99.32 | E33: Cum | F33: =WORK!K223 -> 1271.5 | G33: =ROUND(D33*F33,0) -> 126285 | H33: 19-20
A34: 7 | B34: ACT0020 | C34: Filling basement with Sand filling | D34: =WORK!I236 -> 0 | E34: Cum | F34: =WORK!K236 -> 1340.37 | G34: =ROUND(D34*F34,0) -> 0 | H34: 20-21
A35: 7 | B35: ACT0020 | C35: Filling basement with Sand filling | D35: =WORK!I242 -> 0 | E35: Cum | F35: =WORK!K242 -> 1528.72 | G35: =ROUND(D35*F35,0) -> 0 | H35: 21-22
A36: 7 | B36: ACT0020 | C36: Filling basement with Sand filling | D36: =WORK!I248 -> 0 | E36: Cum | F36: =WORK!K248 -> 1603.13 | G36: =ROUND(D36*F36,0) -> 0 | H36: 22-23
A37: 5 | B37: ACT0021 | C37: Refilling with excavated soil | D37: =WORK!I261 -> 50.43 | E37: Cum | F37: =WORK!K261 -> 228 | G37: =ROUND(D37*F37,0) -> 11498 | H37: 19-20
A38: 10 | B38: ACT0021 | C38: Refilling with excavated soil | D38: =WORK!I269 -> 0 | E38: Cum | F38: =WORK!K269 -> 249.16 | G38: =ROUND(D38*F38,0) -> 0 | H38: 20-21
A39: 10 | B39: ACT0021 | C39: Refilling with excavated soil | D39: =WORK!I276 -> 0 | E39: Cum | F39: =WORK!K276 -> 265.36 | G39: =ROUND(D39*F39,0) -> 0 | H39: 21-22
A40: 10 | B40: ACT0021 | C40: Refilling with excavated soil | D40: =WORK!I283 -> 0 | E40: Cum | F40: =WORK!K283 -> 284.4 | G40: =ROUND(D40*F40,0) -> 0 | H40: 22-23
...

Sheet INPUT
A1: INPUT SHEET
A2: ='lead 19-20'!B2&'lead 19-20'!C2 -> Name of the Work: Providing Additional Space for Agriculture Staff in Baduguleru GP of Kanigiri Mandal
E3: Est.Rs. | F3: ='lead 19-20'!K4 -> 21.80 Lakhs
A4: S No | B4: Task Code | C4: Task Name | D4: Unit | E4: Qty | F4: Rate per Unit in Rs | G4: Amount | H4: Total tasl Amount
A5: 1 | B5: 34816 | C5: CW-G01.Amount for wage component | G5: 1
C6: AS PER SSR 2019-20
C7: Jungle | D7: Sqm | E7: =WORK!I13 -> 0 | F7: =WORK!K13 -> 5.22 | G7: =ROUND(E7*F7,0) -> 0
C8: Earthwork | D8: Cum | E8: =WORK!I48 -> 82.24 | F8: =WORK!K48 -> 124.24 | G8: =ROUND(E8*F8,0) -> 10217
C9: AS PER SSR 2020-21
C10: Jungle | D10: Sqm | E10: =WORK!I19 -> 0 | F10: =WORK!K19 -> 5.86 | G10: =ROUND(E10*F10,0) -> 0
C11: Earthwork | D11: Cum | E11: =WORK!I54 -> 0 | F11: =WORK!K54 -> 139.55 | G11: =ROUND(E11*F11,0) -> 0
C12: AS PER SSR 2021-22
C13: Jungle | D13: Sqm | E13: =WORK!I25 -> 0 | F13: =WORK!K25 -> 6.06 | G13: =ROUND(E13*F13,0) -> 0
C14: Earthwork | D14: Cum | E14: =WORK!I61 -> 0 | F14: =WORK!K61 -> 144.26 | G14: =ROUND(E14*F14,0) -> 0
C15: AS PER SSR 2022-23
C16: Jungle | D16: Sqm | E16: =WORK!I31 -> 0 | F16: =WORK!K31 -> 6.06 | G16: =ROUND(E16*F16,0) -> 0
C17: Earthwork | D17: Cum | E17: =WORK!I68 -> 0 | F17: =WORK!K68 -> 144.26 | G17: =ROUND(E17*F17,0) -> 0
G18: =SUM(G6:G17) -> 10217 | H18: =SUM(G18) -> 10217
A19: 2 | B19: 34817 | C19: CW-G02.cement | G19: 1
C20: As per SSR 2019-20 | D20: Bags | E20: ='Differ- Material'!C8 -> 544.25 | F20: ='Differ- Material'!D8 -> 235 | G20: =ROUND(E20*F20,0) -> 127899
C21: As per SSR 2020-21 | D21: Bags | E21: ='Differ- Material'!C9 -> 0 | F21: ='Differ- Material'!D9 -> 235 | G21: =ROUND(E21*F21,0) -> 0
C22: As per SSR 2021-22 | D22: Bags | E22: ='Differ- Material'!C10 -> 0 | F22: ='Differ- Material'!D10 -> 235 | G22: =ROUND(E22*F22,0) -> 0
C23: As per SSR 2022-23 | D23: Bags | E23: ='Differ- Material'!C11 -> 0 | F23: ='Differ- Material'!D11 -> 235 | G23: =ROUND(E23*F23,0) -> 0
C24: Total | E24: =SUM(E20:E23) -> 544.25 | G24: =SUM(G20:G23) -> 127899
C26: As per bill | D26: Bags | E26: ='Differ- Material'!C14 -> 544.25 | F26: ='Differ- Material'!D14 -> 235 | G26: =ROUND(E26*F26,0) -> 127899
C27: As per bill | D27: Bags | E27: ='Differ- Material'!C15 -> 0 | F27: ='Differ- Material'!D15 -> 260 | G27: =ROUND(E27*F27,0) -> 0
E29: =SUM(E26:E28) -> 544.25 | G29: =SUM(G26:G28) -> 127899 | H29: =SUM(G29) -> 127899
A30: 3 | C30: Cost of sand | G30: 1
C31: Cost of sand | D31: MT | E31: ='Differ- Material'!C33 -> 36 | F31: ='Differ- Material'!D33 -> 375 | G31: =ROUND(E31*F31,0) -> 13500
C32: Conveyance of sand | D32: cum | E32: ='Differ- Material'!C34 -> 22.5 | F32: ='Differ- Material'!D34 -> 809 | G32: =ROUND(E32*F32,0) -> 18203
G34: =SUM(G31:G33) -> 31703 | H34: =SUM(G34) -> 31703
A35: 4 | B35: 34818 | C35: CW03.sand for filling | G35: 1
C36: As per SSR 2019-20 | D36: cum | E36: ='Differ- Material'!C21 -> 99.32 | F36: ='Differ- Material'!D21 -> 1249.8 | G36: =ROUND(E36*F36,0) -> 124130
C37: As per SSR 2020-21 | D37: cum | E37: ='Differ- Material'!C22 -> 0 | F37: ='Differ- Material'!D22 -> 1316.6 | G37: =ROUND(E37*F37,0) -> 0
C38: As per SSR 2021-22 | D38: cum | E38: ='Differ- Material'!C23 -> 0 | F38: ='Differ- Material'!D23 -> 1503.4 | G38: =ROUND(E38*F38,0) -> 0
C39: As per SSR 2022-23 | D39: cum | E39: ='Differ- Material'!C24 -> 0 | F39: ='Differ- Material'!D24 -> 1576 | G39: =ROUND(E39*F39,0) -> 0
E40: =SUM(E36:E39) -> 99.32 | G40: =SUM(G36:G39) -> 124130 | K40: =E40-J40 -> 99.32
C42: As per bill | D42: cum | E42: ='Differ- Material'!C27 -> 36.17 | F42: ='Differ- Material'!D27 -> 1915.93 | G42: =ROUND(E42*F42,0) -> 69299
C43: As per bill | D43: cum | E43: ='Differ- Material'!C28 -> 40.67 | F43: ='Differ- Material'!D28 -> 304.7 | G43: =ROUND(E43*F43,0) -> 12392
G44: =SUM(G42:G43) -> 81691 | H44: =SUM(G44) -> 81691
...

Sheet abstract
A1: GENERAL ABSTRACT
A2: Name of the work | C2: ='lead 19-20'!C2:L2 -> Providing Additional Space for Agriculture Staff in Baduguleru GP of Kanigiri Mandal
A3: Name of the Sub work
C4: Est Rs. | F4: ='lead 19-20'!K4 -> 21.80 Lakhs
A5: S.No | B5: Description of Item | C5: Quantity | E5: Rate | F5: Per | G5: Amount
A7: 1 | B7: 2 | C7: 7 | E7: 8 | F7: 9 | G7: 10
A8: 1 | B8: Construction of Ground floor
A9: 2 | B9: Construction of First floor | G9: =FF!M1544 -> 0
A10: 3 | B10: Construction of Second floor | G10: =SF!M963 -> 0
A11: 4 | B11: Other items like door, windows, Grills, Sanitation and Electrification
A12: 5 | B12: Additional amount sanctioned | G12: ='3.60 lakhs'!M1465 -> 0
G14: =SUM(G8:G13) -> 0
A15: 5 | B15: Provision for QC charges @ 0.50% | E15: =G14-INPUT!H18 -> -10217
A16: 6 | B16: Provision for Seignorage charges
A17: 8 | B17: Provision for Name board | G17: 0
A18: 7 | B18: Workwise File
A19: 8 | B19: Unforseen items such as if any | H19: =H20-G14-WORK!M4020-WORK!M4021-G17-WORK!M4023 -> 4326528
B20: Grand Total | G20: =SUM(G14:G18) -> 0 | H20: 4360000
C25: ='lead 19-20'!H31 -> Deputy Executive Engineer | F25: ='lead 19-20'!K31 -> Assistant Engineer
C26: ='lead 19-20'!H32 -> PRI Sub Division | F26: ='lead 19-20'!K32 -> Mandal Praja parishad
C27: ='lead 19-20'!H33 -> Kanigiri | F27: ='lead 19-20'!K33 -> Kanigiri

Sheet WORK
A1: WORKING ESTIMATE
A2: Name of the work | C2: ='lead 19-20'!C2 -> Providing Additional Space for Agriculture Staff in Baduguleru GP of Kanigiri Mandal
I3: Est.Rs. | L3: ='lead 19-20'!K4 -> 21.80 Lakhs
A4: S.No | B4: Description of Item | C4: No | F4: Measurements | I4: Quantity | K4: Rate | L4: Per | M4: Amount
F5: L | G5: B | H5: D
A6: 1 | B6: 2 | C6: 3 | F6: 4 | G6: 5 | H6: 6 | I6: 7 | K6: 8 | L6: 9 | M6: 10
B7: PART-A | N7: SSR 19-20
B8: GROUND FLOOR | N8: SSR 19-20
A9: 1 | B9: Clearing light jungle including up-rooting and removing of Juliflora stumps. | N9: SSR 19-20
B10: Qty.p.1 of M.B.No.789/A/ZP/19 | D10: 08.07.2020 | N10: SSR 19-20
C11: 1 | D11: x | E11: 1 | F11: 12 | G11: 6 | H11: 0 | I11: =ROUND(IF(AND(F11:H11),C11*E11*F11*G11*H11,IF(AND(F11,G11),C11*E11*F11*G11,IF(AND(F11,H11),C11*E11*F11*H11,IF(AND(G11,H11),C11*E11*G11*H11,IF(F11,C11*E11*F11,IF(G11,C11*E11*G11,IF(H11,C11*E11*H11,C11*E11))))))),2) -> 72 | J11: Sqm | N11: SSR 19-20
B12: Deduct Voids @ 40% | I12: =-ROUND(I11*40%,2) -> -28.8 | J12: Sqm | N12: SSR 19-20
J13: Sqm | K13: =data!G44 -> 5.22 | L13: SSR 19-20 | M13: =ROUND(I13*K13,0) -> 0 | N13: SSR 19-20
A14: 1 | B14: Clearing light jungle including up-rooting and removing of Juliflora stumps. | N14: SSR 20-21
B15: Qty.p.1 of M.B.No.789/A/ZP/19 | N15: SSR 20-21
C16: 1 | D16: x | E16: 1 | F16: 7.6 | G16: 5.24 | H16: 0 | I16: =ROUND(IF(AND(F16:H16),C16*E16*F16*G16*H16,IF(AND(F16,G16),C16*E16*F16*G16,IF(AND(F16,H16),C16*E16*F16*H16,IF(AND(G16,H16),C16*E16*G16*H16,IF(F16,C16*E16*F16,IF(G16,C16*E16*G16,IF(H16,C16*E16*H16,C16*E16))))))),2) -> 39.82 | J16: Sqm | N16: SSR 20-21
I17: =SUM(I16:I16) -> 39.82 | J17: Sqm | N17: SSR 20-21
B18: Deduct Voids @ 40% | I18: =-ROUND(I17*40%,2) -> -15.93 | J18: Sqm | N18: SSR 20-21
J19: Sqm | K19: =data!G960 -> 5.86 | L19: SSR 20-21 | M19: =ROUND(I19*K19,0) -> 0 | N19: SSR 20-21
A20: 1 | B20: Clearing light jungle including up-rooting and removing of Juliflora stumps. | N20: SSR 21-22
B21: Qty.p.1 of M.B.No.789/A/ZP/19 | N21: SSR 21-22
C22: 1 | D22: x | E22: 1 | F22: 7.6 | G22: 5.24 | H22: 0 | I22: =ROUND(IF(AND(F22:H22),C22*E22*F22*G22*H22,IF(AND(F22,G22),C22*E22*F22*G22,IF(AND(F22,H22),C22*E22*F22*H22,IF(AND(G22,H22),C22*E22*G22*H22,IF(F22,C22*E22*F22,IF(G22,C22*E22*G22,IF(H22,C22*E22*H22,C22*E22))))))),2) -> 39.82 | J22: Sqm | N22: SSR 21-22
I23: =SUM(I22:I22) -> 39.82 | J23: Sqm | N23: SSR 21-22
B24: Deduct Voids @ 40% | I24: =-ROUND(I23*40%,2) -> -15.93 | J24: Sqm | N24: SSR 21-22
J25: Sqm | K25: =data!G1877 -> 6.06 | L25: SSR 21-22 | M25: =ROUND(I25*K25,0) -> 0 | N25: SSR 21-22
A26: 1 | B26: Clearing light jungle including up-rooting and removing of Juliflora stumps. | N26: SSR 22-23
B27: Qty.p.1 of M.B.No.789/A/ZP/19 | N27: SSR 22-23
C28: 1 | D28: x | E28: 1 | F28: 7.6 | G28: 5.24 | H28: 0 | I28: =ROUND(IF(AND(F28:H28),C28*E28*F28*G28*H28,IF(AND(F28,G28),C28*E28*F28*G28,IF(AND(F28,H28),C28*E28*F28*H28,IF(AND(G28,H28),C28*E28*G28*H28,IF(F28,C28*E28*F28,IF(G28,C28*E28*G28,IF(H28,C28*E28*H28,C28*E28))))))),2) -> 39.82 | J28: Sqm | N28: SSR 22-23
I29: =SUM(I28:I28) -> 39.82 | J29: Sqm | N29: SSR 22-23
B30: Deduct Voids @ 40% | I30: =-ROUND(I29*40%,2) -> -15.93 | J30: Sqm | N30: SSR 22-23
J31: Sqm | K31: =data!G2794 -> 6.06 | L31: SSR 22-23 | M31: =ROUND(I31*K31,0) -> 0 | N31: SSR 22-23
A32: 1 | B32: Engaging Unskilled Labour for Earth work excavation & depositing on bank with an initial lead & initial lift in Loamy, Clayey soils like BC Soils, Red Earth & Chodu Soils for Column Foundations RSSR | N32: SSR 19-20
B33: Qty.p.1 of M.B.No.1223/B/ZP/18 | D33: 06.07.2020 | N33: SSR 19-20
B34: F1 footings | C34: 1 | D34: x | E34: 10 | F34: 1.75 | G34: 1.75 | H34: 1.5 | I34: =ROUND(IF(AND(F34:H34),C34*E34*F34*G34*H34,IF(AND(F34,G34),C34*E34*F34*G34,IF(AND(F34,H34),C34*E34*F34*H34,IF(AND(G34,H34),C34*E34*G34*H34,IF(F34,C34*E34*F34,IF(G34,C34*E34*G34,IF(H34,C34*E34*H34,C34*E34))))))),2) -> 45.94 | J34: Cum | N34: SSR 19-20
B35: F2 footings | C35: 1 | D35: x | E35: 4 | F35: 2.05 | G35: 2.05 | H35: 1.5 | I35: =ROUND(IF(AND(F35:H35),C35*E35*F35*G35*H35,IF(AND(F35,G35),C35*E35*F35*G35,IF(AND(F35,H35),C35*E35*F35*H35,IF(AND(G35,H35),C35*E35*G35*H35,IF(F35,C35*E35*F35,IF(G35,C35*E35*G35,IF(H35,C35*E35*H35,C35*E35))))))),2) -> 25.22 | J35: Cum | N35: SSR 19-20
B36: Qty.p.8 of M.B.No.1223/B/ZP/18 | D36: 29.07.2020 | N36: SSR 19-20
B37: Long walls | C37: 1 | D37: x | E37: 2 | F37: 10.86 | G37: 0.5 | H37: 0.45 | I37: =ROUND(IF(AND(F37:H37),C37*E37*F37*G37*H37,IF(AND(F37,G37),C37*E37*F37*G37,IF(AND(F37,H37),C37*E37*F37*H37,IF(AND(G37,H37),C37*E37*G37*H37,IF(F37,C37*E37*F37,IF(G37,C37*E37*G37,IF(H37,C37*E37*H37,C37*E37))))))),2) -> 4.89 | J37: Cum | N37: SSR 19-20
B38: Cross walls | C38: 1 | D38: x | E38: 2 | F38: 9.1 | G38: 0.5 | H38: 0.45 | I38: =ROUND(IF(AND(F38:H38),C38*E38*F38*G38*H38,IF(AND(F38,G38),C38*E38*F38*G38,IF(AND(F38,H38),C38*E38*F38*H38,IF(AND(G38,H38),C38*E38*G38*H38,IF(F38,C38*E38*F38,IF(G38,C38*E38*G38,IF(H38,C38*E38*H38,C38*E38))))))),2) -> 4.1 | J38: Cum | N38: SSR 19-20
B39: Deduct columns | C39: 1 | D39: x | E39: 12 | F39: 0.23 | G39: 0.38 | H39: 0.45 | I39: =-ROUND(IF(AND(F39:H39),C39*E39*F39*G39*H39,IF(AND(F39,G39),C39*E39*F39*G39,IF(AND(F39,H39),C39*E39*F39*H39,IF(AND(G39,H39),C39*E39*G39*H39,IF(F39,C39*E39*F39,IF(G39,C39*E39*G39,IF(H39,C39*E39*H39,C39*E39))))))),2) -> -0.47 | J39: Cum | N39: SSR 19-20
B40: Qty.p.25 of M.B.No.525/A/ZP/20 | D40: 10.05.2023 | N40: SSR 19-20
...

Sheet FF
A1: WORKING ESTIMATE
A2: Name of the work | C2: ='lead 19-20'!C2 -> Providing Additional Space for Agriculture Staff in Baduguleru GP of Kanigiri Mandal
A3: Name of the Sub work | C3: Construction of First Floor
A5: S.No | B5: Description of Item | C5: No | F5: Measurements | I5: Quantity | K5: Rate | L5: Per | M5: Amount
F6: L | G6: B | H6: D
A7: 1 | B7: 2 | C7: 3 | F7: 4 | G7: 5 | H7: 6 | I7: 7 | K7: 8 | L7: 9 | M7: 10
A8: 1 | B8: Reinforced Cement Concrete M25 Nominal mix (Cement: Sand: Metal) corresponding Table 9 of IS 456 using 20mm size graded machine crushed hard granite metal from approved quarry including c/c of all materials like Cement, Sand, coarse aggregate, water etc to site, all marerials including labour charges such as machine mixing, laying concrete, curing etc complete but excluding cost of steel and its fabrication charges for finished item of work for Columns etc., complete | N8: SSR 19-20
B9: Qty.p.20 of M.B.No.605/B/ZP/20 | D9: 21.06.2022 | N9: SSR 19-20
C10: 1 | D10: x | E10: 2 | F10: 0.23 | G10: 0.38 | H10: 1.2 | I10: =ROUND(IF(AND(F10:H10),C10*E10*F10*G10*H10,IF(AND(F10,G10),C10*E10*F10*G10,IF(AND(F10,H10),C10*E10*F10*H10,IF(AND(G10,H10),C10*E10*G10*H10,IF(F10,C10*E10*F10,IF(G10,C10*E10*G10,IF(H10,C10*E10*H10,C10*E10))))))),2) -> 0.21 | J10: Cum | N10: SSR 19-20
C11: 1 | D11: x | E11: 3 | F11: 0.23 | G11: 0.38 | H11: 2.87 | I11: =ROUND(IF(AND(F11:H11),C11*E11*F11*G11*H11,IF(AND(F11,G11),C11*E11*F11*G11,IF(AND(F11,H11),C11*E11*F11*H11,IF(AND(G11,H11),C11*E11*G11*H11,IF(F11,C11*E11*F11,IF(G11,C11*E11*G11,IF(H11,C11*E11*H11,C11*E11))))))),2) -> 0.75 | J11: Cum | N11: SSR 19-20
C12: 1 | D12: x | E12: 10 | F12: 0.23 | G12: 0.38 | H12: 2.8 | I12: =ROUND(IF(AND(F12:H12),C12*E12*F12*G12*H12,IF(AND(F12,G12),C12*E12*F12*G12,IF(AND(F12,H12),C12*E12*F12*H12,IF(AND(G12,H12),C12*E12*G12*H12,IF(F12,C12*E12*F12,IF(G12,C12*E12*G12,IF(H12,C12*E12*H12,C12*E12))))))),2) -> 2.45 | J12: Cum | N12: SSR 19-20
B13: Qty.p.23 of M.B.No.605/B/ZP/20 | D13: 01.07.22 | N13: SSR 19-20
C14: 1 | D14: x | E14: 2 | F14: 0.23 | G14: 0.38 | H14: 1.22 | I14: =ROUND(IF(AND(F14:H14),C14*E14*F14*G14*H14,IF(AND(F14,G14),C14*E14*F14*G14,IF(AND(F14,H14),C14*E14*F14*H14,IF(AND(G14,H14),C14*E14*G14*H14,IF(F14,C14*E14*F14,IF(G14,C14*E14*G14,IF(H14,C14*E14*H14,C14*E14))))))),2) -> 0.21 | J14: Cum | N14: SSR 19-20
N15: SSR 19-20
J16: Cum | K16: =data!F155 -> 9806.81 | L16: SSR 19-20 | M16: =ROUND(I16*K16,0) -> 0 | N16: SSR 19-20
A17: 1 | B17: Reinforced Cement Concrete M25 Nominal mix (Cement: Sand: Metal) corresponding Table 9 of IS 456 using 20mm size graded machine crushed hard granite metal from approved quarry including c/c of all materials like Cement, Sand, coarse aggregate, water etc to site, all marerials including labour charges such as machine mixing, laying concrete, curing etc complete but excluding cost of steel and its fabrication charges for finished item of work for Columns etc., complete | N17: SSR 20-21
B18: Qty.p.14 of M.B.No.441/A/ZP/19 | N18: SSR 20-21
B19: Dummy columns | C19: 1 | D19: x | E19: 11 | F19: 0.36 | G19: 0.48 | H19: 0.05 | I19: =ROUND(IF(AND(F19:H19),C19*E19*F19*G19*H19,IF(AND(F19,G19),C19*E19*F19*G19,IF(AND(F19,H19),C19*E19*F19*H19,IF(AND(G19,H19),C19*E19*G19*H19,IF(F19,C19*E19*F19,IF(G19,C19*E19*G19,IF(H19,C19*E19*H19,C19*E19))))))),2) -> 0.1 | J19: Cum | N19: SSR 20-21
N20: SSR 20-21
J21: Cum | K21: =data!F1071 -> 10177.17 | L21: SSR 20-21 | M21: =ROUND(I21*K21,0) -> 0 | N21: SSR 20-21
A22: 1 | B22: Reinforced Cement Concrete M25 Nominal mix (Cement: Sand: Metal) corresponding Table 9 of IS 456 using 20mm size graded machine crushed hard granite metal from approved quarry including c/c of all materials like Cement, Sand, coarse aggregate, water etc to site, all marerials including labour charges such as machine mixing, laying concrete, curing etc complete but excluding cost of steel and its fabrication charges for finished item of work for Columns etc., complete | N22: SSR 21-22
B23: Qty.p.20 of M.B.No.605/B/ZP/20 | N23: SSR 21-22
C24: 1 | D24: x | E24: 2 | F24: 0.23 | G24: 0.38 | H24: 1.2 | I24: =ROUND(IF(AND(F24:H24),C24*E24*F24*G24*H24,IF(AND(F24,G24),C24*E24*F24*G24,IF(AND(F24,H24),C24*E24*F24*H24,IF(AND(G24,H24),C24*E24*G24*H24,IF(F24,C24*E24*F24,IF(G24,C24*E24*G24,IF(H24,C24*E24*H24,C24*E24))))))),2) -> 0.21 | J24: Cum | N24: SSR 21-22
C25: 1 | D25: x | E25: 3 | F25: 0.23 | G25: 0.38 | H25: 2.87 | I25: =ROUND(IF(AND(F25:H25),C25*E25*F25*G25*H25,IF(AND(F25,G25),C25*E25*F25*G25,IF(AND(F25,H25),C25*E25*F25*H25,IF(AND(G25,H25),C25*E25*G25*H25,IF(F25,C25*E25*F25,IF(G25,C25*E25*G25,IF(H25,C25*E25*H25,C25*E25))))))),2) -> 0.75 | J25: Cum | N25: SSR 21-22
C26: 1 | D26: x | E26: 10 | F26: 0.23 | G26: 0.38 | H26: 2.8 | I26: =ROUND(IF(AND(F26:H26),C26*E26*F26*G26*H26,IF(AND(F26,G26),C26*E26*F26*G26,IF(AND(F26,H26),C26*E26*F26*H26,IF(AND(G26,H26),C26*E26*G26*H26,IF(F26,C26*E26*F26,IF(G26,C26*E26*G26,IF(H26,C26*E26*H26,C26*E26))))))),2) -> 2.45 | J26: Cum | N26: SSR 21-22
B27: Qty.p.23 of M.B.No.605/B/ZP/20 | N27: SSR 21-22
C28: 1 | D28: x | E28: 2 | F28: 0.23 | G28: 0.38 | H28: 1.22 | I28: =ROUND(IF(AND(F28:H28),C28*E28*F28*G28*H28,IF(AND(F28,G28),C28*E28*F28*G28,IF(AND(F28,H28),C28*E28*F28*H28,IF(AND(G28,H28),C28*E28*G28*H28,IF(F28,C28*E28*F28,IF(G28,C28*E28*G28,IF(H28,C28*E28*H28,C28*E28))))))),2) -> 0.21 | J28: Cum | N28: SSR 21-22
N29: SSR 21-22
J30: Cum | K30: =data!F1988 -> 10761.36 | L30: SSR 21-22 | M30: =ROUND(I30*K30,0) -> 0 | N30: SSR 21-22
A31: 1 | B31: Reinforced Cement Concrete M25 Nominal mix (Cement: Sand: Metal) corresponding Table 9 of IS 456 using 20mm size graded machine crushed hard granite metal from approved quarry including c/c of all materials like Cement, Sand, coarse aggregate, water etc to site, all marerials including labour charges such as machine mixing, laying concrete, curing etc complete but excluding cost of steel and its fabrication charges for finished item of work for Columns etc., complete | N31: SSR 22-23
B32: Qty.p.14 of M.B.No.441/A/ZP/19 | N32: SSR 22-23
B33: Dummy columns | C33: 1 | D33: x | E33: 11 | F33: 0.36 | G33: 0.48 | H33: 0.05 | I33: =ROUND(IF(AND(F33:H33),C33*E33*F33*G33*H33,IF(AND(F33,G33),C33*E33*F33*G33,IF(AND(F33,H33),C33*E33*F33*H33,IF(AND(G33,H33),C33*E33*G33*H33,IF(F33,C33*E33*F33,IF(G33,C33*E33*G33,IF(H33,C33*E33*H33,C33*E33))))))),2) -> 0.1 | J33: Cum | N33: SSR 22-23
N34: SSR 22-23
J35: Cum | K35: =data!F2905 -> 11192.01 | L35: SSR 22-23 | M35: =ROUND(I35*K35,0) -> 0 | N35: SSR 22-23
A36: 2 | B36: ~do~ for Beams etc., complete | N36: SSR 19-20
B37: Qty.p.23 of M.B.No.605/B/ZP/20 | D37: 01.07.22 | N37: SSR 19-20
C38: 1 | D38: x | E38: 1 | F38: 2.72 | G38: 0.23 | H38: 0.3 | I38: =ROUND(IF(AND(F38:H38),C38*E38*F38*G38*H38,IF(AND(F38,G38),C38*E38*F38*G38,IF(AND(F38,H38),C38*E38*F38*H38,IF(AND(G38,H38),C38*E38*G38*H38,IF(F38,C38*E38*F38,IF(G38,C38*E38*G38,IF(H38,C38*E38*H38,C38*E38))))))),2) -> 0.19 | J38: Cum | N38: SSR 19-20
B39: Extra beam | C39: 1 | D39: x | E39: 2 | F39: 1 | G39: 0.23 | H39: 0.3 | I39: =ROUND(IF(AND(F39:H39),C39*E39*F39*G39*H39,IF(AND(F39,G39),C39*E39*F39*G39,IF(AND(F39,H39),C39*E39*F39*H39,IF(AND(G39,H39),C39*E39*G39*H39,IF(F39,C39*E39*F39,IF(G39,C39*E39*G39,IF(H39,C39*E39*H39,C39*E39))))))),2) -> 0.14 | J39: Cum | N39: SSR 19-20
B40: Qty.p.33 of M.B.No.605/B/ZP/20 | D40: 06.07.22 | N40: SSR 19-20
B41: FB 201 | C41: 1 | D41: x | E41: 1 | F41: 3.27 | G41: 0.23 | H41: 0.3 | I41: =ROUND(IF(AND(F41:H41),C41*E41*F41*G41*H41,IF(AND(F41,G41),C41*E41*F41*G41,IF(AND(F41,H41),C41*E41*F41*H41,IF(AND(G41,H41),C41*E41*G41*H41,IF(F41,C41*E41*F41,IF(G41,C41*E41*G41,IF(H41,C41*E41*H41,C41*E41))))))),2) -> 0.23 | J41: Cum | N41: SSR 19-20
...

Sheet SF
A1: WORKING ESTIMATE
A2: Name of the work | C2: ='lead 19-20'!C2 -> Providing Additional Space for Agriculture Staff in Baduguleru GP of Kanigiri Mandal
A3: Name of the Sub work | C3: Construction of Second Floor
A5: S.No | B5: Description of Item | C5: No | F5: Measurements | I5: Quantity | K5: Rate | L5: Per | M5: Amount
F6: L | G6: B | H6: D
A7: 1 | B7: 2 | C7: 3 | F7: 4 | G7: 5 | H7: 6 | I7: 7 | K7: 8 | L7: 9 | M7: 10
A8: 1 | B8: Reinforced Cement Concrete M25 Nominal mix (Cement: Sand: Metal) corresponding Table 9 of IS 456 using 20mm size graded machine crushed hard granite metal from approved quarry including c/c of all materials like Cement, Sand, coarse aggregate, water etc to site, all marerials including labour charges such as machine mixing, laying concrete, curing etc complete but excluding cost of steel and its fabrication charges for finished item of work for Columns etc., complete | N8: SSR 19-20
B9: Qty.p.37 of M.B.No.605/B/ZP/20 | D9: 22.07.2022 | N9: SSR 19-20
B10: C1 | C10: 1 | D10: x | E10: 1 | F10: 0.23 | G10: 0.38 | H10: 2.45 | I10: =ROUND(IF(AND(F10:H10),C10*E10*F10*G10*H10,IF(AND(F10,G10),C10*E10*F10*G10,IF(AND(F10,H10),C10*E10*F10*H10,IF(AND(G10,H10),C10*E10*G10*H10,IF(F10,C10*E10*F10,IF(G10,C10*E10*G10,IF(H10,C10*E10*H10,C10*E10))))))),2) -> 0.21 | J10: Cum | N10: SSR 19-20
B11: C2 | C11: 1 | D11: x | E11: 2 | F11: 0.23 | G11: 0.38 | H11: 2.45 | I11: =ROUND(IF(AND(F11:H11),C11*E11*F11*G11*H11,IF(AND(F11,G11),C11*E11*F11*G11,IF(AND(F11,H11),C11*E11*F11*H11,IF(AND(G11,H11),C11*E11*G11*H11,IF(F11,C11*E11*F11,IF(G11,C11*E11*G11,IF(H11,C11*E11*H11,C11*E11))))))),2) -> 0.43 | J11: Cum | N11: SSR 19-20
B12: C3 | C12: 1 | D12: x | E12: 1 | F12: 0.23 | G12: 0.38 | H12: 2.45 | I12: =ROUND(IF(AND(F12:H12),C12*E12*F12*G12*H12,IF(AND(F12,G12),C12*E12*F12*G12,IF(AND(F12,H12),C12*E12*F12*H12,IF(AND(G12,H12),C12*E12*G12*H12,IF(F12,C12*E12*F12,IF(G12,C12*E12*G12,IF(H12,C12*E12*H12,C12*E12))))))),2) -> 0.21 | J12: Cum | N12: SSR 19-20
N13: SSR 19-20
J14: Cum | K14: =data!G155 -> 10542.14 | L14: SSR 19-20 | M14: =ROUND(I14*K14,0) -> 0 | N14: SSR 19-20
A15: 1 | B15: Reinforced Cement Concrete M25 Nominal mix (Cement: Sand: Metal) corresponding Table 9 of IS 456 using 20mm size graded machine crushed hard granite metal from approved quarry including c/c of all materials like Cement, Sand, coarse aggregate, water etc to site, all marerials including labour charges such as machine mixing, laying concrete, curing etc complete but excluding cost of steel and its fabrication charges for finished item of work for Columns etc., complete | N15: SSR 20-21
B16: Qty.p.60 of M.B.No.441/A/ZP/19 | N16: SSR 20-21
C17: 1 | D17: x | E17: 4 | F17: 0.23 | G17: 0.38 | H17: 2.1 | I17: =ROUND(IF(AND(F17:H17),C17*E17*F17*G17*H17,IF(AND(F17,G17),C17*E17*F17*G17,IF(AND(F17,H17),C17*E17*F17*H17,IF(AND(G17,H17),C17*E17*G17*H17,IF(F17,C17*E17*F17,IF(G17,C17*E17*G17,IF(H17,C17*E17*H17,C17*E17))))))),2) -> 0.73 | J17: Cum | N17: SSR 20-21
B18: Qty.p.90 of M.B.No.441/A/ZP/19 | N18: SSR 20-21
B19: Dummy pillars | C19: 1 | D19: x | E19: 11 | F19: 0.23 | G19: 0.38 | H19: 0.9 | I19: =ROUND(IF(AND(F19:H19),C19*E19*F19*G19*H19,IF(AND(F19,G19),C19*E19*F19*G19,IF(AND(F19,H19),C19*E19*F19*H19,IF(AND(G19,H19),C19*E19*G19*H19,IF(F19,C19*E19*F19,IF(G19,C19*E19*G19,IF(H19,C19*E19*H19,C19*E19))))))),2) -> 0.87 | J19: Cum | N19: SSR 20-21
N20: SSR 20-21
J21: Cum | K21: =data!G1071 -> 10932.8 | L21: SSR 20-21 | M21: =ROUND(I21*K21,0) -> 0 | N21: SSR 20-21
A22: 2 | B22: Reinforced Cement Concrete M25 Nominal mix (Cement: Sand: Metal) corresponding Table 9 of IS 456 using 20mm size graded machine crushed hard granite metal from approved quarry including c/c of all materials like Cement, Sand, coarse aggregate, water etc to site, all marerials including labour charges such as machine mixing, laying concrete, curing etc complete but excluding cost of steel and its fabrication charges for finished item of work for Columns etc., complete | N22: SSR 21-22
B23: Qty.p.37 of M.B.No.605/B/ZP/20 | N23: SSR 21-22
C24: 1 | D24: x | E24: 1 | F24: 0.23 | G24: 0.38 | H24: 2.45 | I24: =ROUND(IF(AND(F24:H24),C24*E24*F24*G24*H24,IF(AND(F24,G24),C24*E24*F24*G24,IF(AND(F24,H24),C24*E24*F24*H24,IF(AND(G24,H24),C24*E24*G24*H24,IF(F24,C24*E24*F24,IF(G24,C24*E24*G24,IF(H24,C24*E24*H24,C24*E24))))))),2) -> 0.21 | J24: Cum | N24: SSR 21-22
C25: 1 | D25: x | E25: 2 | F25: 0.23 | G25: 0.38 | H25: 2.45 | I25: =ROUND(IF(AND(F25:H25),C25*E25*F25*G25*H25,IF(AND(F25,G25),C25*E25*F25*G25,IF(AND(F25,H25),C25*E25*F25*H25,IF(AND(G25,H25),C25*E25*G25*H25,IF(F25,C25*E25*F25,IF(G25,C25*E25*G25,IF(H25,C25*E25*H25,C25*E25))))))),2) -> 0.43 | J25: Cum | N25: SSR 21-22
C26: 1 | D26: x | E26: 1 | F26: 0.23 | G26: 0.38 | H26: 2.45 | I26: =ROUND(IF(AND(F26:H26),C26*E26*F26*G26*H26,IF(AND(F26,G26),C26*E26*F26*G26,IF(AND(F26,H26),C26*E26*F26*H26,IF(AND(G26,H26),C26*E26*G26*H26,IF(F26,C26*E26*F26,IF(G26,C26*E26*G26,IF(H26,C26*E26*H26,C26*E26))))))),2) -> 0.21 | J26: Cum | N26: SSR 21-22
N27: SSR 21-22
J28: Cum | K28: =data!G1988 -> 11565.1 | L28: SSR 21-22 | M28: =ROUND(I28*K28,0) -> 0 | N28: SSR 21-22
A29: 2 | B29: Reinforced Cement Concrete M25 Nominal mix (Cement: Sand: Metal) corresponding Table 9 of IS 456 using 20mm size graded machine crushed hard granite metal from approved quarry including c/c of all materials like Cement, Sand, coarse aggregate, water etc to site, all marerials including labour charges such as machine mixing, laying concrete, curing etc complete but excluding cost of steel and its fabrication charges for finished item of work for Columns etc., complete | N29: SSR 22-23
B30: Qty.p.79 of M.B.No.441/A/ZP/19 | N30: SSR 22-23
C31: 1 | D31: x | E31: 4 | F31: 0.23 | G31: 0.38 | H31: 2.4 | I31: =ROUND(IF(AND(F31:H31),C31*E31*F31*G31*H31,IF(AND(F31,G31),C31*E31*F31*G31,IF(AND(F31,H31),C31*E31*F31*H31,IF(AND(G31,H31),C31*E31*G31*H31,IF(F31,C31*E31*F31,IF(G31,C31*E31*G31,IF(H31,C31*E31*H31,C31*E31))))))),2) -> 0.84 | J31: Cum | N31: SSR 22-23
N32: SSR 22-23
J33: Cum | K33: =data!G2905 -> 12013.61 | L33: SSR 22-23 | M33: =ROUND(I33*K33,0) -> 0 | N33: SSR 22-23
A34: 2 | B34: ~do~ for Beams etc., complete | N34: SSR 19-20
B35: Qty.p.40 of M.B.No.605/B/ZP/20 | D35: 29.07.2022 | N35: SSR 19-20
C36: 1 | D36: x | E36: 2 | F36: 3.18 | G36: 0.23 | H36: 0.3 | I36: =ROUND(IF(AND(F36:H36),C36*E36*F36*G36*H36,IF(AND(F36,G36),C36*E36*F36*G36,IF(AND(F36,H36),C36*E36*F36*H36,IF(AND(G36,H36),C36*E36*G36*H36,IF(F36,C36*E36*F36,IF(G36,C36*E36*G36,IF(H36,C36*E36*H36,C36*E36))))))),2) -> 0.44 | J36: Cum | N36: SSR 19-20
C37: 1 | D37: x | E37: 2 | F37: 3.16 | G37: 0.23 | H37: 0.3 | I37: =ROUND(IF(AND(F37:H37),C37*E37*F37*G37*H37,IF(AND(F37,G37),C37*E37*F37*G37,IF(AND(F37,H37),C37*E37*F37*H37,IF(AND(G37,H37),C37*E37*G37*H37,IF(F37,C37*E37*F37,IF(G37,C37*E37*G37,IF(H37,C37*E37*H37,C37*E37))))))),2) -> 0.44 | J37: Cum | N37: SSR 19-20
N38: SSR 19-20
J39: Cum | K39: =data!G182 -> 10021.1 | L39: SSR 19-20 | M39: =ROUND(I39*K39,0) -> 0 | N39: SSR 19-20
A40: 2 | B40: ~do~ for Beams etc., complete | N40: SSR 20-21
B41: Qty.p.64 of M.B.No.441/A/ZP/19 | N41: SSR 20-21
...

Sheet Water & Electrical
A1: WORKING ESTIMATE
A2: Name of the work | C2: ='lead 19-20'!C2 -> Providing Additional Space for Agriculture Staff in Baduguleru GP of Kanigiri Mandal
A3: Name of the Sub work | C3: Other items like door, windows, Grills, Sanitation and Electrification
A5: S.No | B5: Description of Item | C5: No | F5: Measurements | I5: Quantity | K5: Rate | L5: Per | M5: Amount
F6: L | G6: B | H6: D
A7: 1 | B7: 2 | C7: 3 | F7: 4 | G7: 5 | H7: 6 | I7: 7 | K7: 8 | L7: 9 | M7: 10
B2041: TOTAL | M2041: =SUM(WORK!M2005:M4014) -> 225079 | N2041: 0
H2046: ='lead 19-20'!$H$31 -> Deputy Executive Engineer | L2046: ='lead 19-20'!$K$31 -> Assistant Engineer
H2047: ='lead 19-20'!$H$32 -> PRI Sub Division | L2047: ='lead 19-20'!$K$32 -> Mandal Praja parishad
H2048: ='lead 19-20'!$H$33 -> Kanigiri | L2048: ='lead 19-20'!$K$33 -> Kanigiri

Sheet 3.60 lakhs
A1: WORKING ESTIMATE
A2: Name of the work | C2: ='lead 19-20'!C2 -> Providing Additional Space for Agriculture Staff in Baduguleru GP of Kanigiri Mandal
B3: Name of the Sub work | C3: Additional amount sanctioned
A4: S.No | B4: Description of Item | C4: No | F4: Measurements | I4: Quantity | K4: Rate | L4: Per | M4: Amount
F5: L | G5: B | H5: D
A6: 1 | B6: 2 | C6: 3 | F6: 4 | G6: 5 | H6: 6 | I6: 7 | K6: 8 | L6: 9 | M6: 10
B7: PART-B | N7: SSR 22-23
B8: GROUND FLOOR | N8: SSR 22-23
A9: 1 | B9: Clearing light jungle including up-rooting and removing of Juliflora stumps. | N9: SSR 22-23
B10: Qty.p.1 of M.B.No.441/A/ZP/19 | N10: SSR 22-23
C11: 1 | D11: x | E11: 1 | F11: 7.6 | G11: 5.24 | H11: 0 | I11: =ROUND(IF(AND(F11:H11),C11*E11*F11*G11*H11,IF(AND(F11,G11),C11*E11*F11*G11,IF(AND(F11,H11),C11*E11*F11*H11,IF(AND(G11,H11),C11*E11*G11*H11,IF(F11,C11*E11*F11,IF(G11,C11*E11*G11,IF(H11,C11*E11*H11,C11*E11))))))),2) -> 39.82 | J11: Sqm | N11: SSR 22-23
I12: =SUM(I11:I11) -> 39.82 | J12: Sqm | N12: SSR 22-23
B13: Deduct Voids @ 40% | I13: =-ROUND(I12*40%,2) -> -15.93 | J13: Sqm | N13: SSR 22-23
J14: Sqm | K14: ='data 2022-23'!G41 -> 6.06 | L14: 1Sqm | M14: =ROUND(I14*K14,0) -> 0 | N14: SSR 22-23
A15: 1 | B15: Engaging Unskilled Labour for Earth work excavation & depositing on bank with an initial lead & initial lift in Loamy, Clayey soils like BC Soils, Red Earth & Chodu Soils for Column Foundations RSSR | N15: SSR 22-23
B16: Qty.p.1 of M.B.No.559/A/ZP/20 | N16: SSR 22-23
B17: Septic tank | C17: 2 | D17: x | E17: 0.785 | F17: 1.2 | G17: 1.2 | H17: 2.4 | I17: =ROUND(IF(AND(F17:H17),C17*E17*F17*G17*H17,IF(AND(F17,G17),C17*E17*F17*G17,IF(AND(F17,H17),C17*E17*F17*H17,IF(AND(G17,H17),C17*E17*G17*H17,IF(F17,C17*E17*F17,IF(G17,C17*E17*G17,IF(H17,C17*E17*H17,C17*E17))))))),2) -> 5.43 | J17: Cum | N17: SSR 22-23
B18: Steps | C18: 1 | D18: x | E18: 1 | F18: 1.85 | G18: 0.6 | H18: 0.1 | I18: =ROUND(IF(AND(F18:H18),C18*E18*F18*G18*H18,IF(AND(F18,G18),C18*E18*F18*G18,IF(AND(F18,H18),C18*E18*F18*H18,IF(AND(G18,H18),C18*E18*G18*H18,IF(F18,C18*E18*F18,IF(G18,C18*E18*G18,IF(H18,C18*E18*H18,C18*E18))))))),2) -> 0.11 | J18: Cum | N18: SSR 22-23
N19: SSR 22-23
J20: Cum | K20: ='data 2022-23'!G46 -> 144.26 | L20: 1Cum | M20: =ROUND(I20*K20,0) -> 0 | N20: SSR 22-23
A21: 2 | B21: Plain Cement Concrete (1:4:8) proportion Nominal mix for foundations using 40mm size SS-5 metal including c/c of all materials & labour charges, machine mixing & laying concrete in foundations ramming etc complete for Bed Concrete (APSS No 402) | N21: SSR 22-23
B22: Qty.p.1 of M.B.No.559/A/ZP/20 | N22: SSR 22-23
B23: steps | C23: 1 | D23: x | E23: 1 | F23: 1.85 | G23: 0.6 | H23: 0.1 | I23: =ROUND(IF(AND(F23:H23),C23*E23*F23*G23*H23,IF(AND(F23,G23),C23*E23*F23*G23,IF(AND(F23,H23),C23*E23*F23*H23,IF(AND(G23,H23),C23*E23*G23*H23,IF(F23,C23*E23*F23,IF(G23,C23*E23*G23,IF(H23,C23*E23*H23,C23*E23))))))),2) -> 0.11 | J23: Cum | N23: SSR 22-23
N24: SSR 22-23
J25: Cum | K25: ='data 2022-23'!G89 -> 4583.31 | L25: 1Cum | M25: =ROUND(I25*K25,0) -> 0 | N25: SSR 22-23
A26: 3 | B26: Plain Cement Concrete (1:5:10) proportion Nominal mix for foundations using 40mm size SS-5 metal including cost and conveyance of all materials and curing charges, labour charges, machine mixing and laying concrete in foundations ramming etc complete for Bed Concrete (APSS No 402) | N26: SSR 22-23
B27: Qty.p.65 of M.B.No.441/A/ZP/19 | N27: SSR 22-23
C28: 1 | D28: x | E28: 1 | F28: 4.72 | G28: 0.45 | H28: 0.1 | I28: =ROUND(IF(AND(F28:H28),C28*E28*F28*G28*H28,IF(AND(F28,G28),C28*E28*F28*G28,IF(AND(F28,H28),C28*E28*F28*H28,IF(AND(G28,H28),C28*E28*G28*H28,IF(F28,C28*E28*F28,IF(G28,C28*E28*G28,IF(H28,C28*E28*H28,C28*E28))))))),2) -> 0.21 | J28: Cum | N28: SSR 22-23
B29: Front beam | C29: 1 | D29: x | E29: 1 | F29: 5.4 | G29: 0.45 | H29: 0.1 | I29: =ROUND(IF(AND(F29:H29),C29*E29*F29*G29*H29,IF(AND(F29,G29),C29*E29*F29*G29,IF(AND(F29,H29),C29*E29*F29*H29,IF(AND(G29,H29),C29*E29*G29*H29,IF(F29,C29*E29*F29,IF(G29,C29*E29*G29,IF(H29,C29*E29*H29,C29*E29))))))),2) -> 0.24 | J29: Cum | N29: SSR 22-23
B30: Verandah alround | C30: 1 | D30: x | E30: 1 | F30: 10.05 | G30: 0.45 | H30: 0.1 | I30: =ROUND(IF(AND(F30:H30),C30*E30*F30*G30*H30,IF(AND(F30,G30),C30*E30*F30*G30,IF(AND(F30,H30),C30*E30*F30*H30,IF(AND(G30,H30),C30*E30*G30*H30,IF(F30,C30*E30*F30,IF(G30,C30*E30*G30,IF(H30,C30*E30*H30,C30*E30))))))),2) -> 0.45 | J30: Cum | N30: SSR 22-23
B31: Store platform | C31: 1 | D31: x | E31: 1 | F31: 5.46 | G31: 0.3 | H31: 0.1 | I31: =ROUND(IF(AND(F31:H31),C31*E31*F31*G31*H31,IF(AND(F31,G31),C31*E31*F31*G31,IF(AND(F31,H31),C31*E31*F31*H31,IF(AND(G31,H31),C31*E31*G31*H31,IF(F31,C31*E31*F31,IF(G31,C31*E31*G31,IF(H31,C31*E31*H31,C31*E31))))))),2) -> 0.16 | J31: Cum | N31: SSR 22-23
B32: For septic tank | C32: 1 | D32: x | E32: 1 | F32: 4.7 | G32: 2.3 | H32: 0.15 | I32: =ROUND(IF(AND(F32:H32),C32*E32*F32*G32*H32,IF(AND(F32,G32),C32*E32*F32*G32,IF(AND(F32,H32),C32*E32*F32*H32,IF(AND(G32,H32),C32*E32*G32*H32,IF(F32,C32*E32*F32,IF(G32,C32*E32*G32,IF(H32,C32*E32*H32,C32*E32))))))),2) -> 1.62 | J32: Cum | N32: SSR 22-23
N33: SSR 22-23
J34: Cum | K34: ='data 2022-23'!G101 -> 4431.03 | L34: 1Cum | M34: =ROUND(I34*K34,0) -> 0 | N34: SSR 22-23
A35: 3 | B35: Filling Basement with Selected earth by watering and ramming including all operational, incidental and including c/c of material and labour charges etc complete for finished item of the work (APSS No 309& 310) per 1 Cum | N35: SSR 22-23
B36: Qty.p.34 of M.B.No.441/A/ZP/19 | N36: SSR 22-23
B37: C1/F1 | C37: 1 | D37: x | E37: 1 | F37: 1.65 | G37: 1.65 | H37: 2.25 | I37: =ROUND(IF(AND(F37:H37),C37*E37*F37*G37*H37,IF(AND(F37,G37),C37*E37*F37*G37,IF(AND(F37,H37),C37*E37*F37*H37,IF(AND(G37,H37),C37*E37*G37*H37,IF(F37,C37*E37*F37,IF(G37,C37*E37*G37,IF(H37,C37*E37*H37,C37*E37))))))),2) -> 6.13 | J37: Cum | N37: SSR 22-23
B38: Block-8 | C38: 1 | D38: x | E38: 1 | F38: 2.17 | G38: 5 | H38: 0.18 | I38: =ROUND(IF(AND(F38:H38),C38*E38*F38*G38*H38,IF(AND(F38,G38),C38*E38*F38*G38,IF(AND(F38,H38),C38*E38*F38*H38,IF(AND(G38,H38),C38*E38*G38*H38,IF(F38,C38*E38*F38,IF(G38,C38*E38*G38,IF(H38,C38*E38*H38,C38*E38))))))),2) -> 1.95 | J38: Cum | N38: SSR 22-23
N39: SSR 22-23
J40: Cum | K40: ='data 2022-23'!G63 -> 216.13 | L40: 1Cum | M40: =ROUND(I40*K40,0) -> 0 | N40: SSR 22-23
...

Sheet SEIG P-B
A1: SEIGNEORAGE CHARGES AND MATERIAL ABSTRACT (PART-B)
A2: ='SEIG P-A '!A2 -> Name of the Work: Providing Additional Space for Agriculture Staff in Baduguleru GP of Kanigiri Mandal
A3: S No | B3: Description of the work | C3: Ground Floor | D3: First Floor | E3: second floor | F3: Total Quantity | H3: 40mm Metal | I3: 20mm HBG Chips | J3: 20mm-12mm Chips | K3: Rough Stone | L3: Sand Concrete | M3: Sand Mortar | N3: Sand Plastering | O3: Sand Filling | P3: S.Earth | Q3: Bricks | R3: Gravel | S3: Cement Qty in Kg | T3: Cement required
F48: Rate / M3 | H48: 90 | I48: 90 | J48: 90 | K48: 90 | L48: 100 | M48: 100 | N48: 100 | O48: 100 | P48: 45 | Q48: 80 | R48: 45 | S48: =ROUND(('SEIG P-A '!S228*50)/1000,2) -> 0 | T48: MT
G49: Rs | H49: =ROUND('SEIG P-A '!H228*H48,0) -> 0 | I49: =ROUND('SEIG P-A '!I228*I48,0) -> 0 | J49: =ROUND('SEIG P-A '!J228*J48,0) -> 0 | K49: =ROUND('SEIG P-A '!K228*K48,0) -> 0 | L49: =ROUND('SEIG P-A '!L228*L48,0) -> 0 | M49: =ROUND('SEIG P-A '!M228*M48,0) -> 0 | N49: =ROUND('SEIG P-A '!N228*N48,0) -> 0 | O49: =ROUND('SEIG P-A '!O228*O48,0) -> 0 | ... R49: =ROUND('SEIG P-A '!R228*R48,0) -> 0
F50: Total | G50: Rs | H50: =SUM(H49:R49) -> 0
M54: ='lead 22-23 P-B'!H31 -> Deputy Executive Engineer | R54: ='lead 22-23 P-B'!K31 -> Assistant Engineer
M55: ='lead 22-23 P-B'!H32 -> PRI Sub Division | R55: ='lead 22-23 P-B'!K32 -> Mandal Praja parishad
M56: ='lead 22-23 P-B'!H33 -> Kanigiri | R56: ='lead 22-23 P-B'!K33 -> Kanigiri

Sheet steel cal
A1: P.No. | B1: 8MM | C1: 10MM | D1: 12MM | E1: 16MM | F1: 20MM
A2: 5 | B2: 1208.9 | C2: 0 | D2: 1278 | E2: 206.4 | F2: 0
B3: =ROUND(B2*0.395,2) -> 477.52 | C3: =ROUND(C2*0.62,2) -> 0 | D3: =ROUND(D2*0.89,2) -> 1137.42 | E3: =ROUND(E2*1.58,2) -> 326.11 | F3: =ROUND(F2*2.47,2) -> 0 | G3: Footings | H3: =SUM(B3:F3) -> 1941.05
A5: 18 | B5: 1253.15 | C5: 0 | D5: 216.6 | E5: 134.5 | F5: 0
B6: =ROUND(B5*0.395,2) -> 494.99 | C6: =ROUND(C5*0.62,2) -> 0 | D6: =ROUND(D5*0.89,2) -> 192.77 | E6: =ROUND(E5*1.58,2) -> 212.51 | F6: =ROUND(F5*2.47,2) -> 0 | G6: P.Beam | H6: =SUM(B6:F6) -> 900.27
A8: 27 | B8: 3116.54 | C8: 0 | D8: 289.85 | E8: 248 | F8: 0
B9: =ROUND(B8*0.395,2) -> 1231.03 | C9: =ROUND(C8*0.62,2) -> 0 | D9: =ROUND(D8*0.89,2) -> 257.97 | E9: =ROUND(E8*1.58,2) -> 391.84 | F9: =ROUND(F8*2.47,2) -> 0 | G9: slab | H9: =SUM(B9:F9) -> 1880.84
A11: 35 | B11: 63 | C11: 0 | D11: 60.8 | E11: 0 | F11: 0
B12: =ROUND(B11*0.395,2) -> 24.89 | C12: =ROUND(C11*0.62,2) -> 0 | D12: =ROUND(D11*0.89,2) -> 54.11 | E12: =ROUND(E11*1.58,2) -> 0 | F12: =ROUND(F11*2.47,2) -> 0 | H12: =SUM(B12:F12) -> 79
A14: 42 | B14: 299.9 | C14: 0 | D14: 182.22 | E14: 0 | F14: 0
B15: =ROUND(B14*0.395,2) -> 118.46 | C15: =ROUND(C14*0.62,2) -> 0 | D15: =ROUND(D14*0.89,2) -> 162.18 | E15: =ROUND(E14*1.58,2) -> 0 | F15: =ROUND(F14*2.47,2) -> 0 | G15: Lintel | H15: =SUM(B15:F15) -> 280.64
A17: 47 | B17: 94 | C17: 0 | D17: 0 | E17: 0 | F17: 0
B18: =ROUND(B17*0.395,2) -> 37.13 | C18: =ROUND(C17*0.62,2) -> 0 | D18: =ROUND(D17*0.89,2) -> 0 | E18: =ROUND(E17*1.58,2) -> 0 | F18: =ROUND(F17*2.47,2) -> 0 | G18: Lintel | H18: =SUM(B18:F18) -> 37.13

Sheet SEIG P-A 
A1: SEIGNEORAGE CHARGES AND MATERIAL ABSTRACT
A2: ='lead 19-20'!B2&'lead 19-20'!C2 -> Name of the Work: Providing Additional Space for Agriculture Staff in Baduguleru GP of Kanigiri Mandal
A3: S No | B3: Description of the work | C3: Ground Floor | D3: First Floor | E3: second floor | F3: Total Quantity | H3: 40mm Metal | I3: 20mm HBG Chips | J3: 20mm-12mm Chips | K3: Rough Stone | L3: Sand Concrete | M3: Sand Mortar | N3: Sand Plastering | O3: Sand Filling | P3: S.Earth | Q3: Bricks | R3: Gravel | S3: Cement Qty in Kg | T3: Cement required
B4: AS PER SSR 2019-20 | F4: 1
A5: 1 | B5: Earthwork Excavation | F5: =C5+D5 -> 0 | G5: M3 | H5: 0 | I5: 0 | J5: 0 | K5: 0 | L5: 0 | M5: 0 | N5: 0 | O5: 0 | P5: 0 | Q5: 0 | R5: =F5 -> 0 | S5: 0 | T5: 0
A6: 1 | B6: Sand Filling | C6: =WORK!I223 -> 99.32 | F6: =SUM(C6:E6) -> 99.32 | G6: M3 | H6: 0 | I6: 0 | J6: 0 | K6: 0 | L6: 0 | M6: 0 | N6: 0 | O6: =F6 -> 99.32 | P6: 0 | Q6: 0 | R6: 0 | S6: 0 | T6: 0
A7: 2 | B7: Selected Filling | C7: =WORK!I170 -> 13.28 | F7: =SUM(C7:E7) -> 13.28 | G7: M3 | H7: 0 | I7: 0 | J7: 0 | K7: 0 | L7: 0 | M7: 0 | N7: 0 | O7: 0 | P7: =F7 -> 13.28 | Q7: 0 | R7: 0 | S7: 0 | T7: 0
A8: 4 | B8: Gravel filling | C8: =WORK!I194 -> 0 | F8: =SUM(C8:E8) -> 0 | G8: M3 | H8: 0 | I8: 0 | J8: 0 | K8: 0 | L8: 0 | M8: 0 | N8: 0 | O8: 0 | Q8: 0 | R8: =F8 -> 0 | S8: 0 | T8: 0
A9: 3 | B9: PCC (1:4:8) | C9: =WORK!I96 -> 22.03 | F9: =SUM(C9:E9) -> 22.03 | G9: M3 | H9: =ROUND(F9*0.9,2) -> 19.83 | I9: 0 | J9: 0 | K9: 0 | L9: =ROUND(F9*0.45,2) -> 9.91 | M9: 0 | N9: 0 | O9: 0 | P9: 0 | Q9: 0 | R9: 0 | S9: =ROUND(F9*T9/50,2) -> 71.38 | T9: 162 | U9: Kg
A10: 6 | B10: PCC (1:5:10) | C10: =WORK!I137 -> 0 | F10: =SUM(C10:E10) -> 0 | G10: M3 | H10: =ROUND(F10*0.9,2) -> 0 | I10: 0 | J10: 0 | K10: 0 | L10: =ROUND(F10*0.45,2) -> 0 | M10: 0 | N10: 0 | O10: 0 | P10: 0 | Q10: 0 | R10: 0 | S10: =ROUND(F10*T10/50,2) -> 0 | T10: 129.6 | U10: Kg
A11: 4 | B11: RCC Footings | C11: =WORK!I291 -> 11.87 | F11: =SUM(C11:E11) -> 11.87 | G11: M3 | H11: 0 | I11: =ROUND(F11*0.8,2) -> 9.5 | J11: 0 | K11: 0 | L11: =ROUND(F11*0.4,2) -> 4.75 | M11: 0 | N11: 0 | O11: 0 | P11: 0 | Q11: 0 | R11: 0 | S11: =ROUND(F11*T11/50,2) -> 80.72 | T11: =data!E110 -> 340 | U11: Kg
A12: 5 | B12: RCC Pedastals | C12: =WORK!I311 -> 1.28 | F12: =SUM(C12:E12) -> 1.28 | G12: M3 | H12: 0 | I12: =ROUND(F12*0.8,2) -> 1.02 | J12: 0 | K12: 0 | L12: =ROUND(F12*0.4,2) -> 0.51 | M12: 0 | N12: 0 | O12: 0 | P12: 0 | Q12: 0 | R12: 0 | S12: =ROUND(F12*T12/50,2) -> 8.7 | T12: =$T$11 -> 340 | U12: Kg
A13: 6 | B13: RCC Columns | C13: =WORK!I342 -> 5.71 | D13: =FF!I16 -> 0 | E13: =SF!I14 -> 0 | F13: =SUM(C13:E13) -> 5.71 | G13: M3 | H13: 0 | I13: =ROUND(F13*0.8,2) -> 4.57 | J13: 0 | K13: 0 | L13: =ROUND(F13*0.4,2) -> 2.28 | M13: 0 | N13: 0 | O13: 0 | P13: 0 | Q13: 0 | R13: 0 | S13: =ROUND(F13*T13/50,2) -> 38.83 | T13: =$T$11 -> 340 | U13: Kg
A14: 7 | B14: RCC Plinth Beam | C14: =WORK!I384 -> 5.8 | F14: =SUM(C14:E14) -> 5.8 | G14: M3 | H14: 0 | I14: =ROUND(F14*0.8,2) -> 4.64 | J14: 0 | K14: 0 | L14: =ROUND(F14*0.4,2) -> 2.32 | M14: 0 | N14: 0 | O14: 0 | P14: 0 | Q14: 0 | R14: 0 | S14: =ROUND(F14*T14/50,2) -> 39.44 | T14: =$T$11 -> 340 | U14: Kg
A15: 8 | B15: RCC Roof Beams | C15: =WORK!I428 -> 6.2 | D15: =FF!I59 -> 0 | E15: =SF!I39 -> 0 | F15: =SUM(C15:E15) -> 6.2 | G15: M3 | H15: 0 | I15: =ROUND(F15*0.8,2) -> 4.96 | J15: 0 | K15: 0 | L15: =ROUND(F15*0.4,2) -> 2.48 | M15: 0 | N15: 0 | O15: 0 | P15: 0 | Q15: 0 | R15: 0 | S15: =ROUND(F15*T15/50,2) -> 42.16 | T15: =$T$11 -> 340 | U15: Kg
A16: 9 | B16: RCC Landing Slab 150mm th | C16: =ROUND(WORK!I483*0.15,2) -> 0 | D16: =ROUND(FF!I112*0.15,2) -> 0 | E16: =ROUND(SF!I63*0.15,2) -> 0 | F16: =SUM(C16:E16) -> 0 | G16: M2 | H16: 0 | I16: =ROUND(F16*0.8,2) -> 0 | J16: 0 | K16: 0 | L16: =ROUND(F16*0.4,2) -> 0 | M16: 0 | N16: 0 | O16: 0 | P16: 0 | Q16: 0 | R16: 0 | S16: =ROUND(F16*T16/50,2) -> 0 | T16: =ROUND(T15,2) -> 340 | U16: Kg
A17: 9 | B17: RCC Roof Slab 125mm th | C17: =ROUND(WORK!I506*0.125,2) -> 16.02 | D17: =ROUND(FF!I140*0.125,2) -> 0 | E17: =ROUND(SF!I86*0.125,2) -> 0 | F17: =SUM(C17:E17) -> 16.02 | G17: M2 | H17: 0 | I17: =ROUND(F17*0.8,2) -> 12.82 | J17: 0 | K17: 0 | L17: =ROUND(F17*0.4,2) -> 6.41 | M17: 0 | N17: 0 | O17: 0 | P17: 0 | Q17: 0 | R17: 0 | S17: =ROUND(F17*T17/50,2) -> 108.94 | T17: =ROUND(T15,2) -> 340 | U17: Kg
A18: 11 | B18: RCC Roof Slab 100mm th | C18: =ROUND(WORK!I531*0.1,2) -> 0 | D18: =ROUND(FF!I164*0.1,2) -> 0 | E18: =ROUND(SF!I106*0.1,2) -> 0 | F18: =SUM(C18:E18) -> 0 | G18: M2 | H18: 0 | I18: =ROUND(F18*0.8,2) -> 0 | J18: 0 | K18: 0 | L18: =ROUND(F18*0.4,2) -> 0 | M18: 0 | N18: 0 | O18: 0 | P18: 0 | Q18: 0 | R18: 0 | S18: =ROUND(F18*T18/50,2) -> 0 | T18: =T17 -> 340 | U18: Kg
A19: 9 | B19: Precasted slab 50mm | C19: =ROUND(WORK!I553*0.05,2) -> 0 | D19: =ROUND(FF!I185*0.05,2) -> 0 | E19: =ROUND(SF!I127*0.05,2) -> 0 | F19: =SUM(C19:E19) -> 0 | G19: M2 | H19: 0 | I19: =ROUND(F19*0.8,2) -> 0 | J19: 0 | K19: 0 | L19: =ROUND(F19*0.4,2) -> 0 | M19: 0 | N19: 0 | O19: 0 | P19: 0 | Q19: 0 | R19: 0 | S19: =ROUND(F19*T19/50,2) -> 0 | T19: =T18 -> 340 | U19: Kg
A20: 16 | B20: Precasted slab 25mm | C20: =ROUND(WORK!I578*0.025,2) -> 0 | D20: =ROUND(FF!I209*0.025,2) -> 0 | E20: =ROUND(SF!I151*0.025,2) -> 0 | F20: =SUM(C20:E20) -> 0 | G20: M2 | H20: 0 | I20: =ROUND(F20*0.8,2) -> 0 | J20: 0 | K20: 0 | L20: =ROUND(F20*0.4,2) -> 0 | M20: 0 | N20: 0 | O20: 0 | P20: 0 | Q20: 0 | R20: 0 | S20: =ROUND(F20*T20/50,2) -> 0 | T20: =T19 -> 340 | U20: Kg
A21: 10 | B21: RCC Lintels | C21: =WORK!I609 -> 1.53 | D21: =FF!I238 -> 0 | E21: =SF!I176 -> 0 | F21: =SUM(C21:E21) -> 1.53 | G21: M3 | H21: 0 | I21: =ROUND(F21*0.8,2) -> 1.22 | J21: 0 | K21: 0 | L21: =ROUND(F21*0.4,2) -> 0.61 | M21: 0 | N21: 0 | O21: 0 | P21: 0 | Q21: 0 | R21: 0 | S21: =ROUND(F21*T21/50,2) -> 10.4 | T21: =$T$11 -> 340 | U21: Kg
A22: 11 | B22: RCC Sunshades | C22: =WORK!I644 -> 12 | D22: =FF!I282 -> 0 | E22: =SF!I202 -> 0 | F22: =SUM(C22:E22) -> 12 | G22: RM | H22: 0 | I22: =ROUND(F22*0.0375*0.8,2) -> 0.36 | J22: 0 | K22: 0 | L22: =ROUND(F22*0.0375*0.4,2) -> 0.18 | M22: 0 | N22: 0 | O22: 0 | P22: 0 | Q22: 0 | R22: 0 | S22: =ROUND(F22*T22/50,2) -> 3.06 | T22: =ROUND(T21*0.0375,2) -> 12.75 | U22: Kg
A23: 12 | B23: Acco Plaster'g CM (1:3) 12mm | C23: =WORK!I666 -> 108 | D23: =FF!I307 -> 0 | E23: =SF!I222 -> 0 | F23: =SUM(C23:E23) -> 108 | G23: M2 | H23: 0 | I23: 0 | J23: 0 | K23: 0 | L23: 0 | M23: 0 | N23: =ROUND(F23*0.015*1.05,2) -> 1.7 | O23: 0 | P23: 0 | Q23: 0 | R23: 0 | S23: =ROUND(F23*T23/50,2) -> 15.55 | T23: 7.2 | U23: Kg
A24: 9 | B24: Acco Plaster'g CM (1:3) 20mm | C24: =WORK!I690 -> 0 | D24: =FF!I332 -> 0 | E24: =SF!I243 -> 0 | F24: =SUM(C24:E24) -> 0 | G24: M2 | H24: 0 | I24: 0 | J24: 0 | K24: 0 | L24: 0 | M24: 0 | N24: =ROUND(F24*0.021*1.05,2) -> 0 | O24: 0 | P24: 0 | Q24: 0 | R24: 0 | S24: =ROUND(F24*T24/50,2) -> 0 | T24: 10.08 | U24: Kg
A25: 13 | B25: Rough stone | C25: =WORK!I715 -> 0 | F25: =SUM(C25:E25) -> 0 | G25: M3 | H25: 0 | I25: 0 | J25: 0 | K25: =ROUND(F25*1.1,2) -> 0 | L25: 0 | M25: =ROUND(F25*0.33,2) -> 0 | N25: 0 | O25: 0 | P25: 0 | R25: 0 | S25: =ROUND(F25*T25/50,2) -> 0 | T25: 59.4 | U25: Kg
A26: 13 | B26: BM CM (1:8) Super | C26: =WORK!I753 -> 19.08 | D26: =FF!I356 -> 0 | E26: =SF!I269 -> 0 | F26: =SUM(C26:E26) -> 19.08 | G26: M3 | H26: 0 | I26: 0 | J26: 0 | K26: 0 | L26: 0 | M26: =ROUND(F26*0.2,2) -> 3.82 | N26: 0 | O26: 0 | P26: 0 | Q26: =ROUND(F26*512/1000,2) -> 9.77 | R26: 0 | S26: =ROUND(F26*T26/50,2) -> 13.74 | T26: 36 | U26: Kg
