Workbook
Name __bla1: [1]leads!$H$7
Name __can430: 40.73
Name __can435: 43.3
Name __cur1: [2]r!$F$30
Name __l1: [3]leads!$A$3:$E$108
Name __l12: #REF!
Name __l12: #REF!
Name __l2: [2]r!$F$29
Name __l3: #REF!
Name __l3: #REF!
Name __l4: [4]Sheet1!$W$2:$Y$103
Name __l5: #REF!
Name __l5: #REF!
Name __l6: [2]r!$F$4
Name __l7: [5]r!$F$4
Name __l8: [2]r!$F$2
Name __l9: [2]r!$F$3
Name __mm1: [6]r!$F$4
Name __mm11: [2]r!$F$4
Name __mm111: [5]r!$F$4
Name __pc2: #REF!
Name __pc2: #REF!
Name __pv2: #REF!
Name __pv2: #REF!
Name __rr3: [7]v!$A$2:$E$51
Name __rrr1: [7]r!$B$1:$I$145
Name __ss12: [8]rdamdata!$J$8
Name __ss20: [8]rdamdata!$J$7
Name __ss40: [8]rdamdata!$J$6
Name __var1: #REF!
Name __var1: #REF!
Name __var4: #REF!
Name __var4: #REF!
Name _bla1: [1]leads!$H$7
Name _can430: 40.73
Name _can435: 43.3
Name _cur1: [2]r!$F$30
Name _l1: [3]leads!$A$3:$E$108
Name _l12: #REF!
Name _l12: #REF!
Name _l2: [2]r!$F$29
Name _l3: #REF!
Name _l3: #REF!
Name _l4: [4]Sheet1!$W$2:$Y$103
Name _l5: #REF!
Name _l5: #REF!
Name _l6: [2]r!$F$4
Name _l7: [5]r!$F$4
Name _l8: [2]r!$F$2
Name _l9: [2]r!$F$3
Name _mm1: [6]r!$F$4
Name _mm11: [2]r!$F$4
Name _mm111: [5]r!$F$4
Name _pc2: #REF!
Name _pc2: #REF!
Name _pv2: #REF!
Name _pv2: #REF!
Name _rr3: [7]v!$A$2:$E$51
Name _rrr1: [7]r!$B$1:$I$145
Name _ss12: [8]rdamdata!$J$8

Sheet 0000000000000

Sheet COVER
A1: fffffffffffffffffffffffffffffffffffffffffffffffffffffffffffffffffffffffffffffffffffffffffffffffffffffffffffffffffffffffffffffffffffffffffffffffffffffffffffffffffffffffffffffffffffffffffffffffffffffffffffffffffffffffffffffffffffffffffffffffffffffffffffffffffffffffffffffffffffffffffffffffffffffffffffffffffffffffffffffffffffffffffffffffffffffffffffffffffffffffffffffffffffffffffffffffffffffffffffffffffffffffffffffffffffffffffffffffffffff | B1: fffffffffffffffffffffffffffffffffffffffffffffffffffffffffffffffffffffffffffffffffffffffffffffffffffffffffffffffffffffffffffffffffffffffffffffffffffffffffffffffffffffffffffffffffffffffffffffffffffffffffffffffffffffffffffffffffffffffffffffffffffffffffffffffffffffffffffffffffffffffffffffffffffffffffffffffffffffffffffffffffffffffffffffffffffffffffffffffffffffffffffffffffffffffffffffffffffffff | K1: ffffffffffffffffffffffffffffffffffffffffffffffffffffffffffffffffffffffffffffffffffffffffffffffffffffffffffffffffffffffffffffffffffffffffffffffffffffffffffffffffffffffffffffffffffffffffffffffffffffffffffffffffffffffffffffffffffffffffffffffffffffffffffffffffffffffffffffffffffffffffffffffffffffffffffffffffffffffffffffffffffffffffffffffffffffffffffffffffffffffffffffffff
B18: PANCHAYATI RAJ ENGINEERING DEPARTMENT
B20: DETAILED ESTIMATE CUM ABSTRACT
C23: NAME OF THE WORK | F23: : | G23: ='lead 25-26'!C2 -> Construction of Community Hall at Chakirala village and GP of Kanigiri Mandal.
C25: ESTIMATE COST Rs | F25: : | G25: ='lead 25-26'!K4 -> 20.00 Lakhs
C27: GRANT | F27: : | G27: MPLADS 2024-25
C29: NAME OF THE MANDAL | F29: : | G29: KANIGIRI
C31: NAME OF SUB.DIVISION. | F31: : | G31: KANIGIRI
C33: NAME OF THE DIVISION | F33: : | G33: KANDUKUR
C35: NAME OF CIRCLE | F35: : | G35: ONGOLE
C37: NAME OF DISTRICT | F37: : | G37: PRAKASAM
A40: ffffffffffffffffffffffffffffffffffffffffffffffffffffffffffffffffffffffffffffffffffffffffffffffffffffffffffffffffffffffffffffffffffffffffffffffffffffffffffffffffffffffffffffffffffffffffffffffffffffffffffffffffffffffffffffffffffffffffffffffffffffffffffffffffffffffffffffffffffffffffffffffffffffffffffffffffffffffffffffffffffffffffffffffffffffffffffffffffffffffffffffffff

Sheet SPE
A1: SPECIFICATION REPORT
A3: Specification Report to accompany the estimate for the work "
A4: ='lead 25-26'!C2 -> Construction of Community Hall at Chakirala village and GP of Kanigiri Mandal.
F5: Estt. Rs. | H5: ='lead 25-26'!K4 -> 20.00 Lakhs
A7: The above road has been administratively sancationed for Rs. 20.00 Lakhs vide Progs.41/Plg.III/ YVSR (RS)/2024 Dt.09.06.2025 of the District Collector, Prakasam District, Ongole Under MPLADS grant during the year 2024-25.
A8: Hence the estimat is preapred with the following provisions.
A9: 1 | B9: Dismantling Brick/Tile Work
A10: 2 | B10: Scraping Plaster Cement Mortar
A11: 1 | B11: Earthwork in excavation for structures
A12: 2 | B12: S&F 1200mm dia hume pipes
A13: 3 | B13: S&F high polished granite stone for cupboards
A14: 3 | B14: S&F Vitrified tiles stone for cupboards
A15: 2 | B15: Plain Cement Concrete (1:4:8)
A16: 3 | B16: Filling Basement with Selected earth in trenches
A17: 4 | B17: Refilling with excavated soil
A18: 5 | B18: RCC M-20 Grade for Column footings
A19: 6 | B19: RCC M-20 Grade for Pedastal
A20: 7 | B20: RCC M-20 Grade for Columns
... A63: 30 | B63: S&F of Electrification items
A64: Necessary provisions are made for QC Charges at 0.5%, GST charges @ 18% Seigneorage charges, are shown in the estimate
A65: The estimate is prepared as per the current schedule of rates for the year 2025-26 and the work shall be executed as per APSS.
E68: ='lead 25-26'!$H$32 -> Deputy Executive Engineer | H68: ='lead 25-26'!$K$32 -> Assistant Engineer
E69: ='lead 25-26'!$H$33 -> PRI Sub Division | H69: ='lead 25-26'!$K$33 -> Mandal Praja parishad
E70: ='lead 25-26'!$H$34 -> Kanigiri | H70: ='lead 25-26'!$K$34 -> Kanigiri

Sheet ESTIMATE
A1: DETAILED ESTIMATE CUM ABSTRACT
A2: Name of the work | C2: ='lead 25-26'!C2:L2 -> Construction of Community Hall at Chakirala village and GP of Kanigiri Mandal.
I3: Est.Rs. | L3: ='lead 25-26'!K4 -> 20.00 Lakhs
A4: S.No | B4: Description of Item | C4: No | F4: Measurements | I4: Quantity | K4: Rate | L4: Per | M4: Amount
F5: L | G5: B | H5: D
A6: 1 | B6: 2 | C6: 3 | F6: 4 | G6: 5 | H6: 6 | I6: 7 | K6: 8 | L6: 9 | M6: 10
B7: GROUND FLOOR
A8: 1 | B8: Clearing light jungle including up-rooting and removing of Juliflora stumps.
B9: Site Clearence | C9: 1 | D9: x | E9: 1 | F9: 11 | G9: 10 | H9: 0 | I9: =ROUND(IF(AND(F9:H9),C9*E9*F9*G9*H9,IF(AND(F9,G9),C9*E9*F9*G9,IF(AND(F9,H9),C9*E9*F9*H9,IF(AND(G9,H9),C9*E9*G9*H9,IF(F9,C9*E9*F9,IF(G9,C9*E9*G9,IF(H9,C9*E9*H9,C9*E9))))))),2) -> 110 | J9: Sqm
I10: =SUM(I9:I9) -> 110 | J10: Sqm
B11: Deduct Voids @ 40% | I11: =-ROUND(I10*40%,2) -> -44 | J11: Sqm
J12: Sqm | K12: ='DATA 2025-26'!G41 -> 6.06 | L12: 1Sqm | M12: =ROUND(I12*K12,0) -> 0
A13: 1 | B13: Earthwork in excavation for structures as per drawing and technical specifications Clause 305.1 including setting out, construction of shoring and bracing, removal of stumps and other deleterious material and disposal upto a lead of 50 m, dressing of sides and bottom and backfilling in trenches with excavated suitable material as per Technical Specification 305 MORD / 304 MORTH
B14: Columns | C14: 1 | D14: x | E14: 8 | F14: 1.5 | G14: 1.5 | H14: 1.5 | I14: =ROUND(IF(AND(F14:H14),C14*E14*F14*G14*H14,IF(AND(F14,G14),C14*E14*F14*G14,IF(AND(F14,H14),C14*E14*F14*H14,IF(AND(G14,H14),C14*E14*G14*H14,IF(F14,C14*E14*F14,IF(G14,C14*E14*G14,IF(H14,C14*E14*H14,C14*E14))))))),2) -> 27 | J14: Cum
B15: For basement | C15: 1 | D15: x | E15: 1 | F15: 31.86 | G15: 0.45 | H15: 0.3 | I15: =ROUND(IF(AND(F15:H15),C15*E15*F15*G15*H15,IF(AND(F15,G15),C15*E15*F15*G15,IF(AND(F15,H15),C15*E15*F15*H15,IF(AND(G15,H15),C15*E15*G15*H15,IF(F15,C15*E15*F15,IF(G15,C15*E15*G15,IF(H15,C15*E15*H15,C15*E15))))))),2) -> 4.3 | J15: Cum
B16: for portico potion | C16: 1 | D16: x | E16: 1 | F16: 7.74 | G16: 0.45 | H16: 0.3 | I16: =ROUND(IF(AND(F16:H16),C16*E16*F16*G16*H16,IF(AND(F16,G16),C16*E16*F16*G16,IF(AND(F16,H16),C16*E16*F16*H16,IF(AND(G16,H16),C16*E16*G16*H16,IF(F16,C16*E16*F16,IF(G16,C16*E16*G16,IF(H16,C16*E16*H16,C16*E16))))))),2) -> 1.04 | J16: Cum
B17: Under inside plinth beam | C17: 1 | D17: x | E17: 2 | F17: 5.49 | G17: 0.23 | H17: 0.1 | I17: =ROUND(IF(AND(F17:H17),C17*E17*F17*G17*H17,IF(AND(F17,G17),C17*E17*F17*G17,IF(AND(F17,H17),C17*E17*F17*H17,IF(AND(G17,H17),C17*E17*G17*H17,IF(F17,C17*E17*F17,IF(G17,C17*E17*G17,IF(H17,C17*E17*H17,C17*E17))))))),2) -> 0.25 | J17: Cum
I19: =SUM(I14:I18) -> 32.59 | J19: Cum | K19: ='DATA 2025-26'!G47 -> 254.34 | L19: 1Cum | M19: =ROUND(I19*K19,0) -> 8289
A20: 2 | B20: Plain Cement Concrete (1:4:8) proportion Nominal mix for foundations using 40mm size SS-5 metal including c/c of all materials & labour charges, machine mixing & laying concrete in foundations ramming etc complete for Bed Concrete (APSS No 402)
B21: Columns | C21: 1 | D21: x | E21: 8 | F21: 1.4 | G21: 1.4 | H21: 0.15 | I21: =ROUND(IF(AND(F21:H21),C21*E21*F21*G21*H21,IF(AND(F21,G21),C21*E21*F21*G21,IF(AND(F21,H21),C21*E21*F21*H21,IF(AND(G21,H21),C21*E21*G21*H21,IF(F21,C21*E21*F21,IF(G21,C21*E21*G21,IF(H21,C21*E21*H21,C21*E21))))))),2) -> 2.35 | J21: Cum
B22: For basement | C22: 1 | D22: x | E22: 1 | F22: 31.86 | G22: 0.45 | H22: 0.15 | I22: =ROUND(IF(AND(F22:H22),C22*E22*F22*G22*H22,IF(AND(F22,G22),C22*E22*F22*G22,IF(AND(F22,H22),C22*E22*F22*H22,IF(AND(G22,H22),C22*E22*G22*H22,IF(F22,C22*E22*F22,IF(G22,C22*E22*G22,IF(H22,C22*E22*H22,C22*E22))))))),2) -> 2.15 | J22: Cum
B23: Under inside plinth beam | C23: 1 | D23: x | E23: 2 | F23: 5.49 | G23: 0.23 | H23: 0.1 | I23: =ROUND(IF(AND(F23:H23),C23*E23*F23*G23*H23,IF(AND(F23,G23),C23*E23*F23*G23,IF(AND(F23,H23),C23*E23*F23*H23,IF(AND(G23,H23),C23*E23*G23*H23,IF(F23,C23*E23*F23,IF(G23,C23*E23*G23,IF(H23,C23*E23*H23,C23*E23))))))),2) -> 0.25 | J23: Cum
B24: Verandah | C24: 1 | D24: x | E24: 1 | F24: 7.74 | G24: 0.9 | H24: 0.1 | I24: =ROUND(IF(AND(F24:H24),C24*E24*F24*G24*H24,IF(AND(F24,G24),C24*E24*F24*G24,IF(AND(F24,H24),C24*E24*F24*H24,IF(AND(G24,H24),C24*E24*G24*H24,IF(F24,C24*E24*F24,IF(G24,C24*E24*G24,IF(H24,C24*E24*H24,C24*E24))))))),2) -> 0.7 | J24: Cum
B25: Under flooring
B26: Hall | C26: 1 | D26: x | E26: 1 | F26: 5.49 | G26: 7.32 | H26: 0.1 | I26: =ROUND(IF(AND(F26:H26),C26*E26*F26*G26*H26,IF(AND(F26,G26),C26*E26*F26*G26,IF(AND(F26,H26),C26*E26*F26*H26,IF(AND(G26,H26),C26*E26*G26*H26,IF(F26,C26*E26*F26,IF(G26,C26*E26*G26,IF(H26,C26*E26*H26,C26*E26))))))),2) -> 4.02 | J26: Cum
B27: dias | C27: 1 | D27: x | E27: 1 | F27: 5.49 | G27: 2.44 | H27: 0.1 | I27: =ROUND(IF(AND(F27:H27),C27*E27*F27*G27*H27,IF(AND(F27,G27),C27*E27*F27*G27,IF(AND(F27,H27),C27*E27*F27*H27,IF(AND(G27,H27),C27*E27*G27*H27,IF(F27,C27*E27*F27,IF(G27,C27*E27*G27,IF(H27,C27*E27*H27,C27*E27))))))),2) -> 1.34 | J27: Cum
I29: =SUM(I21:I28) -> 10.81 | J29: Cum | K29: ='DATA 2025-26'!G96 -> 5190.92 | L29: 1Cum | M29: =ROUND(I29*K29,0) -> 56114
A30: 4 | B30: Plain Cement Concrete (1:5:10) proportion Nominal mix for foundations using 40mm size SS-5 metal including cost and conveyance of all materials and curing charges, labour charges, machine mixing and laying concrete in foundations ramming etc complete for Bed Concrete (APSS No 402)
B31: Al round the Building | C31: 1 | D31: x | E31: 1 | F31: 27.98 | G31: 0.75 | H31: 0.15 | I31: =ROUND(IF(AND(F31:H31),C31*E31*F31*G31*H31,IF(AND(F31,G31),C31*E31*F31*G31,IF(AND(F31,H31),C31*E31*F31*H31,IF(AND(G31,H31),C31*E31*G31*H31,IF(F31,C31*E31*F31,IF(G31,C31*E31*G31,IF(H31,C31*E31*H31,C31*E31))))))),2) -> 3.15 | J31: Cum
B32: Deduction for Column's | C32: 1 | D32: x | E32: 8 | F32: 2.1 | G32: 0.75 | H32: 0.15 | I32: =-ROUND(IF(AND(F32:H32),C32*E32*F32*G32*H32,IF(AND(F32,G32),C32*E32*F32*G32,IF(AND(F32,H32),C32*E32*F32*H32,IF(AND(G32,H32),C32*E32*G32*H32,IF(F32,C32*E32*F32,IF(G32,C32*E32*G32,IF(H32,C32*E32*H32,C32*E32))))))),2) -> -1.89 | J32: Cum
B33: Under plinth beam
B34: Short wall | C34: 1 | D34: x | E34: 2 | F34: 5.26 | G34: 0.38 | H34: 0.15 | I34: =ROUND(IF(AND(F34:H34),C34*E34*F34*G34*H34,IF(AND(F34,G34),C34*E34*F34*G34,IF(AND(F34,H34),C34*E34*F34*H34,IF(AND(G34,H34),C34*E34*G34*H34,IF(F34,C34*E34*F34,IF(G34,C34*E34*G34,IF(H34,C34*E34*H34,C34*E34))))))),2) -> 0.6 | J34: Cum
B35: Deduct for Columns | C35: 1 | D35: x | E35: 1 | F35: 0.23 | G35: 0.38 | H35: 0.15 | I35: =-ROUND(IF(AND(F35:H35),C35*E35*F35*G35*H35,IF(AND(F35,G35),C35*E35*F35*G35,IF(AND(F35,H35),C35*E35*F35*H35,IF(AND(G35,H35),C35*E35*G35*H35,IF(F35,C35*E35*F35,IF(G35,C35*E35*G35,IF(H35,C35*E35*H35,C35*E35))))))),2) -> -0.01 | J35: Cum
B36: for Flooring bed
B37: Hall | C37: 1 | D37: x | E37: 1 | F37: 5.48 | G37: 8.05 | H37: 0.1 | I37: =ROUND(IF(AND(F37:H37),C37*E37*F37*G37*H37,IF(AND(F37,G37),C37*E37*F37*G37,IF(AND(F37,H37),C37*E37*F37*H37,IF(AND(G37,H37),C37*E37*G37*H37,IF(F37,C37*E37*F37,IF(G37,C37*E37*G37,IF(H37,C37*E37*H37,C37*E37))))))),2) -> 4.41 | J37: Cum
B38: duduct Plinth beam | C38: 1 | D38: x | E38: 2 | F38: 5.48 | G38: 0.23 | H38: 0.1 | I38: =-ROUND(IF(AND(F38:H38),C38*E38*F38*G38*H38,IF(AND(F38,G38),C38*E38*F38*G38,IF(AND(F38,H38),C38*E38*F38*H38,IF(AND(G38,H38),C38*E38*G38*H38,IF(F38,C38*E38*F38,IF(G38,C38*E38*G38,IF(H38,C38*E38*H38,C38*E38))))))),2) -> -0.25 | J38: Cum
J40: Cum | K40: ='DATA 2025-26'!G108 -> 4432.18 | L40: 1Cum | M40: =ROUND(I40*K40,0) -> 0
A41: 3 | B41: Filling Basement with Selected earth by watering and ramming including all operational, incidental and including c/c of material and labour charges etc complete for finished item of the work (APSS No 309& 310) per 1 Cum
B42: Hall | C42: 1 | D42: x | E42: 1 | F42: 5.49 | G42: 7.32 | H42: 0.8 | I42: =ROUND(IF(AND(F42:H42),C42*E42*F42*G42*H42,IF(AND(F42,G42),C42*E42*F42*G42,IF(AND(F42,H42),C42*E42*F42*H42,IF(AND(G42,H42),C42*E42*G42*H42,IF(F42,C42*E42*F42,IF(G42,C42*E42*G42,IF(H42,C42*E42*H42,C42*E42))))))),2) -> 32.15 | J42: Cum
B43: dias | C43: 1 | D43: x | E43: 1 | F43: 5.49 | G43: 2.44 | H43: 0.65 | I43: =ROUND(IF(AND(F43:H43),C43*E43*F43*G43*H43,IF(AND(F43,G43),C43*E43*F43*G43,IF(AND(F43,H43),C43*E43*F43*H43,IF(AND(G43,H43),C43*E43*G43*H43,IF(F43,C43*E43*F43,IF(G43,C43*E43*G43,IF(H43,C43*E43*H43,C43*E43))))))),2) -> 8.71 | J43: Cum
...

Sheet Seigneorage
A1: Seigniorage Charges
A2: ='lead 25-26'!B2&'lead 25-26'!C2 -> Name of the Work: Construction of Community Hall at Chakirala village and GP of Kanigiri Mandal.
A3: S No | B3: Description of the work | C3: Ground Floor | D3: First Floor | E3: second floor | F3: Total Quantity | H3: 40mm Metal | I3: 20mm HBG Chips | J3: 20mm-12mm Chips | K3: Rough Stone | L3: Sand Concrete | M3: Sand Mortar | N3: Sand Plastering | O3: Sand Filling | P3: S.Earth | Q3: Bricks | R3: Gravel | S3: Cement Qty in Kg | T3: Cement required
A4: 1 | B4: Earthwork Excavation | F4: =C4+D4 -> 0 | G4: M3 | H4: 0 | I4: 0 | J4: 0 | K4: 0 | L4: 0 | M4: 0 | N4: 0 | O4: 0 | P4: 0 | Q4: 0 | R4: =F4 -> 0 | S4: 0 | T4: 0
A5: 1 | B5: Sand Filling | C5: =ESTIMATE!I62 -> 0 | F5: =SUM(C5:E5) -> 0 | G5: M3 | H5: 0 | I5: 0 | J5: 0 | K5: 0 | L5: 0 | M5: 0 | N5: 0 | O5: =F5 -> 0 | P5: 0 | Q5: 0 | R5: 0 | S5: 0 | T5: 0
A6: 1 | B6: Selected earth | C6: =ESTIMATE!I46 -> 45.04 | F6: =SUM(C6:E6) -> 45.04 | G6: M3 | H6: 0 | I6: 0 | J6: 0 | K6: 0 | L6: 0 | M6: 0 | N6: 0 | O6: 0 | P6: =F6 -> 45.04 | Q6: 0 | R6: 0 | S6: 0 | T6: 0
A7: 4 | B7: Gravel filling | C7: =ESTIMATE!I56 -> 0 | F7: =SUM(C7:E7) -> 0 | G7: M3 | H7: 0 | I7: 0 | J7: 0 | K7: 0 | L7: 0 | M7: 0 | N7: 0 | O7: 0 | Q7: 0 | R7: =F7 -> 0 | S7: 0 | T7: 0
A8: 2 | B8: PCC (1:4:8) | C8: =ESTIMATE!I29 -> 10.81 | F8: =SUM(C8:E8) -> 10.81 | G8: M3 | H8: =ROUND(F8*0.9,2) -> 9.73 | I8: 0 | J8: 0 | K8: 0 | L8: =ROUND(F8*0.45,2) -> 4.86 | M8: 0 | N8: 0 | O8: 0 | P8: 0 | Q8: 0 | R8: 0 | S8: =ROUND(F8*T8/50,2) -> 35.02 | T8: 162 | U8: Kg
A9: 4 | B9: PCC (1:5:10) | C9: =ESTIMATE!I40 -> 0 | F9: =SUM(C9:E9) -> 0 | G9: M3 | H9: =ROUND(F9*0.9,2) -> 0 | I9: 0 | J9: 0 | K9: 0 | L9: =ROUND(F9*0.45,2) -> 0 | M9: 0 | N9: 0 | O9: 0 | P9: 0 | Q9: 0 | R9: 0 | S9: =ROUND(F9*T9/50,2) -> 0 | T9: 129.6 | U9: Kg
A10: 3 | B10: RCC Footings | C10: =ESTIMATE!I74 -> 5.49 | F10: =SUM(C10:E10) -> 5.49 | G10: M3 | H10: 0 | I10: =ROUND(F10*0.9,2) -> 4.94 | J10: 0 | K10: 0 | L10: =ROUND(F10*0.45,2) -> 2.47 | M10: 0 | N10: 0 | O10: 0 | P10: 0 | Q10: 0 | R10: 0 | S10: =ROUND(F10*T10/50,2) -> 36.23 | T10: ='DATA 2025-26'!E114 -> 330 | U10: Kg
A11: 4 | B11: RCC Pedastals | C11: =ESTIMATE!I78 -> 1.3 | F11: =SUM(C11:E11) -> 1.3 | G11: M3 | H11: 0 | I11: =ROUND(F11*0.9,2) -> 1.17 | J11: 0 | K11: 0 | L11: =ROUND(F11*0.45,2) -> 0.59 | M11: 0 | N11: 0 | O11: 0 | P11: 0 | Q11: 0 | R11: 0 | S11: =ROUND(F11*T11/50,2) -> 8.58 | T11: =$T$10 -> 330 | U11: Kg
A12: 5 | B12: RCC Columns | C12: =ESTIMATE!I84 -> 3.03 | D12: =ESTIMATE!I466 -> 0 | E12: =ESTIMATE!I871 -> 0 | F12: =SUM(C12:E12) -> 3.03 | G12: M3 | H12: 0 | I12: =ROUND(F12*0.9,2) -> 2.73 | J12: 0 | K12: 0 | L12: =ROUND(F12*0.45,2) -> 1.36 | M12: 0 | N12: 0 | O12: 0 | P12: 0 | Q12: 0 | R12: 0 | S12: =ROUND(F12*T12/50,2) -> 20 | T12: =$T$10 -> 330 | U12: Kg
A13: 6 | B13: RCC Plinth Beam | C13: =ESTIMATE!I89 -> 2.99 | F13: =SUM(C13:E13) -> 2.99 | G13: M3 | H13: 0 | I13: =ROUND(F13*0.9,2) -> 2.69 | J13: 0 | K13: 0 | L13: =ROUND(F13*0.45,2) -> 1.35 | M13: 0 | N13: 0 | O13: 0 | P13: 0 | Q13: 0 | R13: 0 | S13: =ROUND(F13*T13/50,2) -> 19.73 | T13: =$T$10 -> 330 | U13: Kg
A14: 7 | B14: RCC Roof Beams | C14: =ESTIMATE!I95 -> 3.8 | D14: =ESTIMATE!I472 -> 0 | E14: =ESTIMATE!I877 -> 0 | F14: =SUM(C14:E14) -> 3.8 | G14: M3 | H14: 0 | I14: =ROUND(F14*0.9,2) -> 3.42 | J14: 0 | K14: 0 | L14: =ROUND(F14*0.45,2) -> 1.71 | M14: 0 | N14: 0 | O14: 0 | P14: 0 | Q14: 0 | R14: 0 | S14: =ROUND(F14*T14/50,2) -> 25.08 | T14: =$T$10 -> 330 | U14: Kg
A15: 9 | B15: RCC Landing Slab 150mm th | C15: =ROUND(ESTIMATE!I101*0.15,2) -> 0 | D15: =ROUND(ESTIMATE!I480*0.15,2) -> 0 | E15: =ROUND(ESTIMATE!I885*0.15,2) -> 0 | F15: =SUM(C15:E15) -> 0 | G15: M2 | H15: 0 | I15: =ROUND(F15*0.9,2) -> 0 | J15: 0 | K15: 0 | L15: =ROUND(F15*0.45,2) -> 0 | M15: 0 | N15: 0 | O15: 0 | P15: 0 | Q15: 0 | R15: 0 | S15: =ROUND(F15*T15/50,2) -> 0 | T15: =ROUND(T14,2) -> 330 | U15: Kg
A16: 8 | B16: RCC Roof Slab 125mm th | C16: =ROUND(ESTIMATE!I106*0.125,2) -> 9.52 | D16: =ROUND(ESTIMATE!I484*0.125,2) -> 0 | E16: =ROUND(ESTIMATE!I890*0.125,2) -> 0 | F16: =SUM(C16:E16) -> 9.52 | G16: M2 | H16: 0 | I16: =ROUND(F16*0.9,2) -> 8.57 | J16: 0 | K16: 0 | L16: =ROUND(F16*0.45,2) -> 4.28 | M16: 0 | N16: 0 | O16: 0 | P16: 0 | Q16: 0 | R16: 0 | S16: =ROUND(F16*T16/50,2) -> 62.83 | T16: =ROUND(T14,2) -> 330 | U16: Kg
A17: 14 | B17: RCC Roof Slab 100mm th | C17: =ROUND(ESTIMATE!I111*0.1,2) -> 0 | D17: =ROUND(ESTIMATE!I489*0.1,2) -> 0 | E17: =ROUND(ESTIMATE!I895*0.1,2) -> 0 | F17: =SUM(C17:E17) -> 0 | G17: M2 | H17: 0 | I17: =ROUND(F17*0.9,2) -> 0 | J17: 0 | K17: 0 | L17: =ROUND(F17*0.45,2) -> 0 | M17: 0 | N17: 0 | O17: 0 | P17: 0 | Q17: 0 | R17: 0 | S17: =ROUND(F17*T17/50,2) -> 0 | T17: =T16 -> 330 | U17: Kg
A18: 9 | B18: Precasted slab 50mm | C18: =ROUND(ESTIMATE!I117*0.05,2) -> 0 | D18: =ROUND(ESTIMATE!I500*0.05,2) -> 0 | E18: =ROUND(ESTIMATE!I906*0.05,2) -> 0 | F18: =SUM(C18:E18) -> 0 | G18: M2 | H18: 0 | I18: =ROUND(F18*0.9,2) -> 0 | J18: 0 | K18: 0 | L18: =ROUND(F18*0.45,2) -> 0 | M18: 0 | N18: 0 | O18: 0 | P18: 0 | Q18: 0 | R18: 0 | S18: =ROUND(F18*T18/50,2) -> 0 | T18: =T17 -> 330 | U18: Kg
A19: 16 | B19: Precasted slab 25mm | C19: =ROUND(ESTIMATE!I128*0.025,2) -> 0 | D19: =ROUND(ESTIMATE!I511*0.025,2) -> 0 | E19: =ROUND(ESTIMATE!I917*0.025,2) -> 0 | F19: =SUM(C19:E19) -> 0 | G19: M2 | H19: 0 | I19: =ROUND(F19*0.9,2) -> 0 | J19: 0 | K19: 0 | L19: =ROUND(F19*0.45,2) -> 0 | M19: 0 | N19: 0 | O19: 0 | P19: 0 | Q19: 0 | R19: 0 | S19: =ROUND(F19*T19/50,2) -> 0 | T19: =T18 -> 330 | U19: Kg
A20: 9 | B20: RCC Lintels | C20: =ESTIMATE!I132 -> 1.11 | D20: =ESTIMATE!I516 -> 0 | E20: =ESTIMATE!I925 -> 0 | F20: =SUM(C20:E20) -> 1.11 | G20: M3 | H20: 0 | I20: =ROUND(F20*0.9,2) -> 1 | J20: 0 | K20: 0 | L20: =ROUND(F20*0.45,2) -> 0.5 | M20: 0 | N20: 0 | O20: 0 | P20: 0 | Q20: 0 | R20: 0 | S20: =ROUND(F20*T20/50,2) -> 7.33 | T20: =$T$10 -> 330 | U20: Kg
A21: 10 | B21: RCC Sunshades | C21: =ESTIMATE!I137 -> 12 | D21: =ESTIMATE!I520 -> 0 | E21: =ESTIMATE!I930 -> 0 | F21: =SUM(C21:E21) -> 12 | G21: RM | H21: 0 | I21: =ROUND(F21*0.0375*0.9,2) -> 0.41 | J21: 0 | K21: 0 | L21: =ROUND(F21*0.0375*0.45,2) -> 0.2 | M21: 0 | N21: 0 | O21: 0 | P21: 0 | Q21: 0 | R21: 0 | S21: =ROUND(F21*T21/50,2) -> 2.97 | T21: =T20*0.0375 -> 12.375 | U21: Kg
A22: 11 | B22: Acco Plaster'g CM (1:3) 12mm | C22: =ESTIMATE!I142 -> 76.13 | D22: =ESTIMATE!I526 -> 0 | E22: =ESTIMATE!I935 -> 0 | F22: =SUM(C22:E22) -> 76.13 | G22: M2 | H22: 0 | I22: 0 | J22: 0 | K22: 0 | L22: 0 | M22: 0 | N22: =ROUND(ROUND((0.015*1.05),3)*ROUND(F22,2),2) -> 1.22 | O22: 0 | P22: 0 | Q22: 0 | R22: 0 | S22: =ROUND(F22*T22/50,2) -> 10.96 | T22: 7.2 | U22: Kg
A23: 12 | B23: Acco Plaster'g CM (1:3) 20mm | C23: =ESTIMATE!I148 -> 0 | D23: =ESTIMATE!I532 -> 0 | E23: =ESTIMATE!I941 -> 0 | F23: =SUM(C23:E23) -> 0 | G23: M2 | H23: 0 | I23: 0 | J23: 0 | K23: 0 | L23: 0 | M23: 0 | N23: =ROUND(ROUND((0.021*1.05),3)*ROUND(F23,2),2) -> 0 | O23: 0 | P23: 0 | Q23: 0 | R23: 0 | S23: =ROUND(F23*T23/50,2) -> 0 | T23: 10.08 | U23: Kg
A24: 12 | B24: Rough stone | C24: =ESTIMATE!I153 -> 14.99 | F24: =SUM(C24:E24) -> 14.99 | G24: M3 | H24: 0 | I24: 0 | J24: 0 | K24: =ROUND(F24*1.1,2) -> 16.49 | L24: 0 | M24: =ROUND(F24*0.33,2) -> 4.95 | N24: 0 | O24: 0 | P24: 0 | R24: 0 | S24: =ROUND(F24*T24/50,2) -> 17.81 | T24: 59.4 | U24: Kg
A25: 13 | B25: BM CM (1:8) Super | C25: =ESTIMATE!I173 -> 21.12 | D25: =ESTIMATE!I544 -> 0 | E25: =ESTIMATE!I958 -> 0 | F25: =SUM(C25:E25) -> 21.12 | G25: M3 | H25: 0 | I25: 0 | J25: 0 | K25: 0 | L25: 0 | M25: =ROUND(F25*0.2,2) -> 4.22 | N25: 0 | O25: 0 | P25: 0 | Q25: =ROUND(F25*512/1000,2) -> 10.81 | R25: 0 | S25: =ROUND(F25*T25/50,2) -> 15.21 | T25: 36 | U25: Kg
A26: 15 | B26: BM CM (1:6) | C26: =ESTIMATE!I178 -> 0 | D26: =ESTIMATE!I569 -> 0 | E26: =ESTIMATE!I967 -> 0 | F26: =SUM(C26:E26) -> 0 | G26: M3 | H26: 0 | I26: 0 | J26: 0 | K26: 0 | L26: 0 | M26: =ROUND(F26*0.2,2) -> 0 | N26: 0 | O26: 0 | P26: 0 | Q26: =ROUND(F26*512/1000,2) -> 0 | R26: 0 | S26: =ROUND(F26*T26/50,2) -> 0 | T26: 48 | U26: Kg
A27: 16 | B27: BM CM (1:6) 115mm | C27: =ESTIMATE!I184 -> 0 | D27: =ESTIMATE!I596 -> 0 | E27: =ESTIMATE!I972 -> 0 | F27: =SUM(C27:E27) -> 0 | G27: M2 | H27: 0 | I27: 0 | J27: 0 | K27: 0 | L27: 0 | M27: =ROUND(F27*0.022,2) -> 0 | N27: 0 | O27: 0 | P27: 0 | Q27: =ROUND(F27*512*0.1/1000,2) -> 0 | R27: 0 | S27: =ROUND(F27*T27/50,2) -> 0 | T27: 10.6 | U27: Kg
A28: 16 | B28: Fly cement bricks | C28: =ESTIMATE!I192 -> 0 | D28: =ESTIMATE!I607 -> 0 | E28: =ESTIMATE!I983 -> 0 | F28: =SUM(C28:E28) -> 0 | G28: M3 | H28: 0 | I28: 0 | J28: 0 | K28: 0 | L28: 0 | M28: =ROUND(F28*0.1*1.05,2) -> 0 | N28: 0 | O28: 0 | P28: 0 | Q28: =ROUND(F28*110/1000,2) -> 0 | R28: 0 | S28: =ROUND(F28*T28/50,2) -> 0 | T28: 24 | U28: Kg
A29: 14 | B29: RCM drop wall | C29: =ESTIMATE!I196 -> 4.64 | D29: =ESTIMATE!I613 -> 0 | F29: =SUM(C29:E29) -> 4.64 | G29: M2 | H29: 0 | I29: 0 | J29: 0 | K29: 0 | L29: 0 | M29: 0 | N29: =ROUND(F29*((0.015*1.05)+(0.025*1.05)),2) -> 0.19 | O29: 0 | P29: 0 | Q29: 0 | R29: 0 | S29: =ROUND(F29*T29/50,2) -> 1.94 | T29: 20.89 | U29: Kg
A30: 15 | B30: Ceiling Plaster CM (1:3) 12mm | C30: =ESTIMATE!I205 -> 82.8 | D30: =ESTIMATE!I621 -> 0 | E30: =ESTIMATE!I993 -> 0 | F30: =SUM(C30:E30) -> 82.8 | G30: M2 | H30: 0 | I30: 0 | J30: 0 | K30: 0 | L30: 0 | M30: 0 | N30: =ROUND(F30*0.015*1.05,2) -> 1.3 | O30: 0 | P30: 0 | Q30: 0 | R30: 0 | S30: =ROUND(F30*T30/50,2) -> 11.92 | T30: 7.2 | U30: Kg
A31: 4 | B31: Plaster'ing CM (1:5) 12mm th | C31: =ESTIMATE!I221 -> 0 | D31: =ESTIMATE!I631 -> 0 | E31: =ESTIMATE!I1034 -> 0 | F31: =SUM(C31:E31) -> 0 | G31: M2 | H31: 0 | I31: 0 | J31: 0 | K31: 0 | L31: 0 | M31: 0 | N31: =ROUND(ROUND((0.015*1.05),3)*ROUND(F31,2),2) -> 0 | O31: 0 | P31: 0 | Q31: 0 | R31: 0 | S31: =ROUND(F31*T31/50,2) -> 0 | T31: 4.32 | U31: Kg
A32: 5 | B32: Plaster'ing 20mm thick single | C32: =ESTIMATE!I226 -> 0 | D32: =ESTIMATE!I639 -> 0 | E32: =ESTIMATE!I1039 -> 0 | F32: =SUM(C32:E32) -> 0 | G32: M2 | H32: 0 | I32: 0 | J32: 0 | K32: 0 | L32: 0 | M32: 0 | N32: =ROUND(ROUND((0.021*1.05),3)*ROUND(F32,2),2) -> 0 | O32: 0 | P32: 0 | Q32: 0 | R32: 0 | S32: =ROUND(F32*T32/50,2) -> 0 | T32: 6.05 | U32: Kg
A33: 16 | B33: Plaster'ing 12mm thick double | C33: =ESTIMATE!I235 -> 94.96 | D33: =ESTIMATE!I664 -> 0 | E33: =ESTIMATE!I1046 -> 0 | F33: =SUM(C33:E33) -> 94.96 | G33: M2 | H33: 0 | I33: 0 | J33: 0 | K33: 0 | L33: 0 | M33: 0 | N33: =ROUND(F33*0.015*1,2) -> 1.42 | O33: 0 | P33: 0 | Q33: 0 | R33: 0 | S33: =ROUND(F33*T33/50,2) -> 9.67 | T33: 5.09 | U33: Kg
A34: 17 | B34: Plaster'ing 20mm thick double | C34: =ESTIMATE!I245 -> 152.13 | D34: =ESTIMATE!I672 -> 0 | E34: =ESTIMATE!I1055 -> 0 | F34: =SUM(C34:E34) -> 152.13 | G34: M2 | H34: 0 | I34: 0 | J34: 0 | K34: 0 | L34: 0 | M34: 0 | N34: =ROUND(F34*0.022*1,2) -> 3.35 | O34: 0 | P34: 0 | Q34: 0 | R34: 0 | S34: =ROUND(F34*T34/50,2) -> 17.49 | T34: 5.75 | U34: Kg
A35: 2 | B35: CC Steps | C35: =ESTIMATE!I262 -> 0 | D35: =ESTIMATE!I678 -> 0 | E35: =ESTIMATE!I1061 -> 0 | F35: =SUM(C35:E35) -> 0 | G35: M3 | H35: 0 | I35: =ROUND(F35*0.8,2) -> 0 | J35: 0 | K35: 0 | L35: =ROUND(F35*0.4,2) -> 0 | M35: 0 | N35: 0 | O35: 0 | P35: 0 | Q35: 0 | R35: 0 | S35: =ROUND(F35*T35/50,2) -> 0 | T35: =$T$10 -> 330 | U35: Kg
A36: 18 | B36: Flooring Vetrified Tiles | C36: =ESTIMATE!I268 -> 58.95 | D36: =ESTIMATE!I686 -> 0 | E36: =ESTIMATE!I1071 -> 0 | F36: =SUM(C36:E36) -> 58.95 | G36: M2 | H36: 0 | I36: 0 | J36: 0 | K36: 0 | L36: 0 | M36: =ROUND(F36*0.014,2) -> 0.83 | N36: 0 | O36: 0 | P36: 0 | Q36: 0 | R36: 0 | S36: =ROUND(F36*T36/50,2) -> 7.14 | T36: 6.06 | U36: Kg
A37: 19 | B37: Skirting Vetrified Tiles | C37: =ESTIMATE!I277 -> 6.57 | D37: =ESTIMATE!I701 -> 0 | E37: =ESTIMATE!I1080 -> 0 | F37: =SUM(C37:E37) -> 6.57 | G37: M2 | H37: 0 | I37: 0 | J37: 0 | K37: 0 | L37: 0 | M37: =ROUND(F37*0.012,2) -> 0.08 | N37: 0 | O37: 0 | P37: 0 | Q37: 0 | R37: 0 | S37: =ROUND(F37*T37/50,2) -> 0.89 | T37: 6.756 | U37: Kg
A38: 7 | B38: Flooring Granite stone | C38: =ESTIMATE!I284 -> 0 | D38: =ESTIMATE!I708 -> 0 | E38: =ESTIMATE!I1091 -> 0 | F38: =SUM(C38:E38) -> 0 | G38: M2 | H38: 0 | I38: 0 | J38: 0 | K38: 0 | L38: 0 | M38: =ROUND(F38*0.014,2) -> 0 | N38: 0 | O38: 0 | P38: 0 | Q38: 0 | R38: 0 | S38: =ROUND(F38*T38/50,2) -> 0 | T38: 7.5 | U38: Kg
A39: 8 | B39: Skirting Granite stone | C39: =ESTIMATE!I291 -> 0 | D39: =ESTIMATE!I714 -> 0 | E39: =ESTIMATE!I1100 -> 0 | F39: =SUM(C39:E39) -> 0 | G39: M2 | H39: 0 | I39: 0 | J39: 0 | K39: 0 | L39: 0 | M39: =ROUND(F39*0.012,2) -> 0 | N39: 0 | O39: 0 | P39: 0 | Q39: 0 | R39: 0 | S39: =ROUND(F39*T39/50,2) -> 0 | T39: 9.06 | U39: Kg
A40: 37 | B40: Flooring Terrazo tiles | C40: =ESTIMATE!I311 -> 0 | D40: =ESTIMATE!I729 -> 0 | E40: =ESTIMATE!I1115 -> 0 | F40: =SUM(C40:E40) -> 0 | G40: M2 | H40: 0 | I40: 0 | J40: 0 | K40: 0 | L40: 0 | M40: =ROUND(F40*0.014,2) -> 0 | N40: 0 | O40: 0 | P40: 0 | Q40: 0 | R40: 0 | S40: =ROUND(F40*T40/50,2) -> 0 | T40: 7.5 | U40: Kg
...

Sheet lead 25-26
A1: LEAD STATEMENT (2025-26)
B2: Name of the Work: | C2: Construction of Community Hall at Chakirala village and GP of Kanigiri Mandal.
M3: Sand | N3: 75
J4: Est. Rs. | K4: 20.00 Lakhs | M4: Metal | N4: 54
A5: Sl. No. | B5: Description | C5: unit | D5: Quarry | E5: Lead in KM | F5: Convey-ance Charges | G5: Initial Cost | H5: Blasting charges | I5: Crushing charges | J5: Loading charges | K5: unloading charges | L5: Total | M5: Brick | N5: 40
M6: Tiles | N6: 76
A7: 1 | B7: 2 | C7: 3 | D7: 4 | E7: 5 | F7: 6 | G7: 7 | H7: 8 | I7: 9 | J7: 10 | K7: 11 | L7: 13
A8: 1 | B8: Cement | C8: MT | D8: Local | E8: - | F8: 0 | G8: 4218.8 | L8: =SUM(F8:K8) -> 4218.8
A9: 2 | B9: Steel Fe 500 | C9: MT | D9: Local | E9: - | F9: 0 | G9: ='MINI SSR 2025-26'!C5 -> 60000 | L9: =SUM(F9:K9) -> 60000
A10: 2 | B10: Steel Fe 415 | C10: MT | D10: Local | E10: - | F10: 0 | G10: 58000 | L10: =SUM(F10:K10) -> 58000
A11: 3 | B11: MS Flats | C11: MT | D11: Local | G11: ='MINI SSR 2025-26'!C7 -> 61000 | L11: =SUM(F11:K11) -> 61000
A12: 5 | B12: 6mm Ms roads | C12: MT | D12: Local | G12: ='MINI SSR 2025-26'!C8 -> 57000 | L12: =SUM(F12:K12) -> 57000
A13: 3 | B13: Sand for Mortar (screened) | C13: Cum | D13: K.Bitragunta | E13: =N3 -> 75 | F13: =VLOOKUP(E13,'convey 25-26'!A6:F305,2,FALSE) -> 1068.4 | G13: ='MINI SSR 2025-26'!C9 -> 128 | L13: =SUM(F13:K13) -> 1196.4
A14: 4 | B14: Sand for Mortar (concrete) | C14: Cum | D14: =D13 -> K.Bitragunta | E14: =E13 -> 75 | F14: =VLOOKUP(E14,'convey 25-26'!A6:F306,2,FALSE) -> 1068.4 | G14: ='MINI SSR 2025-26'!C10 -> 0 | L14: =SUM(F14:K14) -> 1068.4
A15: 5 | B15: Sand for Filling | C15: Cum | D15: Local | E15: 5 | F15: =VLOOKUP(E15,'convey 25-26'!A6:F307,2,FALSE) -> 103 | G15: ='MINI SSR 2025-26'!C11 -> 0 | L15: =SUM(F15:K15) -> 103
A16: 6 | B16: Common burnt clay bricks of class | C16: 1000 nos | D16: Motravulapadu | E16: =N5 -> 40 | F16: =VLOOKUP(E16,'convey 25-26'!A6:F308,4,FALSE) -> 988.77 | G16: ='MINI SSR 2025-26'!C12 -> 8548 | J16: ='MINI SSR 2025-26'!D12 -> 80.2 | K16: ='MINI SSR 2025-26'!E12 -> 80.2 | L16: =SUM(F16:K16) -> 9697.17
A17: 7 | B17: 40mm HBG metal SS-5 | C17: Cum | D17: Ramatherdham | E17: =N4 -> 54 | F17: =VLOOKUP(E17,'convey 25-26'!A6:F309,3,FALSE) -> 766.25 | G17: ='MINI SSR 2025-26'!C13 -> 770 | H17: 80 | I17: =ROUND(G17*0.25,2) -> 192.5 | L17: =SUM(F17:K17) -> 1808.75
A18: 8 | B18: 20mm HBG metal SS-5 | C18: Cum | D18: =D17 -> Ramatherdham | E18: =E17 -> 54 | F18: =VLOOKUP(E18,'convey 25-26'!A6:F310,3,FALSE) -> 766.25 | G18: ='MINI SSR 2025-26'!C14 -> 1285 | H18: 80 | I18: =ROUND(G18*0.25,2) -> 321.25 | L18: =SUM(F18:K18) -> 2452.5
A19: 12 | B19: 12mm HBG metal SS-5 | C19: Cum | D19: =D18 -> Ramatherdham | E19: =E18 -> 54 | F19: =VLOOKUP(E19,'convey 25-26'!A6:F311,3,FALSE) -> 766.25 | G19: ='MINI SSR 2025-26'!C15 -> 1024 | H19: 70 | I19: =ROUND(G19*0.25,2) -> 256 | L19: =SUM(F19:K19) -> 2116.25
A20: 13 | B20: 10mm HBG metal SS-5 | C20: Cum | D20: =D19 -> Ramatherdham | E20: =E19 -> 54 | F20: =VLOOKUP(E20,'convey 25-26'!A6:F312,3,FALSE) -> 766.25 | G20: ='MINI SSR 2025-26'!C16 -> 860 | H20: 70 | I20: =ROUND(G20*0.25,2) -> 215 | L20: =SUM(F20:K20) -> 1911.25
A21: 14 | B21: 6mm HBG metal SS-5 | C21: Cum | D21: =D20 -> Ramatherdham | E21: =E20 -> 54 | F21: =VLOOKUP(E21,'convey 25-26'!A6:F313,3,FALSE) -> 766.25 | G21: ='MINI SSR 2025-26'!C17 -> 684 | H21: 70 | I21: =ROUND(G21*0.25,2) -> 171 | L21: =SUM(F21:K21) -> 1691.25
A22: 9 | B22: Rough stone MAT-00302 | C22: Cum | D22: Kanigiri | E22: 6 | F22: =VLOOKUP(E22,'convey 25-26'!A6:F314,3,FALSE) -> 113.69 | G22: ='MINI SSR 2025-26'!C18 -> 322 | H22: 80 | L22: =SUM(F22:K22) -> 515.69
A23: 9 | B23: High Polished Granite 16 to 18 mm | C23: Sqm | D23: =D21 -> Ramatherdham | E23: =E21 -> 54 | F23: =VLOOKUP(E23,'convey 25-26'!A6:F315,5,FALSE)*0.16 -> 180.2752 | G23: ='MINI SSR 2025-26'!C19 -> 2000 | L23: =SUM(F23:K23) -> 2180.2752
A24: 5 | B24: Pressed type tiles | D24: Ongole | E24: =N6 -> 76 | F24: =VLOOKUP(E24,'convey 25-26'!A7:F316,5,FALSE) -> 1526.46 | G24: ='MINI SSR 2025-26'!C24 -> 31000 | L24: =SUM(F24:K24) -> 32526.46
A25: 10 | B25: Selected earth | C25: Cum | D25: Local | E25: 5 | F25: =VLOOKUP(E25,'convey 25-26'!A6:F317,2,FALSE) -> 103 | G25: ='MINI SSR 2025-26'!C25 -> 145 | L25: =SUM(F25:K25) -> 248
A26: 19 | B26: Gravel | C26: Cum | D26: Local | E26: 5 | F26: =VLOOKUP(E26,'convey 25-26'!A6:F318,2,FALSE) -> 103 | G26: ='MINI SSR 2025-26'!C26 -> 169 | L26: =SUM(F26:K26) -> 272
A29: 1) | B29: Certified that the above leads are correct to the best of my knowledge.
A30: 2) | B30: Certified that the rates are provided as per SSR 2025-26
H32: Deputy Executive Engineer | K32: Assistant Engineer
H33: PRI Sub Division | K33: Mandal Praja parishad
H34: Kanigiri | K34: Kanigiri

Sheet DATA 2025-26
A1: DATA SHEET (2025-26)
A2: ='lead 25-26'!B2&'lead 25-26'!C2 -> Name of the Work: Construction of Community Hall at Chakirala village and GP of Kanigiri Mandal.
E3: Est.Rs. | F3: ='lead 25-26'!K4 -> 20.00 Lakhs | H3: 0.13615
A5: S No | B5: Index Code | C5: Description of the Work | D5: Unit | E5: Quantity | F5: Rate | G5: Amount
A6: 1 | B6: BLD-CSTN -1-4 | C6: Cement Mortar (1:3) | K6: F 212 | L6: 1st Class Barbender | M6: 625 | N6: Day
C7: Cost of Cement | D7: Kg | E7: =1440/3 -> 480 | F7: ='lead 25-26'!$L$8 -> 4218.8 | G7: =ROUND(E7*F7/1000,2) -> 2025.02 | K7: F 435 | L7: 1st Class Carpenter, 1st Class Painter | M7: 580 | N7: Day
C8: Sand for Plastering including 5% wastage | D8: cum | E8: 1.05 | F8: ='lead 25-26'!$L$13 -> 1196.4 | G8: =ROUND(E8*F8,2) -> 1256.22 | K8: F 627 | L8: Skilled Electrician | M8: 575 | N8: Day
C9: Man Mazdoor for mixing mortar | D9: day | E9: 0.2 | F9: ='MINI SSR 2025-26'!$H$5 -> 615 | G9: =ROUND(E9*F9,2) -> 123 | K9: F 70 | L9: 1st Class Mason, Brick Layer | M9: 500 | N9: Day
G10: =SUM(G7:G9) -> 3404.24 | K10: F 93 | L10: 2nd Class Mason, 2nd Brick Layer, 2nd Carpentor, 2nd Class Painter | M10: 460 | N10: Day
A11: 2 | B11: BLD-CSTN -1-5 | C11: Cement Mortar (1:4) | K11: F 628 | L11: Mate, Semi Skilled Electrician | M11: 471 | N11: Day
C12: Cost of Cement | D12: Kg | E12: =1440/4 -> 360 | F12: ='lead 25-26'!$L$8 -> 4218.8 | G12: =ROUND(E12*F12/1000,2) -> 1518.77 | K12: F 12 | L12: Man / Women Mazdoor | M12: 420 | N12: Day
C13: Sand for Plastering including 5% wastage | D13: cum | E13: 1.05 | F13: ='lead 25-26'!$L$13 -> 1196.4 | G13: =ROUND(E13*F13,2) -> 1256.22 | K13: F 629 | L13: Helper | M13: 471 | N13: Day
C14: Man Mazdoor for mixing mortar | D14: day | E14: 0.2 | F14: ='MINI SSR 2025-26'!$H$5 -> 615 | G14: =ROUND(E14*F14,2) -> 123 | K14: F 66 | L14: Water Charges Rs 107-00 in Urban Area and in Rural Area | M14: 80 | N14: 1 KLt
G15: =SUM(G12:G14) -> 2897.99 | K15: F 68 | L15: Concrete Mixer 0.28 Cum | M15: 524.7 | N15: Hour
A16: 2 | B16: BLD-CSTN -1-6 | C16: Cement Mortar (1:5) | K16: F 97 | L16: Needle Vibrator 40mm (Petrole) | M16: 209.1 | N16: Hour
C17: Cost of Cement | D17: Kg | E17: =1440/5 -> 288 | F17: ='lead 25-26'!$L$8 -> 4218.8 | G17: =ROUND(E17*F17/1000,2) -> 1215.01 | K17: F 210 | L17: Binding wire | M17: 55 | N17: Kg
C18: Sand for Plastering including 5% wastage | D18: cum | E18: 1.05 | F18: ='lead 25-26'!$L$13 -> 1196.4 | G18: =ROUND(E18*F18,2) -> 1256.22
C19: Man Mazdoor for mixing mortar | D19: day | E19: 0.2 | F19: ='MINI SSR 2025-26'!$H$5 -> 615 | G19: =ROUND(E19*F19,2) -> 123
G20: =SUM(G17:G19) -> 2594.23
A21: 4 | B21: BLD-CSTN -1-7 | C21: Cement Mortar (1:6)
C22: Cost of Cement | D22: Kg | E22: =1440/6 -> 240 | F22: ='lead 25-26'!$L$8 -> 4218.8 | G22: =ROUND(E22*F22/1000,2) -> 1012.51
C23: Sand for Mortar including 5% wastage | D23: cum | E23: 1.05 | F23: ='lead 25-26'!$L$13 -> 1196.4 | G23: =ROUND(E23*F23,2) -> 1256.22
C24: Man Mazdoor for mixing mortar | D24: day | E24: 0.2 | F24: ='MINI SSR 2025-26'!$H$5 -> 615 | G24: =ROUND(E24*F24,2) -> 123
G25: =SUM(G22:G24) -> 2391.73
A26: 5 | B26: BLD-CSTN -1-8 | C26: Cement Mortar (1:8)
C27: Cost of Cement | D27: Kg | E27: =1440/8 -> 180 | F27: ='lead 25-26'!$L$8 -> 4218.8 | G27: =ROUND(E27*F27/1000,2) -> 759.38
C28: Sand for Mortar including 5% wastage | D28: cum | E28: 1.05 | F28: ='lead 25-26'!$L$13 -> 1196.4 | G28: =ROUND(E28*F28,2) -> 1256.22
C29: Man Mazdoor for mixing mortar | D29: day | E29: 0.2 | F29: ='MINI SSR 2025-26'!$H$5 -> 615 | G29: =ROUND(E29*F29,2) -> 123
G30: =SUM(G27:G29) -> 2138.6
A31: 3 | C31: 20 mm GRADED METAL( CW 07 20 mm(48%) and 12 mm(12%)10 mm(12%) 6 mm(8)% (34822))
C32: 20 mm HBG metal(SS 5) | D32: 0.6 | E32: ='lead 25-26'!L18 -> 2452.5 | F32: =ROUND(D32*E32,2) -> 1471.5
C33: 12 mm HBG metal(SS 5) | D33: 0.15 | E33: ='lead 25-26'!L19 -> 2116.25 | F33: =ROUND(D33*E33,2) -> 317.44
C34: 10 mm HBG metal(SS 5) | D34: 0.15 | E34: ='lead 25-26'!L20 -> 1911.25 | F34: =ROUND(D34*E34,2) -> 286.69
C35: 6 mm HBG metal(SS 5) | D35: 0.1 | E35: ='lead 25-26'!L21 -> 1691.25 | F35: =ROUND(D35*E35,2) -> 169.13
C36: Rate per Cum | F36: =SUM(F32:F35) -> 2244.76
A37: 6 | C37: Clearing light jungle including up-rooting and removing of Juliflora stumps.
C38: Unit = Cum
C39: RSSR 19-20
C40: Unskilled Labour Charges | G40: ='MINI SSR 2025-26'!H25 -> 6.06
C41: Rate per 1 Cum | G41: =SUM(G40) -> 6.06
...

Sheet sani data 2024-25
B1: DATA SHEET (2024-25) (WATER AND SANITATION ITEMS)
A2: Index-code | B2: S No | C2: Description | D2: Unit | E2: Qty | F2: Rate Rs. | G2: Amount Rs.
B3: 1 | C3: 2 | D3: 3 | E3: 4 | F3: 5 | G3: 6
B4: 1 | C4: Supplying and Fixing European Water Closet of 1st quality make white glazed with 'P' trap with low down porcelain flushing tank 10 Lit Capacity internal components and Fixing best Indian make plastic seat and lid for European water closets with rubber or plastic Buffers including all labour charges for fixing etc., complete.
C5: European Water Closet of 1st quality BMW-D.13 | D5: No | E5: 1 | F5: ='MINI SSR 2025-26'!C66 -> 1995 | G5: =ROUND(E5*F5,2) -> 1995
C6: Flushing Tank 10 Lit capacity BMW-D.11 | D6: No | E6: 1 | F6: ='MINI SSR 2025-26'!C67 -> 2488 | G6: =ROUND(E6*F6,2) -> 2488
C7: plastic seat and lid BMW-D.16 | D7: No | E7: 1 | F7: ='MINI SSR 2025-26'!C68 -> 857 | G7: =ROUND(E7*F7,2) -> 857
G8: =SUM(G5:G7) -> 5340
C9: Contract profit @ 13.615% | G9: 0
G10: =SUM(G8:G9) -> 5340
B11: 2 | C11: Supplying & Fixing Indian pattern white glazed W.C 1st quality ISI marked conforming to IS:2556-Part-3-1981 with"P" or "S" trap: 630 mm Long
C12: Initial cost BMW-D.02 | D12: No | E12: 1 | F12: ='MINI SSR 2025-26'!C69 -> 1045 | G12: =ROUND(E12*F12,2) -> 1045
G13: =SUM(G12) -> 1045
B14: 3 | C14: Supplying & Fixing white glazed flat back half stall urinals 1st quality conforming to IS:2556-1995 with standard C.P. Spreader of overall size 95 x 95 x 57 mm conforming to IS:2556-Part6, Sec-6-1974 fixed with screws complete Indian make : 410 x 265 x 305 mm
C15: Initial cost BMW-D.34 | D15: No | E15: 1 | F15: ='MINI SSR 2025-26'!C70 -> 2666 | G15: =ROUND(E15*F15,2) -> 2666
G16: =SUM(G15) -> 2666
B17: 2 | C17: Supplying and fixing Indian make Flat Back Wash Hand Basin (HSW/Parryware/ Neycer) 1st quality conforming to IS:2556-Part-4:1972 of size 450mm x 300mm with 32 mm nominal size C.P. Fitting with parallel pipe thread onforming to IS:2963-1979 and fitted with 15 mm nominal bore Chromium Plated Pillar Tap of 1st quality Indian make 400 grams Seiko/Senior/Nice or equivalent complete with tandard CI brackets including wooden blocks ,1 No.12.70mm PVC connection with brass union nuts CP oated , 1 No.12.70mm NP bib tap 400 gms Seiko or equivalent , 31.75mm dia. PVC flexible waste pipe 914.4mm length of 1st quality including cost and onveyance of all materials to site, labour charges , overheads & contractors profit for finished item of work
C18: Cost of wash hand basin SSR BMW-D.26 S.No.158 | D18: No | E18: 1 | F18: ='MINI SSR 2025-26'!C71 -> 1532 | G18: =ROUND(E18*F18,2) -> 1532
C19: 12.70mm NP bib tap (400gms) BMW-E.07 | D19: No | E19: 1 | F19: ='MINI SSR 2025-26'!C72 -> 391 | G19: =ROUND(E19*F19,2) -> 391
C20: 12.70mm dia PVC connection with brass union nuts BMW-I.48 | D20: No | E20: 1 | F20: ='MINI SSR 2025-26'!C73 -> 96 | G20: =ROUND(E20*F20,2) -> 96
C21: 31.75mm dia. PVC flexible waste pipe BMW-G.05 | D21: No | E21: 1 | F21: ='MINI SSR 2025-26'!C74 -> 25 | G21: =ROUND(E21*F21,2) -> 25
G22: =SUM(G18:G21) -> 2044
C23: Contract profit @ 13.615% | G23: 0
G24: =SUM(G22:G23) -> 2044
B25: 5 | C25: Supplying and fixing of3" (76.2 mm ) Nahany Trap with Jali - UPVC/SWR Pipe fittings as per site requirements with standard practice for all floors including cost and conveyance of all materials to site, labour charges , overheads & contractors profit etc., complete for finished item of work.
C26: Initial cost BMW-G.118 | D26: No | E26: 1 | F26: ='MINI SSR 2025-26'!C75 -> 94 | G26: =ROUND(E26*F26,2) -> 94
C27: Nahany trap cover BMW-I.12 | D27: No | E27: 1 | F27: ='MINI SSR 2025-26'!C76 -> 33 | G27: =ROUND(E27*F27,2) -> 33
G28: =SUM(G26:G27) -> 127
C29: Contract profit @ 13.615% | G29: 0
G30: =SUM(G28:G29) -> 127
B31: 6 | C31: Supplying and fixing 4" (101.6 mm ) Floor Trap - UPVC/SWR Pipe fittings 1st quality ISI marked conforming to IS:1729-1979 with C.P. Grating fixing with hite cement as per site requirements with standard practice for all floors ncluding cost and conveyance of all materials to site, labour charges etc., complete for finished item of work.
C32: Initial cost BMW-G.125 | D32: No | E32: 1 | F32: ='MINI SSR 2025-26'!C77 -> 130 | G32: =ROUND(E32*F32,2) -> 130
C33: Contract profit @ 13.615% | G33: 0
G34: =SUM(G32:G33) -> 130
B35: 3 | C35: Prince/ Sudhakar make or equivalent quality PVC /SWR pipes & fittings ( as per ISI standards) 4kg/cm2 110mm dia. double socket
C36: Taking out put = 3Mts
C37: 110mm dia pipe BMW-G.13 | D37: Rm | E37: 1 | F37: ='MINI SSR 2025-26'!C78 -> 451 | G37: =ROUND(E37*F37,2) -> 451
C38: Contract profit @ 13.615% | G38: 0
C39: Rate per 3Mts | G39: =SUM(G37:G38) -> 451
C40: Rate per 1Mts | G40: =G39/3 -> 150.33333
...

Sheet Ele Data 2025-26
A1: DATA (SSR-2025-26) (Electrification) | J1: ='DATA 2025-26'!H3 -> 0.13615
A2: Index-code | B2: S No | C2: Description | D2: Quantity | F2: Unite | H2: Rate Rs. | I2: Amount Rs.
A3: 1 | B3: 2 | C3: 3 | D3: 4 | F3: 5 | H3: 6 | I3: 7
A4: Ele 1.4.2 (b) | B4: 1 | C4: Supply and Fixing of 25mm dia 1.8mm thick PVC pipe (ISI MARK) concealed in Roof Slabs with all required accessories including masonary work and labour charges etc., complete.
C5: Taking Output = 100 M
C6: a) Labour charges :
C7: Skilled Electrician | D7: 2 | E7: day | F7: 1 | G7: day | H7: ='MINI SSR 2025-26'!$H$16 -> 815 | I7: =ROUND(((D7*H7)/F7),2) -> 1630
C8: Semi Skilled Electrician | D8: 2 | E8: day | F8: 1 | G8: day | H8: ='MINI SSR 2025-26'!$H$17 -> 665 | I8: =ROUND(((D8*H8)/F8),2) -> 1330
C9: Helper (Electrical) | D9: 2 | E9: day | F9: 1 | G9: day | H9: ='MINI SSR 2025-26'!$H$5 -> 615 | I9: =ROUND(((D9*H9)/F9),2) -> 1230
C10: b) Material
A11: ELEC-1.2.6 b | C11: 25mm dia 1,2,3 & 4 way deep Junction Box | D11: 12 | E11: Nos | F11: 1 | G11: No | H11: ='MINI SSR 2025-26'!C100 -> 28 | I11: =ROUND(((D11*H11)/F11),2) -> 336
A12: ELEC-1.2.8 b | C12: 25mm PVC bends | D12: 12 | E12: Nos | F12: 1 | G12: No | H12: ='MINI SSR 2025-26'!C101 -> 12 | I12: =ROUND(((D12*H12)/F12),2) -> 144
A13: ELEC-1.2.2 b | C13: 25mm dia 1.8mm thick PVC pipe | D13: 100 | E13: Mtr | F13: 1 | G13: Mtr | H13: ='MINI SSR 2025-26'!C102 -> 36 | I13: =ROUND(((D13*H13)/F13),2) -> 3600
I14: =SUM(I7:I13) -> 8270
C15: Contract Profit @ 13.615% | I15: =ROUND(I14*$J$1,2) -> 1125.96
C16: Material Rate for 100 Mtrs | I16: =SUM(I14:I15) -> 9395.96
C17: Material Rate for 1 Mtr | I17: =ROUND(I16/100,2) -> 93.96
A18: Ele 1.4.2 (a) | B18: 2 | C18: Supply and Fixing of 25mm dia 1.8mm thick PVC pipe (ISI MARK) concealed in wall with all required accessories including masonary work and labour charges etc., complete.
C19: Taking Output = 100 M
C20: a) Labour charges :
C21: Skilled Electrician | D21: 2 | E21: day | F21: 1 | G21: day | H21: ='MINI SSR 2025-26'!$H$16 -> 815 | I21: =ROUND(((D21*H21)/F21),2) -> 1630
C22: Semi Skilled Electrician | D22: 2 | E22: day | F22: 1 | G22: day | H22: ='MINI SSR 2025-26'!$H$17 -> 665 | I22: =ROUND(((D22*H22)/F22),2) -> 1330
C23: Helper (Electrical) | D23: 2 | E23: day | F23: 1 | G23: day | H23: ='MINI SSR 2025-26'!$H$5 -> 615 | I23: =ROUND(((D23*H23)/F23),2) -> 1230
C24: Mason Ist class | D24: 2 | E24: day | F24: 1 | G24: day | H24: ='MINI SSR 2025-26'!H3 -> 735 | I24: =ROUND(((D24*H24)/F24),2) -> 1470
C25: b) Material
A26: ELEC-1.2.2 b | C26: 25mm dia 1.8mm thick PVC pipe | D26: 100 | E26: Nos | F26: 1 | G26: No | H26: ='MINI SSR 2025-26'!C102 -> 36 | I26: =ROUND(((D26*H26)/F26),2) -> 3600
A27: ELEC-8.1.4 | C27: U' Links | D27: 200 | E27: Nos | F27: 100 | G27: No | H27: ='MINI SSR 2025-26'!C103 -> 39 | I27: =ROUND(((D27*H27)/F27),2) -> 78
A28: ELEC-1.2.6 b | C28: 25mm dia 1,2,3 & 4 way deep Junction Box | D28: 12 | E28: Nos | F28: 1 | G28: No | H28: ='MINI SSR 2025-26'!C100 -> 28 | I28: =ROUND(((D28*H28)/F28),2) -> 336
A29: ELEC-1.2.8 b | C29: 25mm PVC bends | D29: 12 | E29: Nos | F29: 1 | G29: No | H29: ='MINI SSR 2025-26'!C101 -> 12 | I29: =ROUND(((D29*H29)/F29),2) -> 144
C30: Cement | D30: 50 | E30: Kg | F30: 1 | G30: Kg | H30: ='lead 25-26'!L8/1000 -> 4.2188 | I30: =ROUND(((D30*H30)/F30),2) -> 210.94
I31: =SUM(I21:I30) -> 10028.94
C32: Contract Profit @ 13.615% | I32: =ROUND(I31*$J$1,2) -> 1365.44
C33: Material Rate for 100 Mtrs | I33: =SUM(I31:I32) -> 11394.38
C34: Material Rate for 1 Mtr | I34: =ROUND(I33/100,2) -> 113.94
B36: 3 | C36: Labour charges for Grooves 2-3mm thick for PVC pipes
C37: Initial cost BMM-V.51 | D37: 1 | E37: Rm | F37: 1 | G37: Rm | H37: ='MINI SSR 2025-26'!C104 -> 78 | I37: =ROUND(((D37*H37)/F37),2) -> 78
I38: =SUM(I37) -> 78
B39: 3 | C39: Supply of Hot Dip galvanized 20/18 SWG Module box with earthing terminal for 12 Module box
C40: Initial cost ELEC-1.3.1 f | D40: 1 | E40: Nos | F40: 1 | G40: Nos | H40: ='MINI SSR 2025-26'!C106 -> 245 | I40: =ROUND(((D40*H40)/F40),2) -> 245
C41: Contract Profit @ 13.615% | I41: =ROUND(I40*$J$1,2) -> 33.36
...

Sheet doors 2025-26
A1: DATA SHEET (2025-26)
A2: ='lead 25-26'!B2&'lead 25-26'!C2 -> Name of the Work: Construction of Community Hall at Chakirala village and GP of Kanigiri Mandal.
E3: Est.Rs. | F3: ='lead 25-26'!K4 -> 20.00 Lakhs | I3: ='DATA 2025-26'!H3 -> 0.13615
A5: S No | B5: Index Code | C5: Description of the Work | D5: Unit | E5: Quantity | F5: Rate | H5: Amount
A6: 1 | C6: Supplying and fixing of Door of size 1.20X2.10M with two panels Frame made with sald wood fixing with Z hold fast including c/c of all materials and furniture fittings etc complete as per specification (APSS No 1001 & 1002) Door Frame only
C7: Vertical posts | D7: 2 | E7: 1.95 | F7: 0.1 | G7: 0.075 | H7: =ROUND(D7*E7*F7*G7,4) -> 0.0293
C8: Horizontal Top & Bottom | D8: 2 | E8: 1.2 | F8: 0.1 | G8: 0.075 | H8: =ROUND(D8*E8*F8*G8,4) -> 0.018
H9: =SUM(H7:H8) -> 0.0473
B10: BMT-E.15 | C10: Sal Wood for Scantlings/Frames | E10: cum | F10: =H9 -> 0.0473 | G10: ='MINI SSR 2025-26'!$C$144 -> 55780 | H10: =ROUND(F10*G10,2) -> 2638.39
B11: BMS-W.69 | C11: MS Z Hold fasts 300mm Long | E11: No's | F11: 6 | G11: ='MINI SSR 2025-26'!$G$152 -> 43 | H11: =ROUND(F11*G11,2) -> 258
C12: B. Labour
B13: BMM-V.38 | C13: wrought & Putup Labour charges 1/3 | E13: Sqm | F13: =ROUND(1.2*2.1,2) -> 2.52 | G13: ='MINI SSR 2025-26'!$C$150 -> 2083 | H13: =ROUND(F13*G13,2)*1/3 -> 1749.72
C14: Contract Profit @ 13.615% | H14: 0
H15: =SUM(H10:H14) -> 4646.11
A16: 1 | C16: Supplying and fixing of Door of size 1.20X2.10M with two panels of Shutter made with Sal wood including brass tower bolts, handle and butt hinges with all furniture fittings including c/c of all materials and furniture fittings etc complete as per specification (APSS No 1001 & 1002) Door Shutters
C17: Shutters : Sal Wood | D17: 2 | E17: =2.1-0.15 -> 1.95 | F17: =ROUND(((1.2-0.15+0.02))/2,2) -> 0.54 | G17: 0.03 | H17: =ROUND(D17*E17*F17*G17,4) -> 0.0632
H18: =SUM(H17) -> 0.0632
B19: BMT-E.16 | C19: Sal Wood for Planks/Shutters | E19: cum | F19: =H18 -> 0.0632 | G19: ='MINI SSR 2025-26'!$C$145 -> 79384 | H19: =ROUND(F19*G19,2) -> 5017.07
B20: BMT-G.08 | C20: 150mm Alluminium tower bolts | E20: No's | F20: 2 | G20: ='MINI SSR 2025-26'!$G$143 -> 95 | H20: =ROUND(F20*G20,2) -> 190
B21: BMT-G.25 | C21: Butt Hinges 125mm Alluminiu | E21: No's | F21: 3 | G21: ='MINI SSR 2025-26'!$G$146 -> 142 | H21: =ROUND(F21*G21,2) -> 426
B22: BMT-G.34 | C22: 150mm Alluminium Door handle | E22: No's | F22: 2 | G22: ='MINI SSR 2025-26'!$G$147 -> 134 | H22: =ROUND(F22*G22,2) -> 268
B23: BMT-G.42 | C23: 300mm Alluminium Aldrop | E23: No's | F23: 2 | G23: ='MINI SSR 2025-26'!$G$149 -> 368 | H23: =ROUND(F23*G23,2) -> 736
B24: BMT-G.53 | C24: Door stopper MS Powder coated | E24: No's | F24: 1 | G24: ='MINI SSR 2025-26'!$G$151 -> 54 | H24: =ROUND(F24*G24,2) -> 54
C25: B. Labour
B26: BMM-V.38 | C26: wrought & Putup Labour charges 2/3 | E26: Sqm | F26: =ROUND(1.2*2.1,2) -> 2.52 | G26: ='MINI SSR 2025-26'!$C$150 -> 2083 | H26: =ROUND(F26*G26,2)*2/3 -> 3499.44
C27: Contract Profit @ 13.615% | H27: 0
H28: =SUM(H19:H27) -> 10190.51
A29: 2 | C29: Supplying and fixing of Door of size 0.75X2.10M with two panels Frame made with sald wood fixing with Z hold fast including c/c of all materials and furniture fittings etc complete as per specification (APSS No 1001 & 1002) Door Frame only
C30: Vertical posts | D30: 2 | E30: 1.95 | F30: 0.1 | G30: 0.075 | H30: =ROUND(D30*E30*F30*G30,4) -> 0.0293
C31: Horizontal Top & Bottom | D31: 2 | E31: 0.75 | F31: 0.1 | G31: 0.075 | H31: =ROUND(D31*E31*F31*G31,4) -> 0.0113
H32: =SUM(H30:H31) -> 0.0406
B33: BMT-E.15 | C33: Sal Wood for Scantlings/Frames | E33: cum | F33: =H32 -> 0.0406 | G33: ='MINI SSR 2025-26'!$C$144 -> 55780 | H33: =ROUND(F33*G33,2) -> 2264.67
B34: BMS-W.69 | C34: MS Z Hold fasts 300mm Long | E34: No's | F34: 6 | G34: ='MINI SSR 2025-26'!$G$152 -> 43 | H34: =ROUND(F34*G34,2) -> 258
C35: B. Labour
B36: BMM-V.38 | C36: wrought & Putup Labour charges 1/3 | E36: Sqm | F36: =ROUND(0.75*2.1,2) -> 1.58 | G36: ='MINI SSR 2025-26'!$C$150 -> 2083 | H36: =ROUND(F36*G36,2)*1/3 -> 1097.0467
C37: Contract Profit @ 13.615% | H37: 0
H38: =SUM(H33:H37) -> 3619.7167
A39: 3 | C39: Supplying and fixing of Door of size 0.75X2.10M with two panels Shutter made with Sal wood including brass tower bolts, handle and butt hinges with all furniture fittings including c/c of all materials and furniture fittings etc complete as per specification (APSS No 1001 & 1002)
C40: Shutters : Sal Wood | D40: 1 | E40: =2.1-0.15 -> 1.95 | F40: =ROUND(((1.2-0.15+0.02))/1,2) -> 1.07 | G40: 0.03 | H40: =ROUND(D40*E40*F40*G40,4) -> 0.0626
H41: =SUM(H40) -> 0.0626
...

Sheet MINI SSR 2025-26
A1: MINI SSR 2025-26 OF BUILDING ITEMS
F2: Name | G2: Code | H2: Rate
B3: Code | C3: Rate | F3: Mason skilled | G3: LAB-00011 | H3: 735
A4: Cement | B4: MAT-00005 | C4: 4218.8 | F4: Mason Semi skilled | G4: LAB-00091 | H4: 665
A5: Steel Fe 500 | C5: 60000 | F5: Mazdoor | G5: LAB-00120 | H5: 615
A6: Steel Fe 415 | C6: 59000 | F6: Bar bender | G6: LAB-00001 | H6: 870
A7: MS Flats | C7: 61000
A8: 6mm Ms roads | C8: 57000 | F8: Painter skilled | G8: LAB-00035 | H8: 820
A9: Sand for Mortar (screened) | B9: MAT-00029 | C9: 128 | F9: Painter semi skilled | G9: LAB-00093 | H9: 665
A10: Sand for Mortar (concrete) | B10: MAT-00027 | C10: 0 | F10: Welder | G10: LAB-00041 | H10: 720
A11: Sand for Filling | B11: MAT-00028 | C11: 0 | D11: Loading | E11: Unloading | F11: Black smith | G11: LAB-00002 | H11: 695
A12: Common burnt clay bricks | B12: BMT-A.01 | C12: 8548 | D12: 80.2 | E12: 80.2
A13: 40mm HBG metal SS5, M/C | B13: MAT-00220 | C13: 770 | F13: Plumber skilled | G13: LAB-00036 | H13: 820
A14: 20mm HBG SS5 M/c chips | B14: MAT-00218 | C14: 1285 | F14: Plumber semi skilled | H14: =H9 -> 665
A15: 12 mm nominal size | B15: MAT-00217 | C15: 1024
A16: 10mm nominal size | B16: MAT-00216 | C16: 860 | F16: Skilled Electrician | G16: LAB-00005 | H16: 815
A17: 6mm nominal size | B17: MAT-00215 | C17: 684 | F17: Semi Skilled Electrician | G17: LAB-00079 | H17: 665
A18: Rough stone | B18: MAT-00302 | C18: 322
A19: Granite 16 to 18 mm | B19: BMT-B.17 | C19: 2000
A20: Terrazo tiles | B20: BMT-D.01 | C20: 331
A21: Vitrified tiles double | B21: BMT-C.09 | C21: 625
A22: Ceramic tiles non skid | B22: BMT.C.01 | C22: 396.4
A23: Glazed tiles for walls | B23: BMT.C.21 | C23: 330
A24: Pressed type tiles | B24: BMT-A.04 | C24: 31000 | F24: RSSR
A25: Selected earth | B25: MAT-00252 | C25: 145 | F25: Jungle | H25: 6.06
A26: Gravel | B26: MAT-00177 | C26: 169 | F26: Earthwork | H26: 144.26
A27: Fly ash cement brick | B27: BMT-A.03 | C27: 31
E28: Brick work scaffolding
A29: Water for Rural | B29: MAT- 00333 | C29: 105 | E29: Hire | F29: Labour-GF | G29: Labour-FF | H29: Labour-SF
A30: Concrete mixer | B30: HIR-00018 | C30: 722.41 | E30: 10.78 | F30: 84.62 | G30: 121.18 | H30: 157.72
A31: needle Vibration 40 petrol | B31: HIR-00040 HIR-00174 | C31: 297.87 | E31: Ceiling plastering
A32: Binding wire | B32: MAT-00003 | C32: 70 | E32: Hire | F32: Labour-GF | G32: Labour-FF | H32: Labour-SF
A33: Welding eletrodes | B33: MAT-00082 | C33: 17 | E33: 2.57 | F33: 16.94 | G33: 24.04 | H33: 31.13
A34: Welding set | B34: HIR-00065 HIR-00199 | C34: 119.09 | E34: plastering
A35: Grills Fabrication of steel | B35: BMM-V.14 | C35: 37 | E35: Hire | F35: Labour-GF | G35: Labour-FF | H35: Labour-SF
A36: Grills Labour charges | B36: BMM-V.15 | C36: 7 | E36: 1.08 | F36: 8.47 | G36: 12.12 | H36: 15.77
A37: MS Tubes | B37: BMT-F.04 | C37: 88
A38: Tube Fabrication of steel | B38: BMM-V.16 | C38: 33
A39: Tube Labour charges | B39: BMM-V.17 | C39: 28
A40: Stainless steel | B40: BMT-F.06 | C40: 466 | E40: Wallputty | F40: BMT-J.31 | G40: 420
...

Sheet convey 25-26
A1: Conveyance charges-2025-26
B2: As per Machinery
A3: Lead in KM | B3: Earth/Sand/Gravel | C3: Metal | D3: Bricks 1000Nos | E3: Stone
B4: Initial lead Rete | C4: Initial lead Rete | D4: Initial lead Rete | E4: Add Loading & Unloading | F4: Net Lead Charges
A5: 1 | B5: 2 | C5: 3 | D5: 4 | E5: 5 | F5: 6
A6: 1 | B6: 38.62 | C6: 37.07 | D6: 61.79 | E6: 54.52
A7: 2 | B7: 54.08 | C7: 51.91 | D7: 86.51 | E7: 76.33
A8: 3 | B8: 72.1 | C8: 69.21 | D8: 115.34 | E8: 101.77
A9: 4 | B9: 87.55 | C9: 84.04 | D9: 140.06 | E9: 123.58
A10: 5 | B10: 103 | C10: 98.86 | D10: 164.77 | E10: 145.39
A11: 6 | B11: =B10+15.45 -> 118.45 | C11: =C10+14.83 -> 113.69 | D11: =D10+24.72 -> 189.49 | E11: =E10+21.81 -> 167.2
A12: 7 | B12: =B11+15.45 -> 133.9 | C12: =C11+14.83 -> 128.52 | D12: =D11+24.72 -> 214.21 | E12: =E11+21.81 -> 189.01
A13: 8 | B13: =B12+15.45 -> 149.35 | C13: =C12+14.83 -> 143.35 | D13: =D12+24.72 -> 238.93 | E13: =E12+21.81 -> 210.82
A14: 9 | B14: =B13+15.45 -> 164.8 | C14: =C13+14.83 -> 158.18 | D14: =D13+24.72 -> 263.65 | E14: =E13+21.81 -> 232.63
A15: 10 | B15: =B14+15.45 -> 180.25 | C15: =C14+14.83 -> 173.01 | D15: =D14+24.72 -> 288.37 | E15: =E14+21.81 -> 254.44
A16: 11 | B16: =B15+15.45 -> 195.7 | C16: =C15+14.83 -> 187.84 | D16: =D15+24.72 -> 313.09 | E16: =E15+21.81 -> 276.25
A17: 12 | B17: =B16+15.45 -> 211.15 | C17: =C16+14.83 -> 202.67 | D17: =D16+24.72 -> 337.81 | E17: =E16+21.81 -> 298.06
A18: 13 | B18: =B17+15.45 -> 226.6 | C18: =C17+14.83 -> 217.5 | D18: =D17+24.72 -> 362.53 | E18: =E17+21.81 -> 319.87
A19: 14 | B19: =B18+15.45 -> 242.05 | C19: =C18+14.83 -> 232.33 | D19: =D18+24.72 -> 387.25 | E19: =E18+21.81 -> 341.68
A20: 15 | B20: =B19+15.45 -> 257.5 | C20: =C19+14.83 -> 247.16 | D20: =D19+24.72 -> 411.97 | E20: =E19+21.81 -> 363.49
A21: 16 | B21: =B20+15.45 -> 272.95 | C21: =C20+14.83 -> 261.99 | D21: =D20+24.72 -> 436.69 | E21: =E20+21.81 -> 385.3
A22: 17 | B22: =B21+15.45 -> 288.4 | C22: =C21+14.83 -> 276.82 | D22: =D21+24.72 -> 461.41 | E22: =E21+21.81 -> 407.11
... A35: 30 | B35: =B34+15.45 -> 489.25 | C35: =C34+14.83 -> 469.61 | D35: =D34+24.72 -> 782.77 | E35: =E34+21.81 -> 690.64
A36: 31 | B36: =B35+12.87 -> 502.12 | C36: =C35+12.36 -> 481.97 | D36: =D35+20.6 -> 803.37 | E36: =E35+18.17 -> 708.81
A37: 32 | B37: =B36+12.87 -> 514.99 | C37: =C36+12.36 -> 494.33 | D37: =D36+20.6 -> 823.97 | E37: =E36+18.17 -> 726.98
A38: 33 | B38: =B37+12.87 -> 527.86 | C38: =C37+12.36 -> 506.69 | D38: =D37+20.6 -> 844.57 | E38: =E37+18.17 -> 745.15
A39: 34 | B39: =B38+12.87 -> 540.73 | C39: =C38+12.36 -> 519.05 | D39: =D38+20.6 -> 865.17 | E39: =E38+18.17 -> 763.32
A40: 35 | B40: =B39+12.87 -> 553.6 | C40: =C39+12.36 -> 531.41 | D40: =D39+20.6 -> 885.77 | E40: =E39+18.17 -> 781.49
A41: 36 | B41: =B40+12.87 -> 566.47 | C41: =C40+12.36 -> 543.77 | D41: =D40+20.6 -> 906.37 | E41: =E40+18.17 -> 799.66
A42: 37 | B42: =B41+12.87 -> 579.34 | C42: =C41+12.36 -> 556.13 | D42: =D41+20.6 -> 926.97 | E42: =E41+18.17 -> 817.83
A43: 38 | B43: =B42+12.87 -> 592.21 | C43: =C42+12.36 -> 568.49 | D43: =D42+20.6 -> 947.57 | E43: =E42+18.17 -> 836
A44: 39 | B44: =B43+12.87 -> 605.08 | C44: =C43+12.36 -> 580.85 | D44: =D43+20.6 -> 968.17 | E44: =E43+18.17 -> 854.17
A45: 40 | B45: =B44+12.87 -> 617.95 | C45: =C44+12.36 -> 593.21 | D45: =D44+20.6 -> 988.77 | E45: =E44+18.17 -> 872.34
A46: 41 | B46: =B45+12.87 -> 630.82 | C46: =C45+12.36 -> 605.57 | D46: =D45+20.6 -> 1009.37 | E46: =E45+18.17 -> 890.51
A47: 42 | B47: =B46+12.87 -> 643.69 | C47: =C46+12.36 -> 617.93 | D47: =D46+20.6 -> 1029.97 | E47: =E46+18.17 -> 908.68
... A305: 300 | B305: =B304+12.87 -> 3964.15 | C305: =C304+12.36 -> 3806.81 | D305: =D304+20.6 -> 6344.77 | E305: =E304+18.17 -> 5596.54

Sheet CS
A1: COMPARATIVE STATEMENT
A2: ='lead 25-26'!B2&'lead 25-26'!C2 -> Name of the Work: Construction of Community Hall at Chakirala village and GP of Kanigiri Mandal.
J3: Est Rs. | K3: ='lead 25-26'!K4 -> 20.00 Lakhs
A4: S.No | B4: Description of the work | C4: As per detailed estimate | G4: As per working estimate | K4: Difference | M4: Remarks
C5: Quantity | E5: Rate | F5: Amount | G5: Quantity | I5: Rate | J5: Amount | K5: Excess | L5: Less
A6: 1 | B6: 2 | C6: 3 | E6: 4 | F6: 5 | G6: 6 | I6: 7 | J6: 8 | K6: 9 | L6: 10 | M6: 11
B7: Construction of Ground floor | K7: =IF(J7>F7,J7-F7,0) -> 0 | L7: =IF(J7<F7,F7-J7,0) -> 0 | M7: - | N7: =E7-I7 -> 0
A8: 1 | B8: Clearing light jungle | D8: Sqm | E8: 6.06 | F8: =ROUND(C8*E8,0) -> 0 | G8: =ESTIMATE!I12 -> 0 | H8: Sqm | I8: =ESTIMATE!K12 -> 6.06 | J8: =ROUND(G8*I8,0) -> 0 | K8: =IF(J8>F8,J8-F8,0) -> 0 | L8: =IF(J8<F8,F8-J8,0) -> 0 | M8: - | N8: =E8-I8 -> 0 | S8: 157 | U8: =J8-S8 -> -157 | W8: 23.72 | X8: =G8-W8 -> -23.72
A9: 2 | B9: Earthwork excavation for foundation | D9: Cum | E9: 144.26 | F9: =ROUND(C9*E9,0) -> 0 | G9: =ESTIMATE!I19 -> 32.59 | H9: Cum | I9: =ESTIMATE!K19 -> 254.34 | J9: =ROUND(G9*I9,0) -> 8289 | K9: =IF(J9>F9,J9-F9,0) -> 8289 | L9: =IF(J9<F9,F9-J9,0) -> 0 | M9: - | N9: =E9-I9 -> -110.08 | S9: 12298 | U9: =J9-S9 -> -4009 | W9: 98.86 | X9: =G9-W9 -> -66.27
A10: 3 | B10: PCC (1:4:8) for bed concrete | D10: Cum | E10: 4509.22 | F10: =ROUND(C10*E10,0) -> 0 | G10: =ESTIMATE!I29 -> 10.81 | H10: Cum | I10: =ESTIMATE!K29 -> 5190.92 | J10: =ROUND(G10*I10,0) -> 56114 | K10: =IF(J10>F10,J10-F10,0) -> 56114 | L10: =IF(J10<F10,F10-J10,0) -> 0 | M10: - | N10: =E10-I10 -> -681.7 | S10: 100538 | U10: =J10-S10 -> -44424 | W10: 26.91 | X10: =G10-W10 -> -16.1
A11: 4 | B11: PCC (1:5:10) for bed concrete | D11: Cum | E11: 4389.99 | F11: =ROUND(C11*E11,0) -> 0 | G11: =ESTIMATE!I40 -> 0 | H11: Cum | I11: =ESTIMATE!K40 -> 4432.18 | J11: =ROUND(G11*I11,0) -> 0 | K11: =IF(J11>F11,J11-F11,0) -> 0 | L11: =IF(J11<F11,F11-J11,0) -> 0 | M11: - | N11: =E11-I11 -> -42.19 | S11: 0 | U11: =J11-S11 -> 0 | W11: 0 | X11: =G11-W11 -> 0
A12: 5 | B12: Filling basement with Selected earth | D12: Cum | E12: 357.6 | F12: =ROUND(C12*E12,0) -> 0 | G12: =ESTIMATE!I46 -> 45.04 | H12: Cum | I12: =ESTIMATE!K46 -> 317.87 | J12: =ROUND(G12*I12,0) -> 14317 | K12: =IF(J12>F12,J12-F12,0) -> 14317 | L12: =IF(J12<F12,F12-J12,0) -> 0 | M12: - | N12: =E12-I12 -> 39.73 | S12: 0 | U12: =J12-S12 -> 14317 | W12: 0 | X12: =G12-W12 -> 45.04
A13: 5 | B13: Filling basement with Gravel | G13: =ESTIMATE!I56 -> 0 | H13: Cum | I13: =ESTIMATE!K56 -> 473.15 | J13: =ROUND(G13*I13,0) -> 0 | K13: =IF(J13>F13,J13-F13,0) -> 0 | L13: =IF(J13<F13,F13-J13,0) -> 0 | M13: - | N13: =E13-I13 -> -473.15 | S13: 0 | U13: =J13-S13 -> 0 | W13: 0 | X13: =G13-W13 -> 0
A14: 6 | B14: Filling basement with Sand filling | D14: Cum | E14: 710.6 | F14: =ROUND(C14*E14,0) -> 0 | G14: =ESTIMATE!I62 -> 0 | H14: Cum | I14: =ESTIMATE!K62 -> 134.78 | J14: =ROUND(G14*I14,0) -> 0 | K14: =IF(J14>F14,J14-F14,0) -> 0 | L14: =IF(J14<F14,F14-J14,0) -> 0 | M14: - | N14: =E14-I14 -> 575.82 | S14: 65659 | U14: =J14-S14 -> -65659 | W14: 52.81 | X14: =G14-W14 -> -52.81
A15: 7 | B15: Refilling with excavated soil | D15: Cum | E15: 265.36 | F15: =ROUND(C15*E15,0) -> 0 | G15: =ESTIMATE!I70 -> 23.06 | H15: Cum | I15: =ESTIMATE!K70 -> 377.66 | J15: =ROUND(G15*I15,0) -> 8709 | K15: =IF(J15>F15,J15-F15,0) -> 8709 | L15: =IF(J15<F15,F15-J15,0) -> 0 | M15: - | N15: =E15-I15 -> -112.3 | S15: 17066 | U15: =J15-S15 -> -8357 | W15: 74.97 | X15: =G15-W15 -> -51.91
A16: 8 | B16: VRCC M30 design mix Concrete for column footings | D16: Cum | E16: 7679.35 | F16: =ROUND(C16*E16,0) -> 0 | G16: =ESTIMATE!I74 -> 5.49 | H16: Cum | I16: =ESTIMATE!K74 -> 9871.81 | J16: =ROUND(G16*I16,0) -> 54196 | K16: =IF(J16>F16,J16-F16,0) -> 54196 | L16: =IF(J16<F16,F16-J16,0) -> 0 | M16: - | N16: =E16-I16 -> -2192.46 | S16: 74617 | U16: =J16-S16 -> -20421 | W16: 11.19 | X16: =G16-W16 -> -5.7
