Workbook
Name __can430: 40.73
Name __can435: 43.3
Name _can430: 40.73
Name _can435: 43.3
Name Header_Row: ROW(#REF!)
Name pi: 3.1415
Name Values_Entered: #N/A

Sheet COVER
A1: fffffffffffffffffffffffffffffffffffffffffffffffffffffffffffffffffffffffffffffffffffffffffffffffffffffffffffffffffffffffffffffffffffffffffffffffffffffffffffffffffffffffffffffffffffffffffffffffffffffffffffffffffffffffffffffffffffffffffffffffffffffffffffffffffffffffffffffffffffffffffffffffffffffffffffffffffffffffffffffffffffffffffffffffffffffffffffffffffffffffffffffffffffffffffffffffffffffffffffffffffffffffffffffffffffffffffffffffffffff | B1: fffffffffffffffffffffffffffffffffffffffffffffffffffffffffffffffffffffffffffffffffffffffffffffffffffffffffffffffffffffffffffffffffffffffffffffffffffffffffffffffffffffffffffffffffffffffffffffffffffffffffffffffffffffffffffffffffffffffffffffffffffffffffffffffffffffffffffffffffffffffffffffffffffffffffffffffffffffffffffffffffffffffffffffffffffffffffffffffffffffffffffffffffffffffffffffffffffffff | K1: ffffffffffffffffffffffffffffffffffffffffffffffffffffffffffffffffffffffffffffffffffffffffffffffffffffffffffffffffffffffffffffffffffffffffffffffffffffffffffffffffffffffffffffffffffffffffffffffffffffffffffffffffffffffffffffffffffffffffffffffffffffffffffffffffffffffffffffffffffffffffffffffffffffffffffffffffffffffffffffffffffffffffffffffffffffffffffffffffffffffffffffffff
B18: PANCHAYATI RAJ ENGINEERING DEPARTMENT
B20: DETAILED ESTIMATE CUM ABSTRACT
C23: NAME OF THE WORK | F23: : | G23: ='lead 1'!C2 -> Constrution of Bharat Nirman Seva Kendra (BNSK) Grama Panchayat building in Gayamvaripalli GP of H.M.Padu Mandal
C25: ESTIMATE COST Rs | F25: : | G25: ='lead 1'!K4 -> 17.00 Lakhs
C27: GRANT | F27: : | G27: MGNREGS 100%
C29: NAME OF THE MANDAL | F29: : | G29: H.M.PADU
C31: NAME OF SUB.DIVISION. | F31: : | G31: KANIGIRI
C33: NAME OF THE DIVISION | F33: : | G33: KANDUKUR
C35: NAME OF CIRCLE | F35: : | G35: ONGOLE
C37: NAME OF DISTRICT | F37: : | G37: PRAKASAM
A41: ffffffffffffffffffffffffffffffffffffffffffffffffffffffffffffffffffffffffffffffffffffffffffffffffffffffffffffffffffffffffffffffffffffffffffffffffffffffffffffffffffffffffffffffffffffffffffffffffffffffffffffffffffffffffffffffffffffffffffffffffffffffffffffffffffffffffffffffffffffffffffffffffffffffffffffffffffffffffffffffffffffffffffffffffffffffffffffffffffffffffffffffff

Sheet Title page
G2: Division | I2: KANDUKUR
G3: Sub division | I3: KANDUKUR
G4: Mandal | I4: GUDLUR
G5: Village | I5: SALIPETA
E18: DETAILED ESTIMATE
A20: NAME OF THE WORK | C20: : | D20: =CONCATENATE("CONSTRUCTION OF NEW SACHIVALAYAM IN ",I5, "(V)-II IN ",I4," (M)") -> CONSTRUCTION OF NEW SACHIVALAYAM IN SALIPETA(V)-II IN GUDLUR (M)
G22: Est Cost | H22: 35 | I22: Lakhs
A24: Grant | B24: 100% NREGS

Sheet Sheet3
G8: Division | H8: Kandukur
G9: Village | H9: Salipeta
G10: Mandal : | H10: Kandukur
G11: =IF([2]Check_Slip!$D$9>2,"Subdivision :Repalle","")
G12: =IF([2]Check_Slip!$D$9>10,"Division :Tenali","")
F29: Construction of Gram Sachivalayam Building at | N29: Construction of Gram Sachivalayam Building at Peravalipalem (V) of Vemuru (M)
F30: =H9 -> Salipeta | G30: (V) | H30: of | I30: =H10 -> Kandukur | J30: (M)
G34: Estimate Cost Rs. | H34: 35 | I34: Lakhs
G36: Grant | H36: MGNREGS

Sheet TOP PAGE
U6: Division | V6: : | W6: Kandukur
U8: Village | V8: : | W8: Salipeta
U10: Mandal | V10: : | W10: Gudlur
G31: Construction of Gram Sachivalayam Building at
J33: =W8 -> Salipeta | O33: (V) | Q33: of | S33: =W10 -> Gudlur | Y33: (M)
G40: Estimate Cost | R40: : | S40: 45.00 Lakhs
G42: Name of the grant | R42: : | S42: 100% MGNREGS

Sheet specification
A1: SPECIFICATION REPORT
C2: Specification report accompanying the detailed estimate for the work
B3: ='lead 1'!C2 -> Constrution of Bharat Nirman Seva Kendra (BNSK) Grama Panchayat building in Gayamvaripalli GP of H.M.Padu Mandal
F4: ='Title page'!G22 -> Est Cost | G4: ='lead 1'!K4 -> 17.00 Lakhs
B5: An amout Rs. 17.00 Lakhs was sanctioned under MGNREGS 100% grant by vide Administrative Sanction Proceedings of the District Collector Rc. No.T3/MGNREGS/GPB/2019-20 DT 09.01.2020 of the District Collector & District Programme Co-Ordinator,MGNREGS, Prakasam District, Ongole. At present The proposed site for construction of this building is purely BC Soils. Based on soil test report the bearing capacity of the soil is 20T and foundation designs is implimented as per the designs
B6: The Estimate provisions are as follows.
B7: 1.Earth work excavation for foundations of Footings, External Plinth wall, Ramps & Steps
B8: 2.Sand filling for foundations to level the bottom of foundations and to strengthen the foundations.
B9: 3.PCC (1:4:8) as levelling course for foundations of footings, External Plinth Wall, Ramps, Steps and bottom of Internal Plinth Beams
B10: 4.RCC M20 design mix of Concrete with Graded Metal of 20 mm,12mm,10mm & 6mm HBG metal for Footings, Pedastals, Columns, Plinth Beams, Lintels, Sunshades, Roof Level Beams & Roof slabs as per design.
B11: 5.Brick masonary in CM(1:6) with country bricks up to basement with 450 mm thick to a height 0.60 mts height from Natural Ground Level.
B12: 6.All external walls are proposed with brick masonary 230 mm thick wall in CM(1:8) using country bricks 2 class to a height 3.30m including roof beams.
B13: 7.All internal walls are proposed with Reinforced Brick Masonary 115 thick wall in CM(1:6) using country bricks 2 class to height 3.30m including roof beams.
B14: 7.All internal walls are proposed with plastering 12mm thick inside in two coats using ordinary portland cement with a base coat of 8mm thick in CM(1:5) prop and top coat of 4mm thick in CM (1:3) prop
B15: 8. All external walls are proposed with plastering 20mm thick in two coats using with base coat of 16mm thick in CM(1:6) and top coat of 4mm thick in CM(1:4)
B16: 9.Proposed ornamental plastering 12mm thick to ceiling in two coats with a base coat of 8mm thick in CM(1:5) prop and top coat of 4mm thick in CM (1:3)
... B33: With the above provisions the estimate is prepared with 2019-2020 SS rates and work will be carried out as per APDSS and building codes in vogue.
E36: ='lead 1'!I37 -> Deputy Executive Engineer | K36: ='lead 1'!L37 -> Assistant Engineer
E37: ='lead 1'!I38 -> PRI Sub Division | K37: ='lead 1'!L38 -> Mandal Praja parishad
E38: ='lead 1'!I39 -> Kanigiri | K38: ='lead 1'!L39 -> H.M.Padu

Sheet INPUT
A1: INPUT DATA
A2: ='lead 1'!B2&'lead 1'!C2 -> Name of the Work: Constrution of Bharat Nirman Seva Kendra (BNSK) Grama Panchayat building in Gayamvaripalli GP of H.M.Padu Mandal
C3: Project Name | D3: : | E3: Rural infrastracture
C4: Project id | D4: :
C5: Work Type Name | D5: : | E5: BNSK building - New
C6: Work Type Code | D6: :
D7: maximum Estimate cost Rs. 17.00 lakhs
D8: Sharing pattern - 100% MGNREGS funds
C9: A) General Information
C10: Name of the District: | D10: : | E10: Prakasam
C11: Name of the Constituency | D11: : | E11: Kanigiri
C12: Name of the Mandal | D12: : | E12: H.M.Padu
C13: Name of the GP / Habitation | D13: : | E13: Gayamvaripalli
A15: S.No. | B15: Task code | C15: Description of item | D15: Units | E15: Quantity | F15: Rate | G15: Wage component | H15: Other componenet | I15: Total cost Rs.
A16: 1 | B16: 2 | C16: 3 | D16: 4 | E16: 5 | F16: 6 | G16: 7 | H16: 8 | I16: 9
J17: ='ground floor'!K28+'ground floor'!K32+'ground floor'!K54 -> 10169 | K17: =J17/205 -> 49.604878
A18: 1 | B18: 34816 | C18: CW.01 Amount of wage component | D18: days | E18: =ROUND(K17,0) -> 50 | F18: 205 | G18: =ROUND(E18*F18,0) -> 10250 | I18: =SUM(G18:H18) -> 10250
A20: 2 | B20: 34817 | C20: CW.02 Cement | D20: Bags | E20: =SEIG!V37 -> 560.41 | F20: ='lead 1'!M8/1000*50 -> 215 | H20: =ROUND(F20*E20/1,0) -> 120488 | I20: =SUM(G20:H20) -> 120488
A22: 3 | B22: 34818 | C22: CW.03 Sand for Filling | D22: Cum | E22: =SEIG!J35 -> 49.1 | F22: ='lead 1'!M14 -> 1334.4 | H22: =ROUND(F22*E22/1,0) -> 65519 | I22: =SUM(G22:H22) -> 65519
A24: 4 | B24: 34819 | C24: CW.04 Sand for Mortor | D24: Cum | E24: =SEIG!L35 -> 24.41 | F24: ='lead 1'!M12 -> 1549.4 | H24: =ROUND(F24*E24/1,0) -> 37821 | I24: =SUM(G24:H24) -> 37821
A26: 5 | B26: 34822 | C26: CW.G07.20mm to 12mm HBG | D26: Cum | E26: =SEIG!R35 -> 41.24 | F26: =data1!F13 -> 1460.56 | H26: =ROUND(F26*E26/1,0) -> 60233 | I26: =SUM(G26:H26) -> 60233
A28: 5 | B28: 34824 | C28: CW.09 40mm nominal HBG metal | D28: Cum | E28: =SEIG!P35 -> 18.68 | F28: ='lead 1'!M16 -> 1479.2 | H28: =ROUND(F28*E28/1,0) -> 27631 | I28: =SUM(G28:H28) -> 27631
A30: 6 | B30: 34825 | C30: CW.10 G10.Other component | D30: No | E30: 1 | F30: =J30-K30 -> 956043 | H30: =ROUND(F30*E30/1,0) -> 956043 | I30: =SUM(G30:H30) -> 956043 | J30: =abstract!D15 -> 1526843 | K30: =I18+I20+I22+I24+I26+I28+I32+I34 -> 570800
A32: 7 | B32: 30832 | C32: CW-G19.sand for Concrete | D32: Cum | E32: =SEIG!N35 -> 29.97 | F32: ='lead 1'!M13 -> 1469.4 | H32: =ROUND(F32*E32/1,0) -> 44038 | I32: =SUM(G32:H32) -> 44038
A34: 8 | B34: 35253 | C34: CW-G20.Cost and supply of Steel | D34: MT | E34: =SEIG!W37 -> 4 | F34: ='lead 1'!M9 -> 38500 | H34: ='ground floor'!K404+'ground floor'!K407+'first floor'!K257 -> 204820 | I34: =SUM(G34:H34) -> 204820
I36: =SUM(I17:I34) -> 1526843 | J36: =I36+I37+I39+I38 -> 1696400
A37: 9 | C37: CW.12 QC upto 0.5% | E37: =I36-I18 -> 1516593 | F37: x0.5% | I37: =ROUND(E37*0.5%,0) -> 7583
A38: 10 | B38: 34829 | C38: CW-G15.LS amount for unforcen items. Like GST | D38: No | E38: 1 | F38: =abstract!D16+abstract!D21 -> 144517 | H38: =ROUND(F38*E38/1,0) -> 144517 | I38: =SUM(G38:H38) -> 144517 | J38: =[3]abstract!M22 -> 0
A39: 11 | B39: 34827 | C39: CW-G13.Seignorage charges | I39: =abstract!D18 -> 17457
A40: 12 | B40: 34146 | C40: Name Board using Brick masonary Size 3f x 4f | I40: =abstract!D20 -> 3600
I41: =SUM(I36:I40) -> 1700000 | K41: =J41-I41 -> -1700000
D45: ='lead 1'!I37 -> Deputy Executive Engineer | H45: ='lead 1'!L37 -> Assistant Engineer
D46: ='lead 1'!I38 -> PRI Sub Division | H46: ='lead 1'!L38 -> Mandal Praja parishad
D47: ='lead 1'!I39 -> Kanigiri | H47: ='lead 1'!L39 -> H.M.Padu

Sheet input sheet
A1: Input Data Sheet for the work
A2: ='Title page'!D20 -> CONSTRUCTION OF NEW SACHIVALAYAM IN SALIPETA(V)-II IN GUDLUR (M)
A3: Note:
A4: 1. The estimate should be prepared habitation wise.
A5: 2. The entire length of road shall be covered in one estimate.
A6: 3. Wherever gravel thickness is partly existing, provide gravel of 100 mm loose thickness.
A7: 4. The specification of MS name board has to be in detail in datasheet.
A8: 5. The detailed estimate, datasheet and lead statement prepared manually outside the computer should be tied to the computer generated estimate.
A9: A) General Information
B10: DCC (Departmental Computer Center) Name : | G10: ='Title page'!I2 -> KANDUKUR
B11: Name of Mandal | G11: ='Title page'!I4 -> GUDLUR
B12: Name of Gram Panchayat | G12: ='Title page'!I5 -> SALIPETA
B13: Name of Habitation | G13: =G12 -> SALIPETA
A14: 1 | B14: Location
A15: 2 | B15: Total length of road within the Habitation_mts
A16: 3 | B16: Total length of the proposed Road: mts
A17: 4 | B17: CC __________________ mts
A18: 5 | B18: Road Width ____________ mts
B19: Side Drain Length _________________mts
A20: 6 | B20: Locality : SC/ST/GENERAL
A21: 7 | B21: Population being served by this Road:
B22: B) Abstract estimate
A23: Quantites and Rates shall be as per technically sanctioned estimate. Rates shall be worked out as per standard data basing on rates available in RSSR and CSSR.
A25: SNo | B25: Task Name | C25: Unit | D25: Task code | E25: Qty | F25: Unit | G25: Rate Per Unit | H25: Amount | I25: Qty | J25: Unit | K25: Rate Per Unit | L25: Amount
G26: (in Rs) | H26: (Rs.) | K26: (in Rs) | L26: (Rs.)
A27: 1 | B27: CW-G01.Amount for wage component | C27: days | D27: 34816 | E27: ='ground floor'!L410/G27 -> 48.194313 | F27: days | G27: 211 | H27: =ROUND(E27*G27,0) -> 10169 | I27: =L27/K27 -> #REF! | J27: days | K27: 211 | L27: ='ground floor'!#REF! -> #REF!
A28: 2 | B28: CW-G02.cement | C28: bags | D28: 34817 | E28: =H28/G28 -> 533.57674 | F28: bags | G28: =ROUND(('lead 1'!M8/1000)*50,2) -> 215 | H28: =ROUND('ground floor'!M410+'first floor'!M274,0) -> 114719 | I28: =L28/K28 -> 308.56915 | J28: bags | K28: 187.5 | L28: =seignorage!N28*'lead 1'!M8/1000 -> 57856.715
A29: 3 | B29: CW-G03.sand for filling | C29: cum | D29: 34818 | E29: =H29/G29 -> 52.043615 | F29: 1M2 | G29: ='lead 1'!M14 -> 1334.4 | H29: =ROUND('ground floor'!N410+'first floor'!N274,0) -> 69447 | I29: =seignorage!K28 -> 49.1 | J29: 1M2 | K29: ='lead 1'!M14 -> 1334.4 | L29: =ROUND(K29*I29,0) -> 65519
A30: 4 | B30: CW-G04.sand for mortar | C30: cum | D30: 34819 | E30: =H30/G30 -> 13.237382 | F30: 1M3 | G30: ='lead 1'!M12 -> 1549.4 | H30: =ROUND('ground floor'!O410+'first floor'!O274,0) -> 20510 | I30: =seignorage!L28 -> 13.09 | J30: 1M3 | K30: ='lead 1'!M12 -> 1549.4 | L30: =ROUND(K30*I30,0) -> 20282
A31: 5 | B31: CW-G05.Grade II Metal:Consisting of 63mm to 45 mm IRC HBG/HBT metal 96% and 19mm to 22mm IRC HBG metal 4% | C31: cum | D31: 34820
A32: 6 | B32: CW-G06.Grade III Metal:Consisting of 53mm to 22.4mm IRC HBG/HBT metal 95% and 20mm to 10 mm IRC HBG metal 5% | C32: cum | D32: 34821
A33: 5 | B33: CW-G07.20mm to 12mm HBG/HBT graded Metal:Consisting of 20mm metal 60% and12mm metal 40% | C33: cum | D33: 34822 | E33: =H33/G33 -> 41.238977 | F33: 1M3 | G33: =data1!F13 -> 1460.56 | H33: =ROUND('ground floor'!Q410+'first floor'!Q274,0) -> 60232 | I33: =seignorage!F30 -> 18.41 | J33: 1M3 | K33: =data1!F13 -> 1460.56 | L33: =ROUND(K33*I33,0) -> 26889
A34: 5 | B34: CW-G08.Graded Metal consisting of 60% of 40mm and 40% of 20mm to 10mm graded HBG/HBT metal | C34: cum | D34: 34823
A35: 6 | B35: CW-G09.40 mm nominal HBG/HBT Graded Metal | C35: cum | D35: 34824 | E35: =H35/G35 -> 18.683748 | F35: 1M3 | G35: ='lead 1'!M16 -> 1479.2 | H35: =ROUND('ground floor'!R410,0) -> 27637 | I35: =seignorage!F31 -> 18.68 | J35: 1M3 | K35: ='lead 1'!M16 -> 1479.2 | L35: =ROUND(K35*I35,0) -> 27631
A36: 10 | B36: CW-G14 Cost for supply and delivery of pipes | C36: Rmt | D36: 34828
B37: a) 300 MM dia NP3 Class RCC Pipes | C37: Rmt | D37: 34828
B38: b) 150 MM dia NP2 Class RCC Pipes | C38: Rmt | D38: 34828
A39: 11 | B39: CW-G17Cost for laying and jointing of pipes | C39: Rmt | D39: 34831
B40: a) 300 MM dia NP3 Class RCC Pipes | C40: Rmt | D40: 34831
B41: b) 150 MM dia NP2 Class RCC Pipes | C41: Rmt | D41: 34831
...

Sheet abstract
A1: GENERAL ABSTRACT
A2: ='lead 1'!B2&'lead 1'!C2 -> Name of the Work: Constrution of Bharat Nirman Seva Kendra (BNSK) Grama Panchayat building in Gayamvaripalli GP of H.M.Padu Mandal
B4: ='Title page'!G22 -> Est Cost | C4: ='lead 1'!K4 -> 17.00 Lakhs
A6: S.No. | B6: Name of the Sub work | D6: Est Cost
A7: 1 | B7: 2 | D7: 3
A8: 1 | B8: Construction of Ground floor | D8: ='ground floor'!K411 -> 1471734
A9: 2 | B9: Construction of First floor | D9: ='first floor'!K275 -> 0
A10: 3 | B10: Construction of Fertiliser cum Pesticides Shop | D10: =Store!I269 -> 0
A11: 3 | B11: Provision for water supply -----------------LS--------
A12: 4 | B12: Provision for sanitary Facility -----------------LS--------
A13: 2 | B13: Provision for Electricity items | D13: ='Ele Estimate'!F52 -> 55109
A14: 6 | B14: Provision for Head room -----------------LS--------
B15: Sub Total | D15: =SUM(D8:D14) -> 1526843
A16: 3 | B16: Provision for GST as per calculation sheets | D16: =ROUND('GST Sheet'!G37,0) -> 130655
A17: 4 | B17: Provision for QC @0.5% (Excluding labour component) | D17: =INPUT!I37 -> 7583
A18: 5 | B18: Provision for Seignorage charges | D18: =SEIG!L38 -> 17457
A19: 7 | B19: Provision for soil Exploration and QC tests on materials
A20: 6 | B20: Provision for Name board | D20: 3600
A21: 7 | B21: Unforseen items such as if any | D21: =E21 -> 13862 | E21: =E22-D15-D16-D17-D18-D20 -> 13862
D22: =SUM(D15:D21) -> 1700000 | E22: 1700000
B27: ='lead 1'!I37 -> Deputy Executive Engineer | C27: ='lead 1'!L37 -> Assistant Engineer
B28: ='lead 1'!I38 -> PRI Sub Division | C28: ='lead 1'!L38 -> Mandal Praja parishad
B29: ='lead 1'!I39 -> Kanigiri | C29: ='lead 1'!L39 -> H.M.Padu

Sheet ground floor
A1: DETAILED ESTIMATE
A2: ='lead 1'!B2&'lead 1'!C2 -> Name of the Work: Constrution of Bharat Nirman Seva Kendra (BNSK) Grama Panchayat building in Gayamvaripalli GP of H.M.Padu Mandal
B3: NAME OF THE SUB WORK | C3: CONSTRUCTION OF GROUND FLOOR
A5: SL NO | B5: Description of work | C5: Nos | F5: Measurements | I5: Qty | J5: Rate | K5: Amount | L5: CW 01 wage Compont (34816) | M5: CW 02 cement /bags (34817) | N5: CW 03 Sand filling (34818) | O5: CW 04 Sand Mortar (34819) | P5: CW -G19 Sand for concrete (34832) | Q5: CW 07 20 mm(60%) and 12 mm(40%) (34822) | R5: CW 09 40 mm HBG (34824) | S5: CW-G20 Cost and supply of steel | T5: CW 10 for Skilled & Unskilled labour and other maireals (34825) | U5: Subtotal of all iteams
F6: L | G6: B | H6: D
A7: 1 | B7: 2 | C7: 3 | F7: 4 | G7: 5 | H7: 6 | I7: 7 | J7: 8 | K7: 9
A8: 1 | B8: Earth work excavation for foundations (Manual Means) of buildings, septic tank, sump, compound wall in ordinary soils and depositing on bank with an initial lead of 10m and 1m additional lift charges over the initial depth up to 3m including all operational, incidental, labour charges such as shoring, sheeting, planking, strutting etc., and overheads & contractors profit complete for finished item of work excluding dewatering charges etc., as per SS 20 B(APSS 308)
B9: F1 | C9: 1 | D9: x | E9: 3 | F9: 2.05 | G9: 2.05 | H9: 1.6 | I9: =ROUND(IF(AND(F9:H9),C9*E9*F9*G9*H9,IF(AND(F9,G9),C9*E9*F9*G9,IF(AND(F9,H9),C9*E9*F9*H9,IF(AND(G9,H9),C9*E9*G9*H9,IF(F9,C9*E9*F9,IF(G9,C9*E9*G9,IF(H9,C9*E9*H9,C9*E9))))))),2) -> 20.17
B10: F2 | C10: 1 | D10: x | E10: 5 | F10: 1.7 | G10: 1.7 | H10: 1.6 | I10: =ROUND(IF(AND(F10:H10),C10*E10*F10*G10*H10,IF(AND(F10,G10),C10*E10*F10*G10,IF(AND(F10,H10),C10*E10*F10*H10,IF(AND(G10,H10),C10*E10*G10*H10,IF(F10,C10*E10*F10,IF(G10,C10*E10*G10,IF(H10,C10*E10*H10,C10*E10))))))),2) -> 23.12
B11: F3 | C11: 1 | D11: x | E11: 4 | F11: 1.55 | G11: 1.55 | H11: 1.6 | I11: =ROUND(IF(AND(F11:H11),C11*E11*F11*G11*H11,IF(AND(F11,G11),C11*E11*F11*G11,IF(AND(F11,H11),C11*E11*F11*H11,IF(AND(G11,H11),C11*E11*G11*H11,IF(F11,C11*E11*F11,IF(G11,C11*E11*G11,IF(H11,C11*E11*H11,C11*E11))))))),2) -> 15.38
B13: Building alround | C13: 1 | D13: x | E13: 1 | F13: 41.86 | G13: 0.45 | H13: 0.15 | I13: =ROUND(IF(AND(F13:H13),C13*E13*F13*G13*H13,IF(AND(F13,G13),C13*E13*F13*G13,IF(AND(F13,H13),C13*E13*F13*H13,IF(AND(G13,H13),C13*E13*G13*H13,IF(F13,C13*E13*F13,IF(G13,C13*E13*G13,IF(H13,C13*E13*H13,C13*E13))))))),2) -> 2.83
B14: Deduct Column C1 | C14: 1 | D14: x | E14: 3 | F14: 0.45 | G14: 0.3 | H14: 0.15 | I14: =-ROUND(IF(AND(F14:H14),C14*E14*F14*G14*H14,IF(AND(F14,G14),C14*E14*F14*G14,IF(AND(F14,H14),C14*E14*F14*H14,IF(AND(G14,H14),C14*E14*G14*H14,IF(F14,C14*E14*F14,IF(G14,C14*E14*G14,IF(H14,C14*E14*H14,C14*E14))))))),2) -> -0.06
B15: Deduct Column C2 | C15: 1 | D15: x | E15: 7 | F15: 0.38 | G15: 0.3 | H15: 0.15 | I15: =-ROUND(IF(AND(F15:H15),C15*E15*F15*G15*H15,IF(AND(F15,G15),C15*E15*F15*G15,IF(AND(F15,H15),C15*E15*F15*H15,IF(AND(G15,H15),C15*E15*G15*H15,IF(F15,C15*E15*F15,IF(G15,C15*E15*G15,IF(H15,C15*E15*H15,C15*E15))))))),2) -> -0.12
B16: Deduct Column C3 | C16: 1 | D16: x | E16: 2 | F16: 0.38 | G16: 0.3 | H16: 0.15 | I16: =-ROUND(IF(AND(F16:H16),C16*E16*F16*G16*H16,IF(AND(F16,G16),C16*E16*F16*G16,IF(AND(F16,H16),C16*E16*F16*H16,IF(AND(G16,H16),C16*E16*G16*H16,IF(F16,C16*E16*F16,IF(G16,C16*E16*G16,IF(H16,C16*E16*H16,C16*E16))))))),2) -> -0.03
B18: Center wall | C18: 1 | D18: x | E18: 1 | F18: 8.92 | G18: 0.45 | H18: 0.15 | I18: =ROUND(IF(AND(F18:H18),C18*E18*F18*G18*H18,IF(AND(F18,G18),C18*E18*F18*G18,IF(AND(F18,H18),C18*E18*F18*H18,IF(AND(G18,H18),C18*E18*G18*H18,IF(F18,C18*E18*F18,IF(G18,C18*E18*G18,IF(H18,C18*E18*H18,C18*E18))))))),2) -> 0.6
B19: Center wall | C19: 1 | D19: x | E19: 1 | F19: 7.67 | G19: 0.45 | H19: 0.15 | I19: =ROUND(IF(AND(F19:H19),C19*E19*F19*G19*H19,IF(AND(F19,G19),C19*E19*F19*G19,IF(AND(F19,H19),C19*E19*F19*H19,IF(AND(G19,H19),C19*E19*G19*H19,IF(F19,C19*E19*F19,IF(G19,C19*E19*G19,IF(H19,C19*E19*H19,C19*E19))))))),2) -> 0.52
B20: Center wall | C20: 1 | D20: x | E20: 2 | F20: 3.44 | G20: 0.45 | H20: 0.15 | I20: =ROUND(IF(AND(F20:H20),C20*E20*F20*G20*H20,IF(AND(F20,G20),C20*E20*F20*G20,IF(AND(F20,H20),C20*E20*F20*H20,IF(AND(G20,H20),C20*E20*G20*H20,IF(F20,C20*E20*F20,IF(G20,C20*E20*G20,IF(H20,C20*E20*H20,C20*E20))))))),2) -> 0.46
B22: Outside Toilet | C22: 1 | D22: x | E22: 1 | F22: 4.51 | G22: 0.45 | H22: 0.15 | I22: =ROUND(IF(AND(F22:H22),C22*E22*F22*G22*H22,IF(AND(F22,G22),C22*E22*F22*G22,IF(AND(F22,H22),C22*E22*F22*H22,IF(AND(G22,H22),C22*E22*G22*H22,IF(F22,C22*E22*F22,IF(G22,C22*E22*G22,IF(H22,C22*E22*H22,C22*E22))))))),2) -> 0.3
B23: Cross wall | C23: 1 | D23: x | E23: 3 | F23: 1.08 | G23: 0.45 | H23: 0.15 | I23: =ROUND(IF(AND(F23:H23),C23*E23*F23*G23*H23,IF(AND(F23,G23),C23*E23*F23*G23,IF(AND(F23,H23),C23*E23*F23*H23,IF(AND(G23,H23),C23*E23*G23*H23,IF(F23,C23*E23*F23,IF(G23,C23*E23*G23,IF(H23,C23*E23*H23,C23*E23))))))),2) -> 0.22
B24: Inner Toilet | C24: 1 | D24: x | E24: 1 | F24: 2.435 | G24: 0.45 | H24: 0.15 | I24: =ROUND(IF(AND(F24:H24),C24*E24*F24*G24*H24,IF(AND(F24,G24),C24*E24*F24*G24,IF(AND(F24,H24),C24*E24*F24*H24,IF(AND(G24,H24),C24*E24*G24*H24,IF(F24,C24*E24*F24,IF(G24,C24*E24*G24,IF(H24,C24*E24*H24,C24*E24))))))),2) -> 0.16
B26: Steps Front and Side | C26: 1 | D26: x | E26: 2 | F26: 2.1 | G26: 1 | H26: 0.1 | I26: =ROUND(IF(AND(F26:H26),C26*E26*F26*G26*H26,IF(AND(F26,G26),C26*E26*F26*G26,IF(AND(F26,H26),C26*E26*F26*H26,IF(AND(G26,H26),C26*E26*G26*H26,IF(F26,C26*E26*F26,IF(G26,C26*E26*G26,IF(H26,C26*E26*H26,C26*E26))))))),2) -> 0.42
B27: Steps Back Side | C27: 1 | D27: x | E27: 1 | F27: 1.5 | G27: 1 | H27: 0.1 | I27: =ROUND(IF(AND(F27:H27),C27*E27*F27*G27*H27,IF(AND(F27,G27),C27*E27*F27*G27,IF(AND(F27,H27),C27*E27*F27*H27,IF(AND(G27,H27),C27*E27*G27*H27,IF(F27,C27*E27*F27,IF(G27,C27*E27*G27,IF(H27,C27*E27*H27,C27*E27))))))),2) -> 0.15
I28: =SUM(I9:I27) -> 64.12 | J28: =data1!G23 -> 124.4 | K28: =ROUND(J28*I28,0) -> 7977 | L28: =K28 -> 7977 | U28: =SUM(L28:T28) -> 7977
I29: nos | J29: 1no
A30: 2 | B30: Filling with useful available excavated earth (Excluding rock) in trenches, sides of foundations and basement with initial lead in layers not exceeding 15cm thick, consolidating each deposited layers by watering, ramming incl cost and conveyance of water to work site and all operational incidental, labour charges, hire charges of T & P etc., incl taxes complete for finished item of work (APSS No. 309 & 310)
I31: 36.56
I32: =SUM(I31:I31) -> 36.56 | J32: =data1!G57 -> 25.59 | K32: =ROUND(I32*J32,0) -> 936 | L32: =K32 -> 936 | U32: =L32 -> 936
A34: 3 | B34: Filling with carted coarse sand in trenches, sides of foundations and basement with initial lead in layers not exceeding 15cm thick, watering, ramming incl cost and conveyance of water to work site incl cost and conveyance of all materials, Seigniorage charges, sales and other taxes, operational, incidental, labour charges, hire charges of T&P etc., complete for fnished item of work (APSS NO.309&310).
B35: MGS room | C35: 1 | D35: x | E35: 1 | F35: 8.34 | G35: 3.66 | H35: 0.5 | I35: =ROUND(IF(AND(F35:H35),C35*E35*F35*G35*H35,IF(AND(F35,G35),C35*E35*F35*G35,IF(AND(F35,H35),C35*E35*F35*H35,IF(AND(G35,H35),C35*E35*G35*H35,IF(F35,C35*E35*F35,IF(G35,C35*E35*G35,IF(H35,C35*E35*H35,C35*E35))))))),2) -> 15.26
B36: Deduct Toilet room | C36: 1 | D36: x | E36: 1 | F36: 2.365 | G36: 1.43 | H36: 0.5 | I36: =-ROUND(IF(AND(F36:H36),C36*E36*F36*G36*H36,IF(AND(F36,G36),C36*E36*F36*G36,IF(AND(F36,H36),C36*E36*F36*H36,IF(AND(G36,H36),C36*E36*G36*H36,IF(F36,C36*E36*F36,IF(G36,C36*E36*G36,IF(H36,C36*E36*H36,C36*E36))))))),2) -> -1.69
B37: VO Room | C37: 1 | D37: x | E37: 1 | F37: 3.05 | G37: 3.66 | H37: 0.5 | I37: =ROUND(IF(AND(F37:H37),C37*E37*F37*G37*H37,IF(AND(F37,G37),C37*E37*F37*G37,IF(AND(F37,H37),C37*E37*F37*H37,IF(AND(G37,H37),C37*E37*G37*H37,IF(F37,C37*E37*F37,IF(G37,C37*E37*G37,IF(H37,C37*E37*H37,C37*E37))))))),2) -> 5.58
B38: Carridor | C38: 1 | D38: x | E38: 1 | F38: 1.5 | G38: 3.66 | H38: 0.5 | I38: =ROUND(IF(AND(F38:H38),C38*E38*F38*G38*H38,IF(AND(F38,G38),C38*E38*F38*G38,IF(AND(F38,H38),C38*E38*F38*H38,IF(AND(G38,H38),C38*E38*G38*H38,IF(F38,C38*E38*F38,IF(G38,C38*E38*G38,IF(H38,C38*E38*H38,C38*E38))))))),2) -> 2.75
B39: Sarpanch room | C39: 1 | D39: x | E39: 1 | F39: 3.66 | G39: 3.66 | H39: 0.5 | I39: =ROUND(IF(AND(F39:H39),C39*E39*F39*G39*H39,IF(AND(F39,G39),C39*E39*F39*G39,IF(AND(F39,H39),C39*E39*F39*H39,IF(AND(G39,H39),C39*E39*G39*H39,IF(F39,C39*E39*F39,IF(G39,C39*E39*G39,IF(H39,C39*E39*H39,C39*E39))))))),2) -> 6.7
B40: Meeting Hall | C40: 1 | D40: x | E40: 1 | F40: 8.7 | G40: 4.155 | H40: 0.5 | I40: =ROUND(IF(AND(F40:H40),C40*E40*F40*G40*H40,IF(AND(F40,G40),C40*E40*F40*G40,IF(AND(F40,H40),C40*E40*F40*H40,IF(AND(G40,H40),C40*E40*G40*H40,IF(F40,C40*E40*F40,IF(G40,C40*E40*G40,IF(H40,C40*E40*H40,C40*E40))))))),2) -> 18.07
B41: Toilet | C41: 1 | D41: x | E41: 1 | F41: 1.35 | G41: 1.65 | H41: 0.5 | I41: =ROUND(IF(AND(F41:H41),C41*E41*F41*G41*H41,IF(AND(F41,G41),C41*E41*F41*G41,IF(AND(F41,H41),C41*E41*F41*H41,IF(AND(G41,H41),C41*E41*G41*H41,IF(F41,C41*E41*F41,IF(G41,C41*E41*G41,IF(H41,C41*E41*H41,C41*E41))))))),2) -> 1.11
B42: Toilet | C42: 1 | D42: x | E42: 1 | F42: 1.35 | G42: 1.95 | H42: 0.5 | I42: =ROUND(IF(AND(F42:H42),C42*E42*F42*G42*H42,IF(AND(F42,G42),C42*E42*F42*G42,IF(AND(F42,H42),C42*E42*F42*H42,IF(AND(G42,H42),C42*E42*G42*H42,IF(F42,C42*E42*F42,IF(G42,C42*E42*G42,IF(H42,C42*E42*H42,C42*E42))))))),2) -> 1.32
I43: =SUM(I35:I42) -> 49.1 | J43: =data1!G45-data1!G39 -> 1414.4 | K43: =ROUND((J43*I43)/1,0) -> 69447 | N43: =K43 -> 69447 | U43: =SUM(L43:T43) -> 69447
I44: cum | J44: cum
A45: 4 | B45: labour charges for filling of sand in trenches, sides of foundations and basement with initial lead in layers not exceeding 15 cm thick, consolidating each deposited layer by watering and ramming including cost and conveyance of water to work site and all operational, incidental, labour charges, hire charges of T & P etc., complete for finished item of work. (APSS NO. 309 & 310) including cost and conveyance of all material and labour charges,and contractors profit & over heads but excluding seignorage charges and VAT etc., complete.
B46: MGS room | C46: 1 | D46: x | E46: 1 | F46: 8.34 | G46: 3.66 | H46: 0.5 | I46: =ROUND(IF(AND(F46:H46),C46*E46*F46*G46*H46,IF(AND(F46,G46),C46*E46*F46*G46,IF(AND(F46,H46),C46*E46*F46*H46,IF(AND(G46,H46),C46*E46*G46*H46,IF(F46,C46*E46*F46,IF(G46,C46*E46*G46,IF(H46,C46*E46*H46,C46*E46))))))),2) -> 15.26
...

Sheet first floor
A1: DETAILED ESTIMATE
A2: ='ground floor'!A2:K2 -> Name of the Work: Constrution of Bharat Nirman Seva Kendra (BNSK) Grama Panchayat building in Gayamvaripalli GP of H.M.Padu Mandal
B3: NAME OF THE SUB WORK | C3: CONSTRUCTION OF FIRST FLOOR
A5: SL NO | B5: Description of work | C5: Nos | F5: Measurements | I5: Qty | J5: Rate | K5: Amount | L5: CW 01 wage Compont (34816) | M5: CW 02 cement /bags (34817) | N5: CW 03 Sand filling (34818) | O5: CW 04 Sand Mortar (34819) | P5: CW -G19 Sand for concrete (34832) | Q5: CW 07 20 mm(60%) and 12 mm(40%) (34822) | R5: CW 09 40 mm HBG (34824) | S5: CW-G20 Cost and supply of steel | T5: CW 10 for Skilled & Unskilled labour and other maireals (34825) | U5: Subtotal of all iteams
F6: L | G6: B | H6: D
A7: 1 | B7: 2 | C7: 3 | F7: 4 | G7: 5 | H7: 6 | I7: 7 | J7: 8 | K7: 9
A8: 1 | B8: Supply and placing of the VRCC M20 design mix Concrete corresponding to Table 9 of IS 456 using with 20mm size graded machine crushed hard granite metal (coarse aggregate) from approved quarry including cost and conveyance of all materials like cement, fine aggregate (sand) coarse aggregate, water etc., to site including cost and conveyance of all materials, including all operational, incidental and labour charges such as , machine mixing, laying concrete, curing, including contractor profit and over head charges etc.,complete but excluding cost of steel and its fabrication charges for finished item of work with minimum cement content as per IS code from standard suppliers approved by the department including pumping, centering, shuttering, laying concrete, vibrating, curing etc. complete but excluding VAT and seignorage charges for finished item of work. For COLUMNS, LINTELS, WATER TANKS, RCC WALLS IN BUILDINGS.
B9: Columns in First Floor
B10: C1 Columns E1(F1 Footing) | C10: 1 | F10: 0.23 | G10: 0.23 | H10: 3.3 | I10: =ROUND(C10*F10*G10*H10,2) -> 0.17
B11: C1 Columns A1,B1,B2,C1,D1,E2(F2 Footing) | C11: 6 | F11: 0.23 | G11: 0.23 | H11: 3.3 | I11: =ROUND(C11*F11*G11*H11,2) -> 1.05
B12: C1 Columns C2(F3 Footing) | C12: 1 | F12: 0.23 | G12: 0.23 | H12: 3.3 | I12: =ROUND(C12*F12*G12*H12,2) -> 0.17
B13: C2 Columns A3,B3,C3,D3,E3(F2 Footing) | C13: 5 | F13: 0.23 | G13: 0.23 | H13: 3.3 | I13: =ROUND(C13*F13*G13*H13,2) -> 0.87
B14: C2 Columns A2,D2,(F3 Footing) | C14: 2 | F14: 0.23 | G14: 0.23 | H14: 3.3 | I14: =ROUND(C14*F14*G14*H14,2) -> 0.35
B15: Miscellaneous | I15: 0.04
J16: =data1!F256 -> 9429.562 | K16: =ROUND((J16*I16),0) -> 0 | L16: =ROUND($I$16*J321,2) -> 0 | M16: =ROUND(data1!I257*'first floor'!$I$16,0) -> 0 | N16: =ROUND(data1!J257*'first floor'!$I$16,2) -> 0 | O16: =ROUND(data1!K257*'first floor'!$I$16,2) -> 0 | P16: =ROUND(data1!L257*'first floor'!$I$16,0) -> 0 | Q16: =ROUND(data1!M257*'first floor'!$I$16,0) -> 0 | R16: =ROUND(data1!N257*'first floor'!$I$16,2) -> 0 | S16: =ROUND(data1!O257*'first floor'!$I$16,2) -> 0 | T16: =ROUND(data1!P257*'first floor'!$I$16,0) -> 0 | U16: =SUM(L16:T16) -> 0
I17: cum | J17: cum
B18: Lintels in between grids
B19: Staircase Landing | C19: 1 | F19: 2.95 | G19: 0.115 | H19: 0.15 | I19: =ROUND(C19*F19*G19*H19,2) -> 0.05
B20: B1 to E1,B3 to E3 | C20: 2 | F20: =2.82+3.01+3.465+0.23 -> 9.525 | G20: 0.23 | H20: 0.15 | I20: =ROUND(C20*F20*G20*H20,2) -> 0.66
B21: B2 to E2, B2' to E2' | C21: 2 | F21: =2.82+3.01+3.465+0.23 -> 9.525 | G21: 0.115 | H21: 0.15 | I21: =ROUND(C21*F21*G21*H21,2) -> 0.33
B22: B2 to B3 | C22: 1 | F22: 5.45 | G22: 0.23 | H22: 0.15 | I22: =ROUND(C22*F22*G22*H22,2) -> 0.19
B23: E1 to E3 | C23: 1 | F23: =3.39+5.22+0.23 -> 8.84 | G23: 0.23 | H23: 0.15 | I23: =ROUND(C23*F23*G23*H23,2) -> 0.3
B24: deductions | C24: 12 | F24: 0.23 | G24: 0.23 | H24: 0.15 | I24: =-ROUND(C24*F24*G24*H24,2) -> -0.1
B25: Miscellaneous | I25: 0.02
J26: =data1!F245 -> 9471.262 | K26: =ROUND((J26*I26),0) -> 0 | L26: =ROUND($I$26*data1!H246,2) -> 0 | M26: =ROUND($I$26*data1!I246,2) -> 0 | N26: =ROUND($I$26*data1!J246,2) -> 0 | O26: =ROUND($I$26*data1!K246,2) -> 0 | P26: =ROUND($I$26*data1!L246,2) -> 0 | Q26: =ROUND($I$26*data1!M246,2) -> 0 | R26: =ROUND($I$26*data1!N246,2) -> 0 | S26: =ROUND($I$26*data1!O246,2) -> 0 | T26: =ROUND($I$26*data1!P246,2) -> 0 | U26: =SUM(L26:T26) -> 0
I27: cum | J27: cum
A28: 2 | B28: Supply and placing of the RCC M20 design mix Concrete corresponding to Table 9 of IS 456 using with 20mm size graded machine crushed hard granite metal (coarse aggregate) from approved quarry including cost and conveyance of all materials like cement, fine aggregate (sand) coarse aggregate, water etc., to site including cost and conveyance of all materials, including all operational, incidental and labour charges such as , machine mixing, laying concrete, curing, including contractor profit and over head charges etc.,complete but excluding cost of steel and its fabrication charges for finished item of work with minimum cement content as per IS code from standard suppliers approved by the department including pumping, centering, shuttering, laying concrete, vibrating, curing etc. complete for laying of concrete 75 mm thick at fixed end and 50 mm thick at free end with an average thickness of 62.5mm including royalties and all taxes and all charges for finished item of work for 60.0 cm wide Sun-shade and Lofts but excluding VAT and seignorage charges
B29: Sunshades in First Floor
B30: over windows | C30: 8 | F30: 1.8 | I30: =ROUND(F30*C30,2) -> 14.4
B31: Visitors waiting | C31: 1 | F31: 8.7 | I31: =ROUND(F31*C31,2) -> 8.7
J32: =data1!F331 -> 818.208 | K32: =ROUND((J32*I32),0) -> 0 | L32: =ROUND($I$32*data1!H332,2) -> 0 | M32: =ROUND($I$32*data1!I332,2) -> 0 | N32: =ROUND($I$32*data1!J332,2) -> 0 | O32: =ROUND($I$32*data1!K332,2) -> 0 | P32: =ROUND($I$32*data1!L332,2) -> 0 | Q32: =ROUND($I$32*data1!M332,2) -> 0 | R32: =ROUND($I$32*data1!N332,2) -> 0 | S32: =ROUND($I$32*data1!O332,2) -> 0 | T32: =ROUND($I$32*data1!P332,2) -> 0 | U32: =SUM(L32:T32) -> 0
I33: rm | J33: rm
A34: 3 | B34: Supply and placing of the VRCC M20 design mix Concrete corresponding to Table 9 of IS 456 using with 20mm size graded machine crushed hard granite metal (coarse aggregate) from approved quarry including cost and conveyance of all materials like cement, fine aggregate (sand) coarse aggregate, water etc., to site including cost and conveyance of all materials, including all operational, incidental and labour charges such as , machine mixing, laying concrete, curing, including contractor profit and over head charges etc.,complete but excluding cost of steel and its fabrication charges for finished item of work with minimum cement content as per IS code from standard suppliers approved by the department including pumping, centering, shuttering, laying concrete, vibrating, curing etc. complete but excluding VAT and seignorage charges for finished item of work. For RCC SLABS, BEAMS
B35: FF Roof slab of 125mm thick
B36: A1A3 to E1E3 | C36: 1 | F36: 12.475 | G36: 8.84 | I36: =ROUND(C36*F36*G36,2) -> 110.28
J37: =data1!F295 -> 1185.448 | K37: =ROUND((J37*I37),0) -> 0 | L37: =ROUND($I$37*data1!H296,2) -> 0 | M37: =ROUND($I$37*data1!I296,2) -> 0 | N37: =ROUND($I$37*data1!J296,2) -> 0 | O37: =ROUND($I$37*data1!K296,2) -> 0 | P37: =ROUND($I$37*data1!L296,2) -> 0 | Q37: =ROUND($I$37*data1!M296,2) -> 0 | R37: =ROUND($I$37*data1!N296,2) -> 0 | S37: =ROUND($I$37*data1!O296,2) -> 0 | T37: =ROUND($I$37*data1!P296,2) -> 0 | U37: =SUM(L37:T37) -> 0
I38: sqm | J38: 1sqm
A39: 4 | B39: FF LADDER slab of 150mm thick | C39: 1 | F39: 1.15 | G39: 1 | I39: =ROUND(G39*F39*C39,2) -> 1.15
J40: =data1!F307 -> 1684.1236 | K40: =ROUND((J40*I40),0) -> 0 | L40: =ROUND($I$40*data1!H308,2) -> 0 | M40: =ROUND($I$40*data1!I308,2) -> 0 | N40: =ROUND($I$40*data1!J308,2) -> 0 | O40: =ROUND($I$40*data1!K308,2) -> 0 | P40: =ROUND($I$40*data1!L308,2) -> 0 | Q40: =ROUND($I$40*data1!M308,2) -> 0 | R40: =ROUND($I$40*data1!N308,2) -> 0 | S40: =ROUND($I$40*data1!O308,2) -> 0 | ... U40: =ROUND($I$40*data1!Q308,2) -> 0
I41: sqm | J41: sqm
...

Sheet Store
A1: DETAILED ESTIMATE
A2: ='Title page'!D20 -> CONSTRUCTION OF NEW SACHIVALAYAM IN SALIPETA(V)-II IN GUDLUR (M)
B3: Est Cost: | C3: ='Title page'!H22 -> 35 | D3: Lakhs
B4: NAME OF THE SUB WORK | C4: CONSTRUCTION OF STORE
A5: SL NO | B5: Description of work | C5: Nos | D5: Measurements | G5: Qty | H5: Rate | I5: Amount | J5: CW 01 wage Compont (34816) | K5: CW 02 cement /bags (34817) | L5: CW 03 Sand filling (34818) | M5: CW 04 Sand Mortar (34819) | N5: CW -G19 Sand for concrete (34832) | O5: CW 07 20 mm(60%) and 12 mm(40%) (34822) | P5: CW 09 40 mm HBG (34824) | Q5: CW-G20 Cost and supply of steel | R5: CW 10 for Skilled & Unskilled labour and other maireals (34825) | S5: Subtotal of all iteams
D6: L | E6: B | F6: D
A7: 1 | B7: 2 | C7: 3 | D7: 4 | E7: 5 | F7: 6 | G7: 7 | H7: 8 | I7: 9
A8: 1 | B8: Earth work excavation for foundations (Manual Means) of buildings, septic tank, sump, compound wall in ordinary soils and depositing on bank with an initial lead of 10m and 1m additional lift charges over the initial depth up to 3m including all operational, incidental, labour charges such as shoring, sheeting, planking, strutting etc., and overheads & contractors profit complete for finished item of work excluding dewatering charges etc., as per SS 20 B(APSS 308)
B9: Footings
B10: Footing | C10: 6 | D10: 1.7 | E10: 1.7 | F10: 1.65 | G10: =ROUND(C10*D10*E10*F10,2) -> 28.61
B11: External Plinth wall Long | C11: 2 | D11: =6.56+2*0.24 -> 7.04 | E11: 0.6 | F11: 0.9 | G11: =ROUND(C11*D11*E11*F11,2) -> 7.6
B12: External Plinth wall short | C12: 2 | D12: =4.57+1*0.23-2*0.36 -> 4.08 | E12: 0.6 | F12: 0.9 | G12: =ROUND(C12*D12*E12*F12,2) -> 4.41
B13: Front Steps | C13: 1 | D13: 5.03 | E13: 1.8 | F13: 0.3 | G13: =ROUND(C13*D13*E13*F13,2) -> 2.72
B14: Miscellaneous | G14: 0.34
G15: 0 | H15: =data1!G23 -> 124.4 | I15: =ROUND(H15*G15,0) -> 0 | J15: =I15 -> 0 | S15: =SUM(J15:R15) -> 0
G16: nos | H16: 1no
A17: 2 | B17: Filling with useful available excavated earth (Excluding rock) in trenches, sides of foundations and basement with initial lead in layers not exceeding 15cm thick, consolidating each deposited layers by watering, ramming incl cost and conveyance of water to work site and all operational incidental, labour charges, hire charges of T & P etc., incl taxes complete for finished item of work (APSS No. 309 & 310)
B18: =B10 -> Footing | C18: =C10 -> 6 | D18: =D10 -> 1.7 | E18: =E10 -> 1.7 | F18: =F10 -> 1.65 | G18: =ROUND(C18*D18*E18*F18,2) -> 28.61
B19: =B11 -> External Plinth wall Long | C19: =C11 -> 2 | D19: =D11 -> 7.04 | E19: =E11 -> 0.6 | F19: =F11 -> 0.9 | G19: =ROUND(C19*D19*E19*F19,2) -> 7.6
B20: =B12 -> External Plinth wall short | C20: =C12 -> 2 | D20: =D12 -> 4.08 | E20: =E12 -> 0.6 | F20: =F12 -> 0.9 | G20: =ROUND(C20*D20*E20*F20,2) -> 4.41
B21: =B13 -> Front Steps | C21: =C13 -> 1 | D21: =D13 -> 5.03 | E21: =E13 -> 1.8 | F21: =F13 -> 0.3 | G21: =ROUND(C21*D21*E21*F21,2) -> 2.72
G22: =SUM(G18:G20) -> 40.62
B23: Deduct Sand filling in footings
B24: =B18 -> Footing | C24: =C18 -> 6 | D24: =D18 -> 1.7 | E24: =E18 -> 1.7 | F24: 0.15 | G24: =-ROUND(C24*D24*E24*F24,2) -> -2.6
B25: =B19 -> External Plinth wall Long | C25: =C19 -> 2 | D25: =D19 -> 7.04 | E25: =E19 -> 0.6 | F25: 0.15 | G25: =-ROUND(C25*D25*E25*F25,2) -> -1.27
B26: =B20 -> External Plinth wall short | C26: =C20 -> 2 | D26: =D20 -> 4.08 | E26: =E20 -> 0.6 | F26: 0.15 | G26: =-ROUND(C26*D26*E26*F26,2) -> -0.73
B27: Deduct PCC (1:4:8)filling in footings
B28: =B24 -> Footing | C28: =C24 -> 6 | D28: =D24 -> 1.7 | E28: =E24 -> 1.7 | F28: 0.15 | G28: =-ROUND(C28*D28*E28*F28,2) -> -2.6
B29: =B25 -> External Plinth wall Long | C29: =C25 -> 2 | D29: =D25 -> 7.04 | E29: =E25 -> 0.6 | F29: 0.15 | G29: =-ROUND(C29*D29*E29*F29,2) -> -1.27
B30: =B26 -> External Plinth wall short | C30: =C26 -> 2 | D30: =D26 -> 4.08 | E30: =E26 -> 0.6 | F30: 0.15 | G30: =-ROUND(C30*D30*E30*F30,2) -> -0.73
B31: Deduct for RCC M30 footings
B32: =B24 -> Footing | C32: =C28 -> 6 | D32: =D24-2*0.1 -> 1.5 | E32: =E24-2*0.1 -> 1.5 | F32: 0.35 | G32: =-ROUND(C32*D32*E32*F32,2) -> -4.73
B33: Deduct for RCC M30 Pedastals | C33: =C32 -> 6 | D33: 0.45 | E33: 0.45 | F33: 0.45 | G33: =-ROUND(C33*D33*E33*F33,2) -> -0.55
B34: Deduct for RCC M25 Columns upto GL | C34: =C33 -> 6 | D34: 0.38 | E34: 0.23 | F34: 0.55 | G34: =-ROUND(C34*D34*E34*F34,2) -> -0.29
B35: Miscellaneous | G35: 0.15
G36: 0 | H36: =data1!G57 -> 25.59 | I36: =ROUND(G36*H36,0) -> 0 | J36: =I36 -> 0 | S36: =J36 -> 0
A38: 3 | B38: Filling with carted coarse sand in trenches, sides of foundations and basement with initial lead in layers not exceeding 15cm thick, watering, ramming incl cost and conveyance of water to work site incl cost and conveyance of all materials, Seigniorage charges, sales and other taxes, operational, incidental, labour charges, hire charges of T&P etc., complete for fnished item of work (APSS NO.309&310).
B39: =B10 -> Footing | C39: =C10 -> 6 | D39: =D10 -> 1.7 | E39: =E10 -> 1.7 | F39: 0.15 | G39: =ROUND(C39*D39*E39*F39,2) -> 2.6
B40: =B11 -> External Plinth wall Long | C40: =C11 -> 2 | D40: =D11 -> 7.04 | E40: =E11 -> 0.6 | F40: 0.15 | G40: =ROUND(C40*D40*E40*F40,2) -> 1.27
B41: =B12 -> External Plinth wall short | C41: =C12 -> 2 | D41: =D12 -> 4.08 | E41: =E12 -> 0.6 | F41: 0.15 | G41: =ROUND(C41*D41*E41*F41,2) -> 0.73
...

Sheet Ele Estimate
A1: DETAILED ESTIMATE
A2: Name of the work | B2: ='lead 1'!C2 -> Constrution of Bharat Nirman Seva Kendra (BNSK) Grama Panchayat building in Gayamvaripalli GP of H.M.Padu Mandal
A3: Name of the sub work | B3: Providing Electrification Items
A4: S.NO | B4: DESCRIPTION OF WORK | C4: QTY | D4: RATE | E4: PER | F4: AMOUNT
A5: 1 | B5: Supply and Fixing of ISI 25mm outer dia medium (1.80mm thickness) grade with IS:9537 part 3 regid PVC pipe with PVC / Metallic Junction boxes and all accessories including Fixing of existing suitable size Consealed box PVC / MS with hook for fan including all labour charges etc., complete.(Data No.12-13-3.1.3) | C5: 50 | D5: ='Ele Data'!I20 -> 57.7 | E5: RMT | F5: =ROUND(C5*D5,0) -> 2885
A7: 2 | B7: Labour charges for Grooves 2-3mm thick for PVC pipes | C7: 50 | D7: ='Ele Data'!I24 -> 55 | E7: RMT | F7: =ROUND(C7*D7,0) -> 2750
A9: 3 | B9: Supply and laying of ISI 25mm outer dia medium (1.80mm thickness) grade with IS:9537 part 3 regid PVC pipe concealed in wall with PVC / Metallic junction boxes and all required accessories including masonary work for light, fan and separate plug point including Fixing of existing suitable size moduler box for fix the Modular type switches including all labour charges etc., complete.(Data No. ) | C9: 40 | D9: ='Ele Data'!I44 -> 72.2 | E9: RMT | F9: =ROUND(C9*D9,0) -> 2888
A11: 4 | B11: Wiring with run of 2 of 14/0.3mm (1.0 Sq.mm) FRLS / HFFR PVC insulated flexible ISI mark copper cable in existing PVC conduit pipe including Supply and fixing of Jumbo Ceiling rose and 6A/10A ISI Mark 1way Modular switch with required modular box and cover frame in existing Surface or Concealed pipe wiring including cost and conveyance of all material and all labour charges etc., complete for light and bell points in N.R.B.(Data No. ) | C11: 20 | D11: ='Ele Data'!I65 -> 522 | E11: EACH | F11: =ROUND(C11*D11,0) -> 10440
A13: 5 | B13: Supply and fixing of 6A/10A ISI Mark 3/2 pin Modular socket with 6A/10A 1way Modular switch, 3 Module box with cover frame on a Common switch board including cost and conveyance of all materials and all labour charges etc., complete in N.R.B.(Data No. ) | C13: 6 | D13: ='Ele Data'!I81 -> 431 | E13: EACH | F13: =ROUND(C13*D13,0) -> 2586
A15: 5 | B15: Wiring with run of 3 of 14/0.3mm (1.0 Sq.mm) FRLS / HFFR PVC insulated flexible ISI mark copper cable in existing PVC Surface / Consealed conduit pipe wiring including supply and fixing of 6A/10A ISI Mark 3/2 pin Modular socket, 6A/10A 1way Modular switch, 3 Module box with required cover frame including cost and conveyance of all material and all labour charges etc., complete for seperate plug points in N.R.B. (Data No. ) | D15: ='Ele Data'!I104 -> 564 | E15: EACH | F15: =ROUND(C15*D15,0) -> 0
F16: =ROUND(C16*D16,0) -> 0
A17: 6 | B17: Supply and Run of 3 of 22/0.3mm (1.50 Sq.mm) FRLS / HFFR PVC insulated flexible ISI mark copper cable in existing pipe for run of mains inlcuding all labour charges etc., complete.(Data No. ) | C17: 30 | D17: ='Ele Data'!I122 -> 67 | E17: RMT | F17: =ROUND(C17*D17,0) -> 2010
A19: 7 | B19: Supply and Run of 2 of 36/0.3mm (2.50 Sq.mm) with Run 1 of 22/0.3mm(1.5Sqmm) FRLS / HFFR PVC insulated flexible ISI mark copper cable in existing pipe for run of mains inlcuding all labour charges etc., complete.(Data No. ) | D19: ='Ele Data'!I140 -> 85.6 | E19: RMT | F19: =ROUND(C19*D19,0) -> 0
A21: 8 | B21: Supply and Run of 2 of 56/0.3mm (4.00 Sq.mm) with Run 1 of 22/0.3mm(1.5Sqmm) FRLS / HFFR PVC insulated flexible ISI mark copper cable in existing pipe for run of mains inlcuding all labour charges etc., complete.(Data No. ) | D21: ='Ele Data'!I158 -> 113 | E21: RMT | F21: =ROUND(C21*D21,0) -> 0
A23: 7 | B23: Supply and fixing of ISI mark batten holder / angle holder on existing block, but without bulb including all connections etc., complete (For replacement).(Data No. ) | C23: 8 | D23: ='Ele Data'!I172 -> 67 | E23: EACH | F23: =ROUND(C23*D23,0) -> 536
A25: 10 | B25: Supply and fixing of Modular telephone Jack with connector on existing Metallic deep box in existing surface / consealed pipe wiring including cost and coveyance of all material and all labour charges etc., complete in N.R.B. / R.B. (Data No. ) | D25: ='Ele Data'!I185 -> 113.6 | E25: EACH | F25: =ROUND(C25*D25,0) -> 0
A27: 8 | B27: Supply and Transportation and fixing of 1200 mm length,Box type powder coatedtube light luminaire with necessary wiring suitable for fixing 2 Nos retrofit T8 LED tubes but without tube and choke Makes: Phillips / Crompton /Bajaj/Surya/Havells/HPL | C27: 6 | D27: ='Ele Data'!I279 -> 405 | E27: EACH | F27: =ROUND(C27*D27,0) -> 2430
A29: 9 | B29: Supply, Transportation and Fixing of 48" (1200mm) Sweep 5 Star rated Ceiling Fan with double ball bearings but without regulator including all standard accessories and all labour charges etc., complete.(Data No. ) | C29: 4 | D29: ='Ele Data'!I202 -> 2457 | E29: EACH | F29: =ROUND(C29*D29,0) -> 9828
A31: 10 | B31: Supply & Fixing of Modular type Stepped electronic regulator for sweep AC ceiling fans of 900mm / 1200mm / 1400mm. (Data No. ) | C31: 4 | D31: ='Ele Data'!I216 -> 497 | E31: EACH | F31: =ROUND(C31*D31,0) -> 1988
A33: 11 | B33: Supply and fixing of Consealed box PVC / MS with hook for fan grouted in RCC slab with making the slab as original.(Data No. ) | C33: 4 | D33: ='Ele Data'!I230 -> 272.8 | E33: EACH | F33: =ROUND(C33*D33,0) -> 1091
A35: 12 | B35: Supply and fixing of 19/20mm dia steel tube down rod for ceiling fan of 1 Mtr Length with bolts and nuts duly painted with matching colour of fan including all labour charges etc., complete.(Data No. ) | C35: 4 | D35: ='Ele Data'!I242 -> 132 | E35: EACH | F35: =ROUND(C35*D35,0) -> 528
A37: 16 | B37: Supply, Transportation and Fixing of 12" (300mm) ISI, Fresh Air fan with metallic body and blades including making hole in wall and masonary work and all labour charges etc., complete. (Data No. ) | C37: 2 | D37: ='Ele Data'!I263 -> 2076 | E37: EACH
A39: 13 | B39: Supply and fixing of DB with 1 No 20A single phase plug and Socket, in sheet steel enclosure with 1 No 10A to 20A 10 KA SP MCB including internal connection and labour charges for Surface Mounting etc., complete. (Data No. ) | C39: 1 | D39: ='Ele Data'!I295 -> 1227 | E39: EACH | F39: =ROUND(C39*D39,0) -> 1227
A41: 14 | B41: Supply and fixing of 8 Way TPN DB Horizontal with IP 20 / 43 Protection as per IS:13032 and suitable for 24 Nos S.P. out goings and for 1 No 4 pole Incommer with 1 No 40A / 63A / 80A / 100A FP Isolator and 24 Nos 6-32 A 10kA SP MCBs of including internal connections and labour charges for Flush Mounting etc., complete. (Data No. 6.2.1) | C41: 1 | D41: ='Ele Data'!I315 -> 10532 | E41: EACH | F41: =ROUND(C41*D41,0) -> 10532
A43: 19 | B43: Supply and Run of 4 of 84/0.3mm (6.0 Sq.mm) with Run 1 of 36/0.3mm(2.5 Sqmm) FRLS / HFFR PVC insulated flexible ISI mark copper cable in existing pipe for run of mains inlcuding all labour charges etc., complete.(Data No. ) | D43: ='Ele Data'!I333 -> 297.8 | E43: RMT | F43: =ROUND(C43*D43,0) -> 0
A45: 15 | B45: Providing independent earthling by excavating a pit to a depth of 2.25Mt in all soils, as per size specified in the Data, using 40mm dia 'B' class GI pipe of 2.5 Mtrs length with necessary No.8 G.I. double earth wire and accessories with 18" dia 2" thick hume pipe ring duly providing staggered holes including filling with 20Kg Salt and 40Kg Charcoal or 40Kg bentonite powder in layers and all labour charges etc., complete.(Data No. ) | C45: 1 | D45: ='Ele Data'!I357 -> 3390 | E45: EAH | F45: =ROUND(C45*D45,0) -> 3390
A47: 21 | B47: Supply,laying ,testing and commisioning of 4-pair, Cat6 Solid (Third party ETL Intertek tested 600 MHZ above) to support 1Gbps with Cross (+) filler pair seperator & PVC sheath 23 AWG, STP/UTP Cable , Meets or exceeds NSI/TIA- 568-C.2 and UL Listed &RoHS Compliant in the existing raceways /pvc conduits including making connections to information outlets and patch panels with erruling at both ends for identifiation with necessary tools for punching stripping crimping and testing required etc., complete Makes: Systimax /AMP/ Panduit/ Siemond/ Molex/Legrand | D47: ='Ele Data'!I391 -> 32 | E47: RMT | F47: =ROUND(C47*D47,0) -> 0
A49: 22 | B49: Supply and run of 5 pair telephone copper wire in existing pipe inlcuding all labour charges etc., complete. Makes:Finolex / Delton / Surabi / Polycab / Nakoda / GM. | D49: ='Ele Data'!I371 -> 29.7 | E49: RMT | F49: =ROUND(C49*D49,0) -> 0
A51: 23 | B51: APSPDCL ELECTRICAL CHARGES | H51: =F51+G54 -> 294891
B52: TOTAL | F52: =SUM(F5:F51) -> 55109
G54: =350000-F52 -> 294891
B56: ='lead 1'!I37 -> Deputy Executive Engineer | E56: ='lead 1'!L37 -> Assistant Engineer
B57: ='lead 1'!I38 -> PRI Sub Division | E57: ='lead 1'!L38 -> Mandal Praja parishad
B58: ='lead 1'!I39 -> Kanigiri | E58: ='lead 1'!L39 -> H.M.Padu

Sheet SEIG
A1: SEIGNEORAGE STATEMENT
A2: ='lead 1'!B2&'lead 1'!C2 -> Name of the Work: Constrution of Bharat Nirman Seva Kendra (BNSK) Grama Panchayat building in Gayamvaripalli GP of H.M.Padu Mandal
A3: S.No | B3: Description of Item | C3: Ground Floor | D3: First Floor | E3: Head Room | F3: Septic tank | G3: Total | H3: Unit | I3: Sand for Filling | K3: Sand for Mortor | M3: Sand for concrete | O3: 40 MM HBG Metal | Q3: 20, 12, 10, 6MM HBG Metal | S3: Brick | U3: Cement | W3: Steel
I4: ratio | J4: Qty | K4: ratio | L4: Qty | M4: ratio | N4: Qty | O4: ratio | P4: Qty | Q4: ratio | R4: Qty | S4: ratio | T4: Qty | U4: ratio | V4: Qty | W4: Qty
A5: 1 | B5: 2 | C5: 3 | D5: 4 | E5: 5 | F5: 6 | G5: 4 | H5: 5 | I5: 6 | J5: 7 | K5: 8 | L5: 9 | M5: 10 | N5: 11 | O5: 12 | P5: 13 | Q5: 14 | R5: 15 | S5: 16 | T5: 17 | U5: 18 | V5: 19 | W5: 20
A6: 1 | B6: Sand filling | C6: ='ground floor'!I43 -> 49.1 | G6: =C6+D6+E6+F6 -> 49.1 | H6: Cum | I6: 1 | J6: =ROUND(G6*I6,2) -> 49.1
A7: 2 | B7: CC (1:4:8) | C7: ='ground floor'!I86 -> 20.76 | G7: =C7+D7+E7+F7 -> 20.76 | H7: Cum | M7: 0.45 | N7: =ROUND(G7*M7,2) -> 9.34 | O7: 0.9 | P7: =ROUND(G7*O7,2) -> 18.68 | U7: 162 | V7: =ROUND(G7*U7,2) -> 3363.12
A8: 3 | B8: M20 mix - Column Footings | C8: ='ground floor'!I94 -> 13.3 | G8: =C8+D8+E8+F8 -> 13.3 | H8: Cum | M8: 0.4 | N8: =ROUND(G8*M8,2) -> 5.32 | Q8: 0.8 | R8: =ROUND(G8*Q8,2) -> 10.64 | U8: 330 | V8: =ROUND(G8*U8,2) -> 4389
A9: 4 | B9: M20 mix - Column Pedastal | C9: ='ground floor'!I99 -> 2.59 | G9: =C9+D9+E9+F9 -> 2.59 | H9: Cum | M9: 0.4 | N9: =ROUND(G9*M9,2) -> 1.04 | Q9: 0.8 | R9: =ROUND(G9*Q9,2) -> 2.07 | U9: =U8 -> 330 | V9: =ROUND(G9*U9,2) -> 854.7
A10: 5 | B10: M20 mix - Plinth Beam | C10: ='ground floor'!I114 -> 4.89 | G10: =C10+D10+E10+F10 -> 4.89 | H10: Cum | M10: 0.4 | N10: =ROUND(G10*M10,2) -> 1.96 | Q10: 0.8 | R10: =ROUND(G10*Q10,2) -> 3.91 | U10: =U9 -> 330 | V10: =ROUND(G10*U10,2) -> 1613.7
A11: 6 | B11: M20 mix - Columns | C11: ='ground floor'!I122 -> 5.87 | D11: ='first floor'!I16 -> 0 | G11: =C11+D11+E11+F11 -> 5.87 | H11: Cum | M11: 0.4 | N11: =ROUND(G11*M11,2) -> 2.35 | Q11: 0.8 | R11: =ROUND(G11*Q11,2) -> 4.7 | U11: =U10 -> 330 | V11: =ROUND(G11*U11,2) -> 1937.1
A12: 7 | B12: M20 mix - Lintels | C12: ='ground floor'!I138 -> 2.26 | D12: ='first floor'!I26 -> 0 | G12: =C12+D12+E12+F12 -> 2.26 | H12: Cum | M12: 0.4 | N12: =ROUND(G12*M12,2) -> 0.9 | Q12: 0.8 | R12: =ROUND(G12*Q12,2) -> 1.81 | U12: =U11 -> 330 | V12: =ROUND(G12*U12,2) -> 745.8
A13: 8 | B13: M20 mix - Roof slab 150 mm | C13: ='ground floor'!I147 -> 0 | D13: ='first floor'!I40 -> 0 | G13: =C13+D13+E13+F13 -> 0 | H13: Sqm | M13: =ROUND(0.4*0.15,3) -> 0.06 | N13: =ROUND(G13*M13,2) -> 0 | Q13: =ROUND(0.8*0.15,3) -> 0.12 | R13: =ROUND(G13*Q13,2) -> 0 | U13: =ROUND(330*0.15,2) -> 49.5 | V13: =ROUND(G13*U13,2) -> 0
A14: 8 | B14: M20 mix - Roof slab 125 mm | C14: ='ground floor'!I152 -> 131.91 | D14: ='first floor'!I37 -> 0 | G14: =C14+D14+E14+F14 -> 131.91 | H14: Sqm | M14: =ROUND(0.4*0.125,3) -> 0.05 | N14: =ROUND(G14*M14,2) -> 6.6 | Q14: =ROUND(0.8*0.125,3) -> 0.1 | R14: =ROUND(G14*Q14,2) -> 13.19 | U14: =ROUND(330*0.125,2) -> 41.25 | V14: =ROUND(G14*U14,2) -> 5441.29
A15: 9 | B15: M20 mix - Roof level beams | C15: ='ground floor'!I160 -> 5.39 | D15: ='first floor'!I50 -> 0 | G15: =C15+D15+E15+F15 -> 5.39 | H15: Cum | M15: 0.4 | N15: =ROUND(G15*M15,2) -> 2.16 | Q15: 0.8 | R15: =ROUND(G15*Q15,2) -> 4.31 | U15: =U12 -> 330 | V15: =ROUND(G15*U15,2) -> 1778.7
A16: 10 | B16: M20 mix - Sunshades | C16: ='ground floor'!I172 -> 20.24 | D16: ='first floor'!I32 -> 0 | G16: =C16+D16+E16+F16 -> 20.24 | H16: Rm | M16: =ROUND(0.4*0.0375,3) -> 0.015 | N16: =ROUND(G16*M16,2) -> 0.3 | Q16: =ROUND(0.8*0.0375,3) -> 0.03 | R16: =ROUND(G16*Q16,2) -> 0.61 | U16: =ROUND(330*0.0375,2) -> 12.38 | V16: =ROUND(G16*U16,2) -> 250.57
A17: 11 | B17: Brick Masonery in C.M (1:8) | C17: ='ground floor'!I212 -> 32.12 | G17: =C17+D17+E17+F17 -> 32.12 | H17: Cum | K17: 0.2 | L17: =ROUND(G17*K17,2) -> 6.42 | S17: 0.512 | T17: =ROUND(G17*S17,2) -> 16.45 | U17: 36 | V17: =ROUND(G17*U17,2) -> 1156.32
A18: 12 | B18: Brick Masonery in C.M (1:6) | C18: ='ground floor'!I227 -> 9.77 | D18: ='first floor'!I60 -> 0 | G18: =C18+D18+E18+F18 -> 9.77 | H18: Cum | K18: 0.2 | L18: =ROUND(G18*K18,2) -> 1.95 | S18: 0.512 | T18: =ROUND(G18*S18,2) -> 5 | U18: 48 | V18: =ROUND(G18*U18,2) -> 468.96
A19: 13 | B19: RCC Brick Masonery 115mm | C19: ='ground floor'!I238 -> 0 | D19: ='first floor'!I76 -> 0 | G19: =C19+D19+E19+F19 -> 0 | H19: Sqm | K19: =ROUND(0.2*0.1,3) -> 0.02 | L19: =ROUND(G19*K19,2) -> 0 | S19: =ROUND(0.565*0.1,3) -> 0.057 | T19: =ROUND(G19*S19,2) -> 0 | U19: =ROUND(72*0.1,2) -> 7.2 | V19: =ROUND(G19*U19,2) -> 0
A20: 14 | B20: Impervious coat with C.M ( 1;3 ), 20 mm thick | C20: ='ground floor'!I165 -> 131.91 | G20: =C20+D20+E20+F20 -> 131.91 | H20: Sqm | K20: 0.021 | L20: =ROUND(G20*K20,2) -> 2.77 | U20: 10.08 | V20: =ROUND(G20*U20,2) -> 1329.65
A21: 15 | B21: Plastering 12 mm two coats | C21: ='ground floor'!I253 -> 324.55 | D21: ='first floor'!I154 -> 0 | G21: =C21+D21+E21+F21 -> 324.55 | H21: Sqm | K21: =ROUND(0.015*1,3) -> 0.015 | L21: =ROUND(G21*K21,2) -> 4.87 | U21: 5.09 | V21: =ROUND(G21*U21,2) -> 1651.96
A22: 16 | B22: Plastering 20 mm two coats | C22: ='ground floor'!I262 -> 184.73 | D22: ='first floor'!I162 -> 0 | G22: =C22+D22+E22+F22 -> 184.73 | H22: Sqm | K22: =ROUND(0.021*1.05,3) -> 0.022 | L22: =ROUND(G22*K22,2) -> 4.06 | U22: 5.75 | V22: =ROUND(G22*U22,2) -> 1062.2
A23: 17 | B23: Ornamental plastering with C. M ( 1:3 ), 12 mm thick | C23: ='ground floor'!I287 -> 176.97 | D23: ='first floor'!I126 -> 0 | G23: =C23+D23+E23+F23 -> 176.97 | H23: Sqm | K23: =ROUND(0.015*1.05,3) -> 0.016 | L23: =ROUND(G23*K23,2) -> 2.83 | U23: 7.2 | V23: =ROUND(G23*U23,2) -> 1274.18
A24: 18 | B24: Flooring with Virtified tiles | C24: ='ground floor'!I299 -> 98.2 | D24: ='first floor'!I100 -> 0 | G24: =C24+D24+E24+F24 -> 98.2 | H24: Sqm | K24: 0.014 | L24: =ROUND(G24*K24,2) -> 1.37 | U24: 6.06 | V24: =ROUND(G24*U24,2) -> 595.09
A25: 19 | B25: Skirting with Polishde stone | C25: ='ground floor'!I312 -> 11.94 | D25: ='first floor'!I114 -> 0 | G25: =C25+D25+E25+F25 -> 11.94 | H25: Sqm | K25: 0.012 | L25: =ROUND(G25*K25,2) -> 0.14 | U25: 9.06 | V25: =ROUND(G25*U25,2) -> 108.18
A26: 20 | B26: Granolithic Concrete Flooring | C26: ='ground floor'!I318 -> 0 | D26: ='first floor'!I52 -> 0 | G26: =C26+D26+E26+F26 -> 0 | H26: Sqm | M26: =ROUND(0.085*0.1,4) -> 0.0085 | N26: =ROUND(G26*M26,2) -> 0 | Q26: =ROUND(0.17*0.1,3) -> 0.017 | R26: =ROUND(G26*Q26,2) -> 0 | U26: =ROUND(120*0.1,2) -> 12 | V26: =ROUND(G26*U26,2) -> 0
A27: 21 | B27: Ceramic tiled flooring | C27: ='ground floor'!I323 -> 0 | D27: ='first floor'!I170 -> 0 | G27: =C27+D27+E27+F27 -> 0 | H27: Sqm | K27: 0.012 | L27: =ROUND(G27*K27,2) -> 0 | U27: 5.46 | V27: =ROUND(G27*U27,2) -> 0
A28: 22 | B28: Daddoing with tiles | C28: ='ground floor'!I328 -> 0 | D28: ='first floor'!I178 -> 0 | G28: =C28+D28+E28+F28 -> 0 | H28: Sqm | K28: 0.012 | L28: =ROUND(G28*K28,2) -> 0 | U28: 9.06 | V28: =ROUND(G28*U28,2) -> 0
A29: 23 | B29: Impervious coat with C.M ( 1;3 ), 20 mm thick | D29: ='first floor'!I118 -> 0 | G29: =C29+D29+E29+F29 -> 0 | H29: Sqm | K29: 0.021 | L29: =ROUND(G29*K29,2) -> 0 | U29: 10.08 | V29: =ROUND(G29*U29,2) -> 0
A30: 1 | B30: CC (1:5:10) | G30: =C30+D30+E30+F30 -> 0 | H30: Cum | M30: 0.45 | N30: =ROUND(G30*M30,2) -> 0 | O30: 0.9 | P30: =ROUND(G30*O30,2) -> 0 | U30: 129.6 | V30: =ROUND(G30*U30,2) -> 0
A31: 11 | B31: M20 mix - Roof slab 115 mm | G31: =C31+D31+E31+F31 -> 0 | H31: Sqm | M31: =ROUND(0.45*0.115,3) -> 0.052 | N31: =ROUND(G31*M31,2) -> 0 | Q31: =ROUND(0.9*0.115,3) -> 0.104 | R31: =ROUND(G31*Q31,2) -> 0 | U31: =ROUND(330*0.115,2) -> 37.95 | V31: =ROUND(G31*U31,2) -> 0
A32: 12 | B32: M20 mix - Roof slab 100 mm | G32: =C32+D32+E32+F32 -> 0 | H32: Sqm | M32: =ROUND(0.45*0.1,3) -> 0.045 | N32: =ROUND(G32*M32,2) -> 0 | Q32: =ROUND(0.9*0.1,3) -> 0.09 | R32: =ROUND(G32*Q32,2) -> 0 | U32: =ROUND(330*0.1,2) -> 33 | V32: =ROUND(G32*U32,2) -> 0
A33: 14 | B33: PCC M20 mix - Staircase step | G33: =C33+D33+E33+F33 -> 0 | H33: Cum | M33: 0.45 | N33: =ROUND(G33*M33,2) -> 0 | Q33: 0.9 | R33: =ROUND(G33*Q33,2) -> 0 | U33: 330 | V33: =ROUND(G33*U33,2) -> 0
A34: 20 | B34: Steel | C34: ='ground floor'!I407/1000 -> 4 | D34: ='first floor'!I257/1000 -> 0 | G34: =C34+D34+E34+F34 -> 4 | H34: MT | W34: =G34 -> 4
J35: =SUM(J6:J34) -> 49.1 | L35: =SUM(L6:L34) -> 24.41 | N35: =SUM(N6:N34) -> 29.97 | P35: =SUM(P6:P34) -> 18.68 | R35: =SUM(R6:R34) -> 41.24 | T35: =SUM(T6:T34) -> 21.45 | V35: =SUM(V6:V34) -> 28020.52 | W35: =SUM(W6:W34) -> 4
J36: 100 | L36: 100 | N36: 100 | P36: 90 | R36: 90 | T36: 80 | V36: 50 | W36: 1
J37: =ROUND(J35*J36,2) -> 4910 | L37: =ROUND(L35*L36,2) -> 2441 | N37: =ROUND(N35*N36,2) -> 2997 | P37: =ROUND(P35*P36,2) -> 1681.2 | R37: =ROUND(R35*R36,2) -> 3711.6 | T37: =ROUND(T35*T36,2) -> 1716 | V37: =ROUND(V35/V36,2) -> 560.41 | W37: =ROUND(W35/W36,2) -> 4
J38: =J37+L37+N37+T37+P37+R37 -> 17456.8 | K38: Or | L38: =ROUND(J38,0) -> 17457 | V38: Bags | W38: MT
N42: ='lead 1'!I37 -> Deputy Executive Engineer | T42: ='lead 1'!L37 -> Assistant Engineer
N43: ='lead 1'!I38 -> PRI Sub Division | T43: ='lead 1'!L38 -> Mandal Praja parishad
...

Sheet GST Sheet
A1: GST CALCULATION SHEET
A2: ='lead 1'!B2 -> Name of the Work: | C2: ='lead 1'!C2 -> Constrution of Bharat Nirman Seva Kendra (BNSK) Grama Panchayat building in Gayamvaripalli GP of H.M.Padu Mandal
A3: S.No. | B3: Description of item | C3: Quantity | E3: Rate | F3: GST percentage | G3: Amount
A4: 1 | B4: Metal( 20, 12, 10, 6 mm ) | C4: =SEIG!R35 -> 41.24 | D4: x | E4: =data1!F13 -> 1460.56 | F4: 0.05 | G4: =ROUND(E4*C4*F4,2) -> 3011.67
A5: 2 | B5: Metal( 40 mm ) | C5: =SEIG!P35 -> 18.68 | D5: x | E5: ='lead 1'!M16 -> 1479.2 | F5: 0.05 | G5: =ROUND(E5*C5*F5,2) -> 1381.57
A6: 3 | B6: sand for concrete | C6: =SEIG!N35 -> 29.97 | D6: x | E6: ='lead 1'!M13 -> 1469.4 | F6: 0.05 | G6: =ROUND(E6*C6*F6,2) -> 2201.9
A7: 4 | B7: sand for filling | C7: =SEIG!J35 -> 49.1 | D7: x | E7: ='lead 1'!M14 -> 1334.4 | F7: 0.05 | G7: =ROUND(E7*C7*F7,2) -> 3275.95
A8: 5 | B8: sand for plastering | C8: =SEIG!L35 -> 24.41 | D8: x | E8: ='lead 1'!M12 -> 1549.4 | F8: 0.05 | G8: =ROUND(E8*C8*F8,2) -> 1891.04
A9: 6 | B9: bricks | C9: =SEIG!T35 -> 21.45 | D9: x | E9: ='lead 1'!M15 -> 7114.6 | F9: 0.05 | G9: =ROUND(E9*C9*F9,2) -> 7630.41
A10: 7 | B10: Cement | C10: =SEIG!V35/1000 -> 28.02052 | D10: x | E10: 3750 | F10: 0.28 | G10: =ROUND(E10*C10*F10,2) -> 29421.55
A11: 8 | B11: vtrified tiles | C11: =(SEIG!G24*10.5)/10 -> 103.11 | D11: x | E11: =data1!F476 -> 612 | F11: 0.28 | G11: =ROUND(E11*C11*F11,2) -> 17668.93
A12: 9 | B12: vtrified Skriting tiles | C12: =(SEIG!G25*10.5)/10 -> 12.537 | D12: x | E12: =E11 -> 612 | F12: 0.28 | G12: =ROUND(E12*C12*F12,2) -> 2148.34
A13: 10 | B13: Ceramic tiles | C13: =(SEIG!G27*10.5)/10 -> 0 | D13: x | E13: =data1!F528 -> 323 | F13: 0.28 | G13: =ROUND(E13*C13*F13,2) -> 0
A14: 11 | B14: Dadoing | C14: =(SEIG!G28*10.5)/10 -> 0 | D14: x | E14: =data1!F552 -> 323 | F14: 0.28 | G14: =ROUND(E14*C14*F14,2) -> 0
