Workbook
Name __bla1: [1]leads!$H$7
Name __can430: 40.73
Name __can435: 43.3
Name __cur1: [2]r!$F$30
Name __l1: [3]leads!$A$3:$E$108
Name __l12: #REF!
Name __l12: #REF!
Name __l2: [2]r!$F$29
Name __l3: #REF!
Name __l3: #REF!
Name __l4: [4]Sheet1!$W$2:$Y$103
Name __l5: #REF!
Name __l5: #REF!
Name __l6: [2]r!$F$4
Name __l7: [5]r!$F$4
Name __l8: [2]r!$F$2
Name __l9: [2]r!$F$3
Name __mm1: [6]r!$F$4
Name __mm11: [2]r!$F$4
Name __mm111: [5]r!$F$4
Name __pc2: #REF!
Name __pc2: #REF!
Name __pv2: #REF!
Name __pv2: #REF!
Name __rr3: [7]v!$A$2:$E$51
Name __rrr1: [7]r!$B$1:$I$145
Name __ss12: [8]rdamdata!$J$8
Name __ss20: [8]rdamdata!$J$7
Name __ss40: [8]rdamdata!$J$6
Name __var1: #REF!
Name __var1: #REF!
Name __var4: #REF!
Name __var4: #REF!
Name _bla1: [1]leads!$H$7
Name _can430: 40.73
Name _can435: 43.3
Name _cur1: [2]r!$F$30
Name _l1: [3]leads!$A$3:$E$108
Name _l12: #REF!
Name _l12: #REF!
Name _l2: [2]r!$F$29
Name _l3: #REF!
Name _l3: #REF!
Name _l4: [4]Sheet1!$W$2:$Y$103
Name _l5: #REF!
Name _l5: #REF!
Name _l6: [2]r!$F$4
Name _l7: [5]r!$F$4
Name _l8: [2]r!$F$2
Name _l9: [2]r!$F$3
Name _mm1: [6]r!$F$4
Name _mm11: [2]r!$F$4
Name _mm111: [5]r!$F$4
Name _pc2: #REF!
Name _pc2: #REF!
Name _pv2: #REF!
Name _pv2: #REF!
Name _rr3: [7]v!$A$2:$E$51
Name _rrr1: [7]r!$B$1:$I$145
Name _ss12: [8]rdamdata!$J$8

Sheet 0000000000000

Sheet COVER
A1: fffffffffffffffffffffffffffffffffffffffffffffffffffffffffffffffffffffffffffffffffffffffffffffffffffffffffffffffffffffffffffffffffffffffffffffffffffffffffffffffffffffffffffffffffffffffffffffffffffffffffffffffffffffffffffffffffffffffffffffffffffffffffffffffffffffffffffffffffffffffffffffffffffffffffffffffffffffffffffffffffffffffffffffffffffffffffffffffffffffffffffffffffffffffffffffffffffffffffffffffffffffffffffffffffffffffffffffffffffff | B1: fffffffffffffffffffffffffffffffffffffffffffffffffffffffffffffffffffffffffffffffffffffffffffffffffffffffffffffffffffffffffffffffffffffffffffffffffffffffffffffffffffffffffffffffffffffffffffffffffffffffffffffffffffffffffffffffffffffffffffffffffffffffffffffffffffffffffffffffffffffffffffffffffffffffffffffffffffffffffffffffffffffffffffffffffffffffffffffffffffffffffffffffffffffffffffffffffffffff | K1: ffffffffffffffffffffffffffffffffffffffffffffffffffffffffffffffffffffffffffffffffffffffffffffffffffffffffffffffffffffffffffffffffffffffffffffffffffffffffffffffffffffffffffffffffffffffffffffffffffffffffffffffffffffffffffffffffffffffffffffffffffffffffffffffffffffffffffffffffffffffffffffffffffffffffffffffffffffffffffffffffffffffffffffffffffffffffffffffffffffffffffffffff
B18: PANCHAYATI RAJ ENGINEERING DEPARTMENT
B20: LINE ESTIMATE
C23: NAME OF THE WORK | F23: : | G23: ='lead 24-25'!C2 -> Completion of incomplete Anganwadi building in Paletipalli village of P.C.Palli Mandal.
C25: ESTIMATE COST Rs | F25: : | G25: ='lead 24-25'!K4 -> 15.00 Lakhs
C27: GRANT | F27: : | G27: PROPOSED UNDER ZPGF GRANT
C29: NAME OF THE MANDAL | F29: : | G29: P.C.PALLI
C31: NAME OF SUB.DIVISION. | F31: : | G31: KANIGIRI
C33: NAME OF THE DIVISION | F33: : | G33: KANDUKUR
C35: NAME OF CIRCLE | F35: : | G35: ONGOLE
C37: SCHOOL CODE | F37: : | G37: 805181
A40: ffffffffffffffffffffffffffffffffffffffffffffffffffffffffffffffffffffffffffffffffffffffffffffffffffffffffffffffffffffffffffffffffffffffffffffffffffffffffffffffffffffffffffffffffffffffffffffffffffffffffffffffffffffffffffffffffffffffffffffffffffffffffffffffffffffffffffffffffffffffffffffffffffffffffffffffffffffffffffffffffffffffffffffffffffffffffffffffffffffffffffffffff

Sheet SPE
A1: SPECIFICATION REPORT
A3: Specification Report to accompany the estimate for the work "
A4: ='lead 24-25'!C2 -> Completion of incomplete Anganwadi building in Paletipalli village of P.C.Palli Mandal.
F5: Estt. Rs. | H5: ='lead 24-25'!K4 -> 15.00 Lakhs
A7: The above building has been proposed for Rs 15.00 lakhs under ZPGF Grant vide RC.No. P5/326 /2025 Dt 13.02.2025 of the Chief Executive Officer, Zilla Parishad, Prakasam District, Ongole . Hence the estimate is preapred with the following provisions.
A8: 1 | B8: Dismantling Cement Concrete
A9: 1 | B9: Dismantling Tiles
A10: 2 | B10: Scraping Plaster Cement Mortar
A11: 1 | B11: Earthwork in excavation for structures
A12: 2 | B12: S&F 1200mm dia hume pipes
A13: 3 | B13: S&F high polished granite stone for cupboards
A14: 3 | B14: S&F Vitrified tiles stone for cupboards
A15: 1 | B15: Plain Cement Concrete (1:4:8)
A16: 3 | B16: Filling Basement with Selected earth in trenches
A17: 4 | B17: RCC M-20 Grade for Column footings
A18: 5 | B18: RCC M-20 Grade for Columns
A19: 6 | B19: RCC M-20 Grade for plinth beam
... A64: 11 | B64: S&F of Sanitatin itmes like Water closet, Wash basin, Taps, Health Faucet
A65: Necessary provisions are made for QC Charges at 0.5%, GST charges @ 18%, Seigneorage charges, are shown in the estimate
A66: The estimate is prepared as per the current schedule of rates for the year 2024-25 and the work shall be executed as per APSS.
E69: ='lead 24-25'!$H$32 -> Deputy Executive Engineer | H69: ='lead 24-25'!$K$32 -> Assistant Engineer
E70: ='lead 24-25'!$H$33 -> PRI Sub Division | H70: ='lead 24-25'!$K$33 -> Mandal Praja parishad
E71: ='lead 24-25'!$H$34 -> Kanigiri | H71: ='lead 24-25'!$K$34 -> P.C.Palli

Sheet ESTIMATE
A1: LINE ESTIMATE
A2: Name of the work | C2: ='lead 24-25'!C2:L2 -> Completion of incomplete Anganwadi building in Paletipalli village of P.C.Palli Mandal.
I3: Est.Rs. | L3: ='lead 24-25'!K4 -> 15.00 Lakhs
A4: S.No | B4: Description of Item | C4: No | F4: Measurements | I4: Quantity | K4: Rate | L4: Per | M4: Amount
F5: L | G5: B | H5: D
A6: 1 | B6: 2 | C6: 3 | F6: 4 | G6: 5 | H6: 6 | I6: 7 | K6: 8 | L6: 9 | M6: 10
B7: GROUND FLOOR
A8: 1 | B8: Clearing light jungle including up-rooting and removing of Juliflora stumps.
B9: Site Clearence | C9: 1 | D9: x | E9: 1 | F9: 11 | G9: 10 | H9: 0 | I9: =ROUND(IF(AND(F9:H9),C9*E9*F9*G9*H9,IF(AND(F9,G9),C9*E9*F9*G9,IF(AND(F9,H9),C9*E9*F9*H9,IF(AND(G9,H9),C9*E9*G9*H9,IF(F9,C9*E9*F9,IF(G9,C9*E9*G9,IF(H9,C9*E9*H9,C9*E9))))))),2) -> 110 | J9: Sqm
I10: =SUM(I9:I9) -> 110 | J10: Sqm
B11: Deduct Voids @ 40% | I11: =-ROUND(I10*40%,2) -> -44 | J11: Sqm
J12: Sqm | K12: ='DATA 2024-25'!G66 -> 6.06 | L12: 1Sqm | M12: =ROUND(I12*K12,0) -> 0
A13: 1 | B13: Dismantling of existing structures comprising of cement concrete including T&P and scaffolding wherever necessary, sorting the dismantled material, disposal of unserviceable material and stacking the serviceable material with all lifts and lead of 1000 m as per Technical Specification Clause 202 MORD / MORTH | O13: =N1714 -> 0
B14: Flooring bed concrete
B15: Hall | C15: 1 | D15: x | E15: 1 | F15: 4.8 | G15: 3.3 | H15: 0.1 | I15: =ROUND(IF(AND(F15:H15),C15*E15*F15*G15*H15,IF(AND(F15,G15),C15*E15*F15*G15,IF(AND(F15,H15),C15*E15*F15*H15,IF(AND(G15,H15),C15*E15*G15*H15,IF(F15,C15*E15*F15,IF(G15,C15*E15*G15,IF(H15,C15*E15*H15,C15*E15))))))),2) -> 1.58 | J15: Cum
B16: DPO room | C16: 1 | D16: x | E16: 1 | F16: 3.3 | G16: 3.3 | H16: 0.1 | I16: =ROUND(IF(AND(F16:H16),C16*E16*F16*G16*H16,IF(AND(F16,G16),C16*E16*F16*G16,IF(AND(F16,H16),C16*E16*F16*H16,IF(AND(G16,H16),C16*E16*G16*H16,IF(F16,C16*E16*F16,IF(G16,C16*E16*G16,IF(H16,C16*E16*H16,C16*E16))))))),2) -> 1.09 | J16: Cum
B17: Tiolet | C17: 1 | D17: x | E17: 1 | F17: 3.3 | G17: 1.8 | H17: 0.1 | I17: =ROUND(IF(AND(F17:H17),C17*E17*F17*G17*H17,IF(AND(F17,G17),C17*E17*F17*G17,IF(AND(F17,H17),C17*E17*F17*H17,IF(AND(G17,H17),C17*E17*G17*H17,IF(F17,C17*E17*F17,IF(G17,C17*E17*G17,IF(H17,C17*E17*H17,C17*E17))))))),2) -> 0.59 | J17: Cum
J19: Cum | K19: ='DATA 2024-25'!G49 -> 795.94 | L19: 1Cum | M19: =ROUND(I19*K19,0) -> 0
A20: 1 | B20: Dismantling of existing structures like Flooring including disposal of unserviceable material and stacking the serviceable material with all lifts and lead of 1000 m as per Technical Specification Clause 202 MORD / MORTH | O20: =N1721 -> 0
B21: Flooring bed concrete
B22: Hall | C22: 1 | D22: x | E22: 1 | F22: 4.8 | G22: 3.3 | H22: 0.1 | I22: =ROUND(IF(AND(F22:H22),C22*E22*F22*G22*H22,IF(AND(F22,G22),C22*E22*F22*G22,IF(AND(F22,H22),C22*E22*F22*H22,IF(AND(G22,H22),C22*E22*G22*H22,IF(F22,C22*E22*F22,IF(G22,C22*E22*G22,IF(H22,C22*E22*H22,C22*E22))))))),2) -> 1.58 | J22: Cum
B23: DPO room | C23: 1 | D23: x | E23: 1 | F23: 3.3 | G23: 3.3 | H23: 0.1 | I23: =ROUND(IF(AND(F23:H23),C23*E23*F23*G23*H23,IF(AND(F23,G23),C23*E23*F23*G23,IF(AND(F23,H23),C23*E23*F23*H23,IF(AND(G23,H23),C23*E23*G23*H23,IF(F23,C23*E23*F23,IF(G23,C23*E23*G23,IF(H23,C23*E23*H23,C23*E23))))))),2) -> 1.09 | J23: Cum
B24: Tiolet | C24: 1 | D24: x | E24: 1 | F24: 3.3 | G24: 1.8 | H24: 0.1 | I24: =ROUND(IF(AND(F24:H24),C24*E24*F24*G24*H24,IF(AND(F24,G24),C24*E24*F24*G24,IF(AND(F24,H24),C24*E24*F24*H24,IF(AND(G24,H24),C24*E24*G24*H24,IF(F24,C24*E24*F24,IF(G24,C24*E24*G24,IF(H24,C24*E24*H24,C24*E24))))))),2) -> 0.59 | J24: Cum
J26: Cum | K26: ='DATA 2024-25'!G61 -> 487.06 | L26: 1Cum | M26: =ROUND(I26*K26,0) -> 0
A27: 1 | B27: Earthwork in excavation for structures as per drawing and technical specifications Clause 305.1 including setting out, construction of shoring and bracing, removal of stumps and other deleterious material and disposal upto a lead of 50 m, dressing of sides and bottom and backfilling in trenches with excavated suitable material as per Technical Specification 305 MORD / 304 MORTH | O27: =N1718 -> 40165
B28: For Columns | C28: 1 | D28: x | E28: 12 | F28: 1.5 | G28: 1.5 | H28: 1.2 | I28: =ROUND(IF(AND(F28:H28),C28*E28*F28*G28*H28,IF(AND(F28,G28),C28*E28*F28*G28,IF(AND(F28,H28),C28*E28*F28*H28,IF(AND(G28,H28),C28*E28*G28*H28,IF(F28,C28*E28*F28,IF(G28,C28*E28*G28,IF(H28,C28*E28*H28,C28*E28))))))),2) -> 32.4 | J28: Cum
B29: Long walls | C29: 1 | D29: x | E29: 3 | F29: 8.61 | G29: 0.38 | H29: 0.1 | I29: =ROUND(IF(AND(F29:H29),C29*E29*F29*G29*H29,IF(AND(F29,G29),C29*E29*F29*G29,IF(AND(F29,H29),C29*E29*F29*H29,IF(AND(G29,H29),C29*E29*G29*H29,IF(F29,C29*E29*F29,IF(G29,C29*E29*G29,IF(H29,C29*E29*H29,C29*E29))))))),2) -> 0.98 | J29: Cum
B30: Short walls | C30: 1 | D30: x | E30: 2 | F30: 4.73 | G30: 0.38 | H30: 0.1 | I30: =ROUND(IF(AND(F30:H30),C30*E30*F30*G30*H30,IF(AND(F30,G30),C30*E30*F30*G30,IF(AND(F30,H30),C30*E30*F30*H30,IF(AND(G30,H30),C30*E30*G30*H30,IF(F30,C30*E30*F30,IF(G30,C30*E30*G30,IF(H30,C30*E30*H30,C30*E30))))))),2) -> 0.36 | J30: Cum
B31: Verandah | C31: 1 | D31: x | E31: 2 | F31: 1.2 | G31: 0.38 | H31: 0.1 | I31: =ROUND(IF(AND(F31:H31),C31*E31*F31*G31*H31,IF(AND(F31,G31),C31*E31*F31*G31,IF(AND(F31,H31),C31*E31*F31*H31,IF(AND(G31,H31),C31*E31*G31*H31,IF(F31,C31*E31*F31,IF(G31,C31*E31*G31,IF(H31,C31*E31*H31,C31*E31))))))),2) -> 0.09 | J31: Cum
J33: Cum | K33: ='DATA 2024-25'!G72 -> 246.07 | L33: 1Cum | M33: =ROUND(I33*K33,0) -> 0
A34: 1 | B34: Plain Cement Concrete (1:4:8) proportion Nominal mix for foundations using 40mm size SS-5 metal including c/c of all materials & labour charges, machine mixing & laying concrete in foundations ramming etc complete for Bed Concrete (APSS No 402)
B35: For Columns | C35: 1 | D35: x | E35: 12 | F35: 1.5 | G35: 1.5 | H35: 0.15 | J35: Cum
B36: Long walls | C36: 1 | D36: x | E36: 3 | F36: 8.61 | G36: 0.38 | H36: 0.1 | J36: Cum
B37: Short walls | C37: 1 | D37: x | E37: 2 | F37: 4.73 | G37: 0.38 | H37: 0.1 | J37: Cum
B38: Verandah | C38: 1 | D38: x | E38: 2 | F38: 1.2 | G38: 0.38 | H38: 0.1 | J38: Cum
B39: Hall | C39: 1 | D39: x | E39: 1 | F39: 6.25 | G39: 5 | H39: 0.1 | I39: =ROUND(IF(AND(F39:H39),C39*E39*F39*G39*H39,IF(AND(F39,G39),C39*E39*F39*G39,IF(AND(F39,H39),C39*E39*F39*H39,IF(AND(G39,H39),C39*E39*G39*H39,IF(F39,C39*E39*F39,IF(G39,C39*E39*G39,IF(H39,C39*E39*H39,C39*E39))))))),2) -> 3.13 | J39: Cum
B40: Store room + kitchen | C40: 1 | D40: x | E40: 1 | F40: 1.6 | G40: 5 | H40: 0.1 | I40: =ROUND(IF(AND(F40:H40),C40*E40*F40*G40*H40,IF(AND(F40,G40),C40*E40*F40*G40,IF(AND(F40,H40),C40*E40*F40*H40,IF(AND(G40,H40),C40*E40*G40*H40,IF(F40,C40*E40*F40,IF(G40,C40*E40*G40,IF(H40,C40*E40*H40,C40*E40))))))),2) -> 0.8 | J40: Cum
B41: Verandah | C41: 1 | D41: x | E41: 1 | F41: 1.35 | G41: 8.08 | H41: 0.1 | I41: =ROUND(IF(AND(F41:H41),C41*E41*F41*G41*H41,IF(AND(F41,G41),C41*E41*F41*G41,IF(AND(F41,H41),C41*E41*F41*H41,IF(AND(G41,H41),C41*E41*G41*H41,IF(F41,C41*E41*F41,IF(G41,C41*E41*G41,IF(H41,C41*E41*H41,C41*E41))))))),2) -> 1.09 | J41: Cum
B42: Steps | C42: 1 | D42: x | E42: 1 | F42: 1.15 | G42: 1.2 | H42: 0.1 | I42: =ROUND(IF(AND(F42:H42),C42*E42*F42*G42*H42,IF(AND(F42,G42),C42*E42*F42*G42,IF(AND(F42,H42),C42*E42*F42*H42,IF(AND(G42,H42),C42*E42*G42*H42,IF(F42,C42*E42*F42,IF(G42,C42*E42*G42,IF(H42,C42*E42*H42,C42*E42))))))),2) -> 0.14 | J42: Cum
C43: 1 | D43: x | E43: 1 | F43: 2.95 | G43: 0.97 | H43: 0.1 | I43: =ROUND(IF(AND(F43:H43),C43*E43*F43*G43*H43,IF(AND(F43,G43),C43*E43*F43*G43,IF(AND(F43,H43),C43*E43*F43*H43,IF(AND(G43,H43),C43*E43*G43*H43,IF(F43,C43*E43*F43,IF(G43,C43*E43*G43,IF(H43,C43*E43*H43,C43*E43))))))),2) -> 0.29 | J43: Cum
...

Sheet Seigneorage
A1: Seigniorage Charges
A2: ='lead 24-25'!B2&'lead 24-25'!C2 -> Name of the Work: Completion of incomplete Anganwadi building in Paletipalli village of P.C.Palli Mandal.
A3: S No | B3: Description of the work | C3: Ground Floor | D3: First Floor | E3: second floor | F3: Total Quantity | H3: 40mm Metal | I3: 20mm HBG Chips | J3: 20mm-12mm Chips | K3: Rough Stone | L3: Sand Concrete | M3: Sand Mortar | N3: Sand Plastering | O3: Sand Filling | P3: S.Earth | Q3: Bricks | R3: Gravel | S3: Cement Qty in Kg | T3: Cement required
A4: 1 | B4: Earthwork Excavation | F4: =C4+D4 -> 0 | G4: M3 | H4: 0 | I4: 0 | J4: 0 | K4: 0 | L4: 0 | M4: 0 | N4: 0 | O4: 0 | P4: 0 | Q4: 0 | R4: =F4 -> 0 | S4: 0 | T4: 0
A5: 1 | B5: Sand Filling | C5: =ESTIMATE!I81 -> 1.53 | F5: =SUM(C5:E5) -> 1.53 | G5: M3 | H5: 0 | I5: 0 | J5: 0 | K5: 0 | L5: 0 | M5: 0 | N5: 0 | O5: =F5 -> 1.53 | P5: 0 | Q5: 0 | R5: 0 | S5: 0 | T5: 0
A6: 2 | B6: Selected earth | C6: =ESTIMATE!I62 -> 0 | F6: =SUM(C6:E6) -> 0 | G6: M3 | H6: 0 | I6: 0 | J6: 0 | K6: 0 | L6: 0 | M6: 0 | N6: 0 | O6: 0 | P6: =F6 -> 0 | Q6: 0 | R6: 0 | S6: 0 | T6: 0
A7: 4 | B7: Gravel filling | C7: =ESTIMATE!I72 -> 0 | F7: =SUM(C7:E7) -> 0 | G7: M3 | H7: 0 | I7: 0 | J7: 0 | K7: 0 | L7: 0 | M7: 0 | N7: 0 | O7: 0 | Q7: 0 | R7: =F7 -> 0 | S7: 0 | T7: 0
A8: 2 | B8: PCC (1:4:8) | C8: =ESTIMATE!I45 -> 5.45 | F8: =SUM(C8:E8) -> 5.45 | G8: M3 | H8: =ROUND(F8*0.9,2) -> 4.91 | I8: 0 | J8: 0 | K8: 0 | L8: =ROUND(F8*0.45,2) -> 2.45 | M8: 0 | N8: 0 | O8: 0 | P8: 0 | Q8: 0 | R8: 0 | S8: =ROUND(F8*T8/50,2) -> 17.66 | T8: 162 | U8: Kg
A9: 4 | B9: PCC (1:5:10) | C9: =ESTIMATE!I56 -> 0 | F9: =SUM(C9:E9) -> 0 | G9: M3 | H9: =ROUND(F9*0.9,2) -> 0 | I9: 0 | J9: 0 | K9: 0 | L9: =ROUND(F9*0.45,2) -> 0 | M9: 0 | N9: 0 | O9: 0 | P9: 0 | Q9: 0 | R9: 0 | S9: =ROUND(F9*T9/50,2) -> 0 | T9: 129.6 | U9: Kg
A10: 3 | B10: RCC Footings | C10: =ESTIMATE!I96 -> 0 | F10: =SUM(C10:E10) -> 0 | G10: M3 | H10: 0 | I10: =ROUND(F10*0.9,2) -> 0 | J10: 0 | K10: 0 | L10: =ROUND(F10*0.45,2) -> 0 | M10: 0 | N10: 0 | O10: 0 | P10: 0 | Q10: 0 | R10: 0 | S10: =ROUND(F10*T10/50,2) -> 0 | T10: ='DATA 2024-25'!E139 -> 330 | U10: Kg
A11: 4 | B11: RCC Pedastals | C11: =ESTIMATE!I100 -> 0 | F11: =SUM(C11:E11) -> 0 | G11: M3 | H11: 0 | I11: =ROUND(F11*0.9,2) -> 0 | J11: 0 | K11: 0 | L11: =ROUND(F11*0.45,2) -> 0 | M11: 0 | N11: 0 | O11: 0 | P11: 0 | Q11: 0 | R11: 0 | S11: =ROUND(F11*T11/50,2) -> 0 | T11: =$T$10 -> 330 | U11: Kg
A12: 4 | B12: RCC Columns | C12: =ESTIMATE!I106 -> 0 | D12: =ESTIMATE!I528 -> 0 | E12: =ESTIMATE!I933 -> 0 | F12: =SUM(C12:E12) -> 0 | G12: M3 | H12: 0 | I12: =ROUND(F12*0.9,2) -> 0 | J12: 0 | K12: 0 | L12: =ROUND(F12*0.45,2) -> 0 | M12: 0 | N12: 0 | O12: 0 | P12: 0 | Q12: 0 | R12: 0 | S12: =ROUND(F12*T12/50,2) -> 0 | T12: =$T$10 -> 330 | U12: Kg
A13: 5 | B13: RCC Plinth Beam | C13: =ESTIMATE!I113 -> 0 | F13: =SUM(C13:E13) -> 0 | G13: M3 | H13: 0 | I13: =ROUND(F13*0.9,2) -> 0 | J13: 0 | K13: 0 | L13: =ROUND(F13*0.45,2) -> 0 | M13: 0 | N13: 0 | O13: 0 | P13: 0 | Q13: 0 | R13: 0 | S13: =ROUND(F13*T13/50,2) -> 0 | T13: =$T$10 -> 330 | U13: Kg
A14: 6 | B14: RCC Roof Beams | C14: =ESTIMATE!I121 -> 3.35 | D14: =ESTIMATE!I534 -> 0 | E14: =ESTIMATE!I939 -> 0 | F14: =SUM(C14:E14) -> 3.35 | G14: M3 | H14: 0 | I14: =ROUND(F14*0.9,2) -> 3.02 | J14: 0 | K14: 0 | L14: =ROUND(F14*0.45,2) -> 1.51 | M14: 0 | N14: 0 | O14: 0 | P14: 0 | Q14: 0 | R14: 0 | S14: =ROUND(F14*T14/50,2) -> 22.11 | T14: =$T$10 -> 330 | U14: Kg
A15: 9 | B15: RCC Landing Slab 150mm th | C15: =ROUND(ESTIMATE!I127*0.15,2) -> 0 | D15: =ROUND(ESTIMATE!I542*0.15,2) -> 0 | E15: =ROUND(ESTIMATE!I947*0.15,2) -> 0 | F15: =SUM(C15:E15) -> 0 | G15: M2 | H15: 0 | I15: =ROUND(F15*0.9,2) -> 0 | J15: 0 | K15: 0 | L15: =ROUND(F15*0.45,2) -> 0 | M15: 0 | N15: 0 | O15: 0 | P15: 0 | Q15: 0 | R15: 0 | S15: =ROUND(F15*T15/50,2) -> 0 | T15: =ROUND(T14,2) -> 330 | U15: Kg
A16: 7 | B16: RCC Roof Slab 125mm th | C16: =ROUND(ESTIMATE!I131*0.125,2) -> 8.65 | D16: =ROUND(ESTIMATE!I546*0.125,2) -> 0 | E16: =ROUND(ESTIMATE!I952*0.125,2) -> 0 | F16: =SUM(C16:E16) -> 8.65 | G16: M2 | H16: 0 | I16: =ROUND(F16*0.9,2) -> 7.79 | J16: 0 | K16: 0 | L16: =ROUND(F16*0.45,2) -> 3.89 | M16: 0 | N16: 0 | O16: 0 | P16: 0 | Q16: 0 | R16: 0 | S16: =ROUND(F16*T16/50,2) -> 57.09 | T16: =ROUND(T14,2) -> 330 | U16: Kg
A17: 14 | B17: RCC Roof Slab 100mm th | C17: =ROUND(ESTIMATE!I136*0.1,2) -> 0 | D17: =ROUND(ESTIMATE!I551*0.1,2) -> 0 | E17: =ROUND(ESTIMATE!I957*0.1,2) -> 0 | F17: =SUM(C17:E17) -> 0 | G17: M2 | H17: 0 | I17: =ROUND(F17*0.9,2) -> 0 | J17: 0 | K17: 0 | L17: =ROUND(F17*0.45,2) -> 0 | M17: 0 | N17: 0 | O17: 0 | P17: 0 | Q17: 0 | R17: 0 | S17: =ROUND(F17*T17/50,2) -> 0 | T17: =T16 -> 330 | U17: Kg
A18: 9 | B18: Precasted slab 50mm | C18: =ROUND(ESTIMATE!I142*0.05,2) -> 0 | D18: =ROUND(ESTIMATE!I562*0.05,2) -> 0 | E18: =ROUND(ESTIMATE!I968*0.05,2) -> 0 | F18: =SUM(C18:E18) -> 0 | G18: M2 | H18: 0 | I18: =ROUND(F18*0.9,2) -> 0 | J18: 0 | K18: 0 | L18: =ROUND(F18*0.45,2) -> 0 | M18: 0 | N18: 0 | O18: 0 | P18: 0 | Q18: 0 | R18: 0 | S18: =ROUND(F18*T18/50,2) -> 0 | T18: =T17 -> 330 | U18: Kg
A19: 16 | B19: Precasted slab 25mm | C19: =ROUND(ESTIMATE!I153*0.025,2) -> 0 | D19: =ROUND(ESTIMATE!I573*0.025,2) -> 0 | E19: =ROUND(ESTIMATE!I979*0.025,2) -> 0 | F19: =SUM(C19:E19) -> 0 | G19: M2 | H19: 0 | I19: =ROUND(F19*0.9,2) -> 0 | J19: 0 | K19: 0 | L19: =ROUND(F19*0.45,2) -> 0 | M19: 0 | N19: 0 | O19: 0 | P19: 0 | Q19: 0 | R19: 0 | S19: =ROUND(F19*T19/50,2) -> 0 | T19: =T18 -> 330 | U19: Kg
A20: 8 | B20: RCC Lintels | C20: =ESTIMATE!I160 -> 0.6 | D20: =ESTIMATE!I578 -> 0 | E20: =ESTIMATE!I987 -> 0 | F20: =SUM(C20:E20) -> 0.6 | G20: M3 | H20: 0 | I20: =ROUND(F20*0.9,2) -> 0.54 | J20: 0 | K20: 0 | L20: =ROUND(F20*0.45,2) -> 0.27 | M20: 0 | N20: 0 | O20: 0 | P20: 0 | Q20: 0 | R20: 0 | S20: =ROUND(F20*T20/50,2) -> 3.96 | T20: =$T$10 -> 330 | U20: Kg
A21: 9 | B21: RCC Sunshades | C21: =ESTIMATE!I165 -> 9.6 | D21: =ESTIMATE!I582 -> 0 | E21: =ESTIMATE!I992 -> 0 | F21: =SUM(C21:E21) -> 9.6 | G21: RM | H21: 0 | I21: =ROUND(F21*0.0375*0.9,2) -> 0.32 | J21: 0 | K21: 0 | L21: =ROUND(F21*0.0375*0.45,2) -> 0.16 | M21: 0 | N21: 0 | O21: 0 | P21: 0 | Q21: 0 | R21: 0 | S21: =ROUND(F21*T21/50,2) -> 2.38 | T21: =T20*0.0375 -> 12.375 | U21: Kg
A22: 10 | B22: Acco Plaster'g CM (1:3) 12mm | C22: =ESTIMATE!I169 -> 69.19 | D22: =ESTIMATE!I588 -> 0 | E22: =ESTIMATE!I997 -> 0 | F22: =SUM(C22:E22) -> 69.19 | G22: M2 | H22: 0 | I22: 0 | J22: 0 | K22: 0 | L22: 0 | M22: 0 | N22: =ROUND(F22*0.015*1.05,2) -> 1.09 | O22: 0 | P22: 0 | Q22: 0 | R22: 0 | S22: =ROUND(F22*T22/50,2) -> 9.96 | T22: 7.2 | U22: Kg
A23: 12 | B23: Acco Plaster'g CM (1:3) 20mm | C23: =ESTIMATE!I175 -> 0 | D23: =ESTIMATE!I594 -> 0 | E23: =ESTIMATE!I1003 -> 0 | F23: =SUM(C23:E23) -> 0 | G23: M2 | H23: 0 | I23: 0 | J23: 0 | K23: 0 | L23: 0 | M23: 0 | N23: =ROUND(ROUND((0.021*1.05),3)*ROUND(F23,2),2) -> 0 | O23: 0 | P23: 0 | Q23: 0 | R23: 0 | S23: =ROUND(F23*T23/50,2) -> 0 | T23: 10.08 | U23: Kg
A24: 12 | B24: Rough stone | C24: =ESTIMATE!I185 -> 0 | F24: =SUM(C24:E24) -> 0 | G24: M3 | H24: 0 | I24: 0 | J24: 0 | K24: =ROUND(F24*1.1,2) -> 0 | L24: 0 | M24: =ROUND(F24*0.33,2) -> 0 | N24: 0 | O24: 0 | P24: 0 | R24: 0 | S24: =ROUND(F24*T24/50,2) -> 0 | T24: 59.4 | U24: Kg
A25: 11 | B25: BM CM (1:8) Super | C25: =ESTIMATE!I212 -> 19.08 | D25: =ESTIMATE!I606 -> 0 | E25: =ESTIMATE!I1020 -> 0 | F25: =SUM(C25:E25) -> 19.08 | G25: M3 | H25: 0 | I25: 0 | J25: 0 | K25: 0 | L25: 0 | M25: =ROUND(F25*0.2,2) -> 3.82 | N25: 0 | O25: 0 | P25: 0 | Q25: =ROUND(F25*512/1000,2) -> 9.77 | R25: 0 | S25: =ROUND(F25*T25/50,2) -> 13.74 | T25: 36 | U25: Kg
A26: 12 | B26: BM CM (1:6) | C26: =ESTIMATE!I220 -> 0 | D26: =ESTIMATE!I631 -> 0 | E26: =ESTIMATE!I1029 -> 0 | F26: =SUM(C26:E26) -> 0 | G26: M3 | H26: 0 | I26: 0 | J26: 0 | K26: 0 | L26: 0 | M26: =ROUND(F26*0.2,2) -> 0 | N26: 0 | O26: 0 | P26: 0 | Q26: =ROUND(F26*512/1000,2) -> 0 | R26: 0 | S26: =ROUND(F26*T26/50,2) -> 0 | T26: 48 | U26: Kg
A27: 16 | B27: BM CM (1:6) 115mm | C27: =ESTIMATE!I226 -> 0 | D27: =ESTIMATE!I658 -> 0 | E27: =ESTIMATE!I1034 -> 0 | F27: =SUM(C27:E27) -> 0 | G27: M2 | H27: 0 | I27: 0 | J27: 0 | K27: 0 | L27: 0 | M27: =ROUND(F27*0.022,2) -> 0 | N27: 0 | O27: 0 | P27: 0 | Q27: =ROUND(F27*512*0.1/1000,2) -> 0 | R27: 0 | S27: =ROUND(F27*T27/50,2) -> 0 | T27: 10.6 | U27: Kg
A28: 16 | B28: Fly cement bricks | C28: =ESTIMATE!I234 -> 0 | D28: =ESTIMATE!I669 -> 0 | E28: =ESTIMATE!I1045 -> 0 | F28: =SUM(C28:E28) -> 0 | G28: M3 | H28: 0 | I28: 0 | J28: 0 | K28: 0 | L28: 0 | M28: =ROUND(F28*0.1*1.05,2) -> 0 | N28: 0 | O28: 0 | P28: 0 | Q28: =ROUND(F28*110/1000,2) -> 0 | R28: 0 | S28: =ROUND(F28*T28/50,2) -> 0 | T28: 24 | U28: Kg
A29: 26 | B29: RCM drop wall | C29: =ESTIMATE!I239 -> 0 | D29: =ESTIMATE!I675 -> 0 | F29: =SUM(C29:E29) -> 0 | G29: M2 | H29: 0 | I29: 0 | J29: 0 | K29: 0 | L29: 0 | M29: 0 | N29: =ROUND(F29*((0.015*1.05)+(0.025*1.05)),2) -> 0 | O29: 0 | P29: 0 | Q29: 0 | R29: 0 | S29: =ROUND(F29*T29/50,2) -> 0 | T29: 20.89 | U29: Kg
A30: 13 | B30: Ceiling Plaster CM (1:3) 12mm | C30: =ESTIMATE!I256 -> 79.63 | D30: =ESTIMATE!I683 -> 0 | E30: =ESTIMATE!I1055 -> 0 | F30: =SUM(C30:E30) -> 79.63 | G30: M2 | H30: 0 | I30: 0 | J30: 0 | K30: 0 | L30: 0 | M30: 0 | N30: =ROUND(F30*0.015*1.05,2) -> 1.25 | O30: 0 | P30: 0 | Q30: 0 | R30: 0 | S30: =ROUND(F30*T30/50,2) -> 11.47 | T30: 7.2 | U30: Kg
A31: 4 | B31: Plaster'ing CM (1:5) 12mm th | C31: =ESTIMATE!I272 -> 0 | D31: =ESTIMATE!I693 -> 0 | E31: =ESTIMATE!I1096 -> 0 | F31: =SUM(C31:E31) -> 0 | G31: M2 | H31: 0 | I31: 0 | J31: 0 | K31: 0 | L31: 0 | M31: 0 | N31: =ROUND(ROUND((0.015*1.05),3)*ROUND(F31,2),2) -> 0 | O31: 0 | P31: 0 | Q31: 0 | R31: 0 | S31: =ROUND(F31*T31/50,2) -> 0 | T31: 4.32 | U31: Kg
A32: 5 | B32: Plaster'ing 20mm thick single | C32: =ESTIMATE!I277 -> 0 | D32: =ESTIMATE!I701 -> 0 | E32: =ESTIMATE!I1101 -> 0 | F32: =SUM(C32:E32) -> 0 | G32: M2 | H32: 0 | I32: 0 | J32: 0 | K32: 0 | L32: 0 | M32: 0 | N32: =ROUND(ROUND((0.021*1.05),3)*ROUND(F32,2),2) -> 0 | O32: 0 | P32: 0 | Q32: 0 | R32: 0 | S32: =ROUND(F32*T32/50,2) -> 0 | T32: 6.05 | U32: Kg
A33: 14 | B33: Plaster'ing 12mm thick double | C33: =ESTIMATE!I290 -> 100.18 | D33: =ESTIMATE!I726 -> 0 | E33: =ESTIMATE!I1108 -> 0 | F33: =SUM(C33:E33) -> 100.18 | G33: M2 | H33: 0 | I33: 0 | J33: 0 | K33: 0 | L33: 0 | M33: 0 | N33: =ROUND(F33*0.015*1,2) -> 1.5 | O33: 0 | P33: 0 | Q33: 0 | R33: 0 | S33: =ROUND(F33*T33/50,2) -> 10.2 | T33: 5.09 | U33: Kg
A34: 15 | B34: Plaster'ing 20mm thick double | C34: =ESTIMATE!I307 -> 119.98 | D34: =ESTIMATE!I734 -> 0 | E34: =ESTIMATE!I1117 -> 0 | F34: =SUM(C34:E34) -> 119.98 | G34: M2 | H34: 0 | I34: 0 | J34: 0 | K34: 0 | L34: 0 | M34: 0 | N34: =ROUND(F34*0.022*1,2) -> 2.64 | O34: 0 | P34: 0 | Q34: 0 | R34: 0 | S34: =ROUND(F34*T34/50,2) -> 13.8 | T34: 5.75 | U34: Kg
A35: 2 | B35: CC Steps | C35: =ESTIMATE!I324 -> 0 | D35: =ESTIMATE!I740 -> 0 | E35: =ESTIMATE!I1123 -> 0 | F35: =SUM(C35:E35) -> 0 | G35: M3 | H35: 0 | I35: =ROUND(F35*0.8,2) -> 0 | J35: 0 | K35: 0 | L35: =ROUND(F35*0.4,2) -> 0 | M35: 0 | N35: 0 | O35: 0 | P35: 0 | Q35: 0 | R35: 0 | S35: =ROUND(F35*T35/50,2) -> 0 | T35: =$T$10 -> 330 | U35: Kg
A36: 16 | B36: Flooring Vetrified Tiles | C36: =ESTIMATE!I333 -> 50.23 | D36: =ESTIMATE!I748 -> 0 | E36: =ESTIMATE!I1133 -> 0 | F36: =SUM(C36:E36) -> 50.23 | G36: M2 | H36: 0 | I36: 0 | J36: 0 | K36: 0 | L36: 0 | M36: =ROUND(F36*0.014,2) -> 0.7 | N36: 0 | O36: 0 | P36: 0 | Q36: 0 | R36: 0 | S36: =ROUND(F36*T36/50,2) -> 6.09 | T36: 6.06 | U36: Kg
A37: 17 | B37: Skirting Vetrified Tiles | C37: =ESTIMATE!I346 -> 5.25 | D37: =ESTIMATE!I763 -> 0 | E37: =ESTIMATE!I1142 -> 0 | F37: =SUM(C37:E37) -> 5.25 | G37: M2 | H37: 0 | I37: 0 | J37: 0 | K37: 0 | L37: 0 | M37: =ROUND(F37*0.012,2) -> 0.06 | N37: 0 | O37: 0 | P37: 0 | Q37: 0 | R37: 0 | S37: =ROUND(F37*T37/50,2) -> 0.71 | T37: 6.756 | U37: Kg
A38: 7 | B38: Flooring Granite stone | C38: =ESTIMATE!I353 -> 0 | D38: =ESTIMATE!I770 -> 0 | E38: =ESTIMATE!I1153 -> 0 | F38: =SUM(C38:E38) -> 0 | G38: M2 | H38: 0 | I38: 0 | J38: 0 | K38: 0 | L38: 0 | M38: =ROUND(F38*0.014,2) -> 0 | N38: 0 | O38: 0 | P38: 0 | Q38: 0 | R38: 0 | S38: =ROUND(F38*T38/50,2) -> 0 | T38: 7.5 | U38: Kg
A39: 8 | B39: Skirting Granite stone | C39: =ESTIMATE!I360 -> 0 | D39: =ESTIMATE!I776 -> 0 | E39: =ESTIMATE!I1162 -> 0 | F39: =SUM(C39:E39) -> 0 | G39: M2 | H39: 0 | I39: 0 | J39: 0 | K39: 0 | L39: 0 | M39: =ROUND(F39*0.012,2) -> 0 | N39: 0 | O39: 0 | P39: 0 | Q39: 0 | R39: 0 | S39: =ROUND(F39*T39/50,2) -> 0 | T39: 9.06 | U39: Kg
A40: 5 | B40: Flooring Terrazo tiles | C40: =ESTIMATE!I372 -> 0 | D40: =ESTIMATE!I791 -> 0 | E40: =ESTIMATE!I1177 -> 0 | F40: =SUM(C40:E40) -> 0 | G40: M2 | H40: 0 | I40: 0 | J40: 0 | K40: 0 | L40: 0 | M40: =ROUND(F40*0.014,2) -> 0 | N40: 0 | O40: 0 | P40: 0 | Q40: 0 | R40: 0 | S40: =ROUND(F40*T40/50,2) -> 0 | T40: 7.5 | U40: Kg
...

Sheet lead 24-25
A1: LEAD STATEMENT (2024-25)
B2: Name of the Work: | C2: Completion of incomplete Anganwadi building in Paletipalli village of P.C.Palli Mandal.
M3: Sand | N3: 72
J4: Est. Rs. | K4: 15.00 Lakhs | M4: Metal | N4: 67
A5: Sl. No. | B5: Description | C5: unit | D5: Quarry | E5: Lead in KM | F5: Convey-ance Charges | G5: Initial Cost | H5: Blasting charges | I5: Crushing charges | J5: Loading charges | K5: unloading charges | L5: Total | M5: Brick | N5: 30
M6: Tiles | N6: 89
A7: 1 | B7: 2 | C7: 3 | D7: 4 | E7: 5 | F7: 6 | G7: 7 | H7: 8 | I7: 9 | J7: 10 | K7: 11 | L7: 13
A8: 1 | B8: Cement | C8: MT | D8: Local | E8: - | F8: 0 | G8: 4218.8 | L8: =SUM(F8:K8) -> 4218.8 | O8: =ESTIMATE!O27 -> 40165
A9: 2 | B9: Steel Fe 500 | C9: MT | D9: Local | E9: - | F9: 0 | G9: ='MINI SSR 2024-25'!C5 -> 60000 | H9: =G9*18% -> 10800 | I9: GST 18% | L9: =SUM(F9:K9) -> 70800
A10: 2 | B10: Steel Fe 415 | C10: MT | D10: Local | E10: - | F10: 0 | G10: 58000 | L10: =SUM(F10:K10) -> 58000
A11: 3 | B11: MS Flats | C11: MT | D11: Local | G11: 60000 | L11: =SUM(F11:K11) -> 60000
A12: 5 | B12: 6mm Ms roads | C12: MT | D12: Local | G12: ='MINI SSR 2024-25'!C8 -> 57000 | L12: =SUM(F12:K12) -> 57000
A13: 4 | B13: Sand for Mortar (screened) | C13: Cum | D13: K.Bitragunta | E13: =N3 -> 72 | F13: =VLOOKUP(E13,'convey 24-25'!A6:F305,2,FALSE) -> 1013.47 | G13: 0 | L13: =SUM(F13:K13) -> 1013.47
A14: 5 | B14: Sand for Mortar (concrete) | C14: Cum | D14: =D13 -> K.Bitragunta | E14: =E13 -> 72 | F14: =VLOOKUP(E14,'convey 24-25'!A6:F306,2,FALSE) -> 1013.47 | G14: 0 | L14: =SUM(F14:K14) -> 1013.47
A15: 6 | B15: Sand for Filling | C15: Cum | D15: Local | E15: 5 | F15: =VLOOKUP(E15,'convey 24-25'!A6:F307,2,FALSE) -> 101.33 | G15: 0 | L15: =SUM(F15:K15) -> 101.33
A16: 7 | B16: Common burnt clay bricks of class | C16: 1000 nos | D16: Motravulapadu | E16: =N5 -> 30 | F16: =VLOOKUP(E16,'convey 24-25'!A6:F308,4,FALSE) -> 771.4 | G16: ='MINI SSR 2024-25'!C12 -> 8480 | J16: ='MINI SSR 2024-25'!D12 -> 77.58 | K16: ='MINI SSR 2024-25'!E12 -> 77.58 | L16: =SUM(F16:K16) -> 9406.56
A17: 8 | B17: 40mm HBG metal SS-5 | C17: Cum | D17: Ramatherdham | E17: =N4 -> 67 | F17: =VLOOKUP(E17,'convey 24-25'!A6:F309,3,FALSE) -> 913.6 | G17: ='MINI SSR 2024-25'!C13 -> 770 | H17: 70 | I17: =ROUND(G17*0.25,2) -> 192.5 | L17: =SUM(F17:K17) -> 1946.1
A18: 9 | B18: 20mm HBG metal SS-5 | C18: Cum | D18: =D17 -> Ramatherdham | E18: =E17 -> 67 | F18: =VLOOKUP(E18,'convey 24-25'!A6:F310,3,FALSE) -> 913.6 | G18: ='MINI SSR 2024-25'!C14 -> 1285 | H18: 70 | I18: =ROUND(G18*0.25,2) -> 321.25 | L18: =SUM(F18:K18) -> 2589.85
A19: 7 | B19: 12mm HBG metal SS-5 | C19: Cum | D19: =D18 -> Ramatherdham | E19: =E18 -> 67 | F19: =VLOOKUP(E19,'convey 24-25'!A6:F311,3,FALSE) -> 913.6 | G19: ='MINI SSR 2024-25'!C15 -> 1024 | H19: 70 | I19: =ROUND(G19*0.25,2) -> 256 | L19: =SUM(F19:K19) -> 2263.6
A20: 8 | B20: 10mm HBG metal SS-5 | C20: Cum | D20: =D19 -> Ramatherdham | E20: =E19 -> 67 | F20: =VLOOKUP(E20,'convey 24-25'!A6:F312,3,FALSE) -> 913.6 | G20: ='MINI SSR 2024-25'!C16 -> 860 | H20: 70 | I20: =ROUND(G20*0.25,2) -> 215 | L20: =SUM(F20:K20) -> 2058.6
A21: 9 | B21: 6mm HBG metal SS-5 | C21: Cum | D21: =D20 -> Ramatherdham | E21: =E20 -> 67 | F21: =VLOOKUP(E21,'convey 24-25'!A6:F313,3,FALSE) -> 913.6 | G21: ='MINI SSR 2024-25'!C17 -> 684 | H21: 70 | I21: =ROUND(G21*0.25,2) -> 171 | L21: =SUM(F21:K21) -> 1838.6
A22: 15 | B22: Rough stone | C22: Cum | D22: =D21 -> Ramatherdham | E22: =E21 -> 67 | F22: =VLOOKUP(E22,'convey 24-25'!A6:F314,3,FALSE) -> 913.6 | G22: ='MINI SSR 2024-25'!C18 -> 315 | H22: 70 | L22: =SUM(F22:K22) -> 1298.6
A23: 9 | B23: High Polished Granite 16 to 18 mm | C23: Sqm | D23: =D22 -> Ramatherdham | E23: =E21 -> 67 | F23: =VLOOKUP(E23,'convey 24-25'!A6:F315,5,FALSE)*0.16 -> 214.9152 | G23: ='MINI SSR 2024-25'!C19 -> 2152 | L23: =SUM(F23:K23) -> 2366.9152
A24: 5 | B24: Pressed type tiles | D24: Ongole | E24: =N6 -> 89 | F24: =VLOOKUP(E24,'convey 24-25'!A7:F316,5,FALSE) -> 1737.24 | G24: ='MINI SSR 2024-25'!C24 -> 30000 | L24: =SUM(F24:K24) -> 31737.24
A25: 18 | B25: Selected earth | C25: Cum | D25: Local | E25: 5 | F25: =VLOOKUP(E25,'convey 24-25'!A6:F317,2,FALSE) -> 101.33 | G25: ='MINI SSR 2024-25'!C25 -> 144 | L25: =SUM(F25:K25) -> 245.33
A26: 19 | B26: Gravel | C26: Cum | D26: Local | E26: 5 | F26: =VLOOKUP(E26,'convey 24-25'!A6:F318,2,FALSE) -> 101.33 | G26: ='MINI SSR 2024-25'!C26 -> 165 | L26: =SUM(F26:K26) -> 266.33
A29: 1) | B29: Certified that the above leads are correct to the best of my knowledge.
A30: 2) | B30: Certified that the rates are provided as per SSR 2024-25
H32: Deputy Executive Engineer | K32: Assistant Engineer
H33: PRI Sub Division | K33: Mandal Praja parishad
H34: Kanigiri | K34: P.C.Palli

Sheet DATA 2024-25
A1: DATA SHEET (2024-25)
A2: ='lead 24-25'!B2&'lead 24-25'!C2 -> Name of the Work: Completion of incomplete Anganwadi building in Paletipalli village of P.C.Palli Mandal.
B3: C.P. | C3: 0.13615 | E3: Est.Rs. | F3: ='lead 24-25'!K4 -> 15.00 Lakhs
A5: S No | B5: Index Code | C5: Description of the Work | D5: Unit | E5: Quantity | F5: Rate | G5: Amount
A6: 1 | B6: BLD-CSTN -1-4 | C6: Cement Mortar (1:3) | K6: F 212 | L6: 1st Class Barbender | M6: 625 | N6: Day
C7: Cost of Cement | D7: Kg | E7: =1440/3 -> 480 | F7: ='lead 24-25'!$L$8 -> 4218.8 | G7: =ROUND(E7*F7/1000,2) -> 2025.02 | K7: F 435 | L7: 1st Class Carpenter, 1st Class Painter | M7: 580 | N7: Day
C8: Sand for Plastering including 5% wastage | D8: cum | E8: 1.05 | F8: ='lead 24-25'!$L$13 -> 1013.47 | G8: =ROUND(E8*F8,2) -> 1064.14 | K8: F 627 | L8: Skilled Electrician | M8: 575 | N8: Day
C9: Man Mazdoor for mixing mortar | D9: day | E9: 0.2 | F9: ='MINI SSR 2024-25'!$H$5 -> 595 | G9: =ROUND(E9*F9,2) -> 119 | K9: F 70 | L9: 1st Class Mason, Brick Layer | M9: 500 | N9: Day
G10: =SUM(G7:G9) -> 3208.16 | K10: F 93 | L10: 2nd Class Mason, 2nd Brick Layer, 2nd Carpentor, 2nd Class Painter | M10: 460 | N10: Day
A11: 2 | B11: BLD-CSTN -1-5 | C11: Cement Mortar (1:4) | K11: F 628 | L11: Mate, Semi Skilled Electrician | M11: 471 | N11: Day
C12: Cost of Cement | D12: Kg | E12: =1440/4 -> 360 | F12: ='lead 24-25'!$L$8 -> 4218.8 | G12: =ROUND(E12*F12/1000,2) -> 1518.77 | K12: F 12 | L12: Man / Women Mazdoor | M12: 420 | N12: Day
C13: Sand for Plastering including 5% wastage | D13: cum | E13: 1.05 | F13: ='lead 24-25'!$L$13 -> 1013.47 | G13: =ROUND(E13*F13,2) -> 1064.14 | K13: F 629 | L13: Helper | M13: 471 | N13: Day
C14: Man Mazdoor for mixing mortar | D14: day | E14: 0.2 | F14: ='MINI SSR 2024-25'!$H$5 -> 595 | G14: =ROUND(E14*F14,2) -> 119 | K14: F 66 | L14: Water Charges Rs 107-00 in Urban Area and in Rural Area | M14: 80 | N14: 1 KLt
G15: =SUM(G12:G14) -> 2701.91 | K15: F 68 | L15: Concrete Mixer 0.28 Cum | M15: 524.7 | N15: Hour
A16: 2 | B16: BLD-CSTN -1-6 | C16: Cement Mortar (1:5) | K16: F 97 | L16: Needle Vibrator 40mm (Petrole) | M16: 209.1 | N16: Hour
C17: Cost of Cement | D17: Kg | E17: =1440/5 -> 288 | F17: ='lead 24-25'!$L$8 -> 4218.8 | G17: =ROUND(E17*F17/1000,2) -> 1215.01 | K17: F 210 | L17: Binding wire | M17: 55 | N17: Kg
C18: Sand for Plastering including 5% wastage | D18: cum | E18: 1.05 | F18: ='lead 24-25'!$L$13 -> 1013.47 | G18: =ROUND(E18*F18,2) -> 1064.14
C19: Man Mazdoor for mixing mortar | D19: day | E19: 0.2 | F19: ='MINI SSR 2024-25'!$H$5 -> 595 | G19: =ROUND(E19*F19,2) -> 119
G20: =SUM(G17:G19) -> 2398.15
A21: 4 | B21: BLD-CSTN -1-7 | C21: Cement Mortar (1:6)
C22: Cost of Cement | D22: Kg | E22: =1440/6 -> 240 | F22: ='lead 24-25'!$L$8 -> 4218.8 | G22: =ROUND(E22*F22/1000,2) -> 1012.51
C23: Sand for Mortar including 5% wastage | D23: cum | E23: 1.05 | F23: ='lead 24-25'!$L$13 -> 1013.47 | G23: =ROUND(E23*F23,2) -> 1064.14
C24: Man Mazdoor for mixing mortar | D24: day | E24: 0.2 | F24: ='MINI SSR 2024-25'!$H$5 -> 595 | G24: =ROUND(E24*F24,2) -> 119
G25: =SUM(G22:G24) -> 2195.65
A26: 5 | B26: BLD-CSTN -1-8 | C26: Cement Mortar (1:8)
C27: Cost of Cement | D27: Kg | E27: =1440/8 -> 180 | F27: ='lead 24-25'!$L$8 -> 4218.8 | G27: =ROUND(E27*F27/1000,2) -> 759.38
C28: Sand for Mortar including 5% wastage | D28: cum | E28: 1.05 | F28: ='lead 24-25'!$L$13 -> 1013.47 | G28: =ROUND(E28*F28,2) -> 1064.14
C29: Man Mazdoor for mixing mortar | D29: day | E29: 0.2 | F29: ='MINI SSR 2024-25'!$H$5 -> 595 | G29: =ROUND(E29*F29,2) -> 119
G30: =SUM(G27:G29) -> 1942.52
A31: 1 | C31: 20 mm GRADED METAL( CW 07 20 mm(48%) and 12 mm(12%)10 mm(12%) 6 mm(8)% (34822))
C32: 20 mm HBG metal(SS 5) | D32: 0.6 | E32: ='lead 24-25'!L18 -> 2589.85 | F32: =ROUND(D32*E32,2) -> 1553.91
C33: 12 mm HBG metal(SS 5) | D33: 0.15 | E33: ='lead 24-25'!L19 -> 2263.6 | F33: =ROUND(D33*E33,2) -> 339.54
C34: 10 mm HBG metal(SS 5) | D34: 0.15 | E34: ='lead 24-25'!L20 -> 2058.6 | F34: =ROUND(D34*E34,2) -> 308.79
C35: 6 mm HBG metal(SS 5) | D35: 0.1 | E35: ='lead 24-25'!L21 -> 1838.6 | F35: =ROUND(D35*E35,2) -> 183.86
C36: Rate per Cum | F36: =SUM(F32:F35) -> 2386.1
A37: 2 | B37: RBR-STCL-5-II A | C37: Dismantling of existing structures comprising of cement concrete including T&P and scaffolding wherever necessary, sorting the dismantled material, disposal of unserviceable material and stacking the serviceable material with all lifts and lead of 1000 m as per Technical Specification Clause 202 MORD / MORTH
C38: Unit = cum
C39: Taking output = 1.25 cum
C40: By Mechanical Means
C41: Cement Concrete
...

Sheet sani data 2024-25
B1: DATA SHEET (2024-25) (WATER AND SANITATION ITEMS)
A2: Index-code | B2: S No | C2: Description | D2: Unit | E2: Qty | F2: Rate Rs. | G2: Amount Rs.
B3: 1 | C3: 2 | D3: 3 | E3: 4 | F3: 5 | G3: 6
B4: 1 | C4: Supplying and Fixing European Water Closet of 1st quality make white glazed with 'P' trap with low down porcelain flushing tank 10 Lit Capacity internal components and Fixing best Indian make plastic seat and lid for European water closets with rubber or plastic Buffers including all labour charges for fixing etc., complete.
C5: European Water Closet of 1st quality BMW-D.13 | D5: No | E5: 1 | F5: ='MINI SSR 2024-25'!C66 -> 1979 | G5: =ROUND(E5*F5,2) -> 1979
C6: Flushing Tank 10 Lit capacity BMW-D.11 | D6: No | E6: 1 | F6: ='MINI SSR 2024-25'!C67 -> 2468 | G6: =ROUND(E6*F6,2) -> 2468
C7: plastic seat and lid BMW-D.16 | D7: No | E7: 1 | F7: ='MINI SSR 2024-25'!C68 -> 850 | G7: =ROUND(E7*F7,2) -> 850
G8: =SUM(G5:G7) -> 5297
C9: Contract profit @ 13.615% | G9: 0
G10: =SUM(G8:G9) -> 5297
B11: 2 | C11: Supplying & Fixing Indian pattern white glazed W.C 1st quality ISI marked conforming to IS:2556-Part-3-1981 with"P" or "S" trap: 630 mm Long
C12: Initial cost BMW-D.02 | D12: No | E12: 1 | F12: ='MINI SSR 2024-25'!C69 -> 1036 | G12: =ROUND(E12*F12,2) -> 1036
G13: =SUM(G12) -> 1036
B14: 3 | C14: Supplying & Fixing white glazed flat back half stall urinals 1st quality conforming to IS:2556-1995 with standard C.P. Spreader of overall size 95 x 95 x 57 mm conforming to IS:2556-Part6, Sec-6-1974 fixed with screws complete Indian make : 410 x 265 x 305 mm
C15: Initial cost BMW-D.34 | D15: No | E15: 1 | F15: ='MINI SSR 2024-25'!C70 -> 2644 | G15: =ROUND(E15*F15,2) -> 2644
G16: =SUM(G15) -> 2644
B17: 2 | C17: Supplying and fixing Indian make Flat Back Wash Hand Basin (HSW/Parryware/ Neycer) 1st quality conforming to IS:2556-Part-4:1972 of size 450mm x 300mm with 32 mm nominal size C.P. Fitting with parallel pipe thread onforming to IS:2963-1979 and fitted with 15 mm nominal bore Chromium Plated Pillar Tap of 1st quality Indian make 400 grams Seiko/Senior/Nice or equivalent complete with tandard CI brackets including wooden blocks ,1 No.12.70mm PVC connection with brass union nuts CP oated , 1 No.12.70mm NP bib tap 400 gms Seiko or equivalent , 31.75mm dia. PVC flexible waste pipe 914.4mm length of 1st quality including cost and onveyance of all materials to site, labour charges , overheads & contractors profit for finished item of work
C18: Cost of wash hand basin SSR BMW-D.26 S.No.158 | D18: No | E18: 1 | F18: ='MINI SSR 2024-25'!C71 -> 1519 | G18: =ROUND(E18*F18,2) -> 1519
C19: 12.70mm NP bib tap (400gms) BMW-E.07 | D19: No | E19: 1 | F19: ='MINI SSR 2024-25'!C72 -> 387 | G19: =ROUND(E19*F19,2) -> 387
C20: 12.70mm dia PVC connection with brass union nuts BMW-I.48 | D20: No | E20: 1 | F20: ='MINI SSR 2024-25'!C73 -> 95 | G20: =ROUND(E20*F20,2) -> 95
C21: 31.75mm dia. PVC flexible waste pipe BMW-G.05 | D21: No | E21: 1 | F21: ='MINI SSR 2024-25'!C74 -> 24 | G21: =ROUND(E21*F21,2) -> 24
G22: =SUM(G18:G21) -> 2025
C23: Contract profit @ 13.615% | G23: 0
G24: =SUM(G22:G23) -> 2025
B25: 5 | C25: Supplying and fixing of3" (76.2 mm ) Nahany Trap with Jali - UPVC/SWR Pipe fittings as per site requirements with standard practice for all floors including cost and conveyance of all materials to site, labour charges , overheads & contractors profit etc., complete for finished item of work.
C26: Initial cost BMW-G.118 | D26: No | E26: 1 | F26: ='MINI SSR 2024-25'!C75 -> 93 | G26: =ROUND(E26*F26,2) -> 93
C27: Nahany trap cover BMW-I.12 | D27: No | E27: 1 | F27: ='MINI SSR 2024-25'!C76 -> 32 | G27: =ROUND(E27*F27,2) -> 32
G28: =SUM(G26:G27) -> 125
C29: Contract profit @ 13.615% | G29: 0
G30: =SUM(G28:G29) -> 125
B31: 6 | C31: Supplying and fixing 4" (101.6 mm ) Floor Trap - UPVC/SWR Pipe fittings 1st quality ISI marked conforming to IS:1729-1979 with C.P. Grating fixing with hite cement as per site requirements with standard practice for all floors ncluding cost and conveyance of all materials to site, labour charges etc., complete for finished item of work.
C32: Initial cost BMW-G.125 | D32: No | E32: 1 | F32: ='MINI SSR 2024-25'!C77 -> 128 | G32: =ROUND(E32*F32,2) -> 128
C33: Contract profit @ 13.615% | G33: 0
G34: =SUM(G32:G33) -> 128
B35: 3 | C35: Prince/ Sudhakar make or equivalent quality PVC /SWR pipes & fittings ( as per ISI standards) 4kg/cm2 110mm dia. double socket
C36: Taking out put = 3Mts
C37: 110mm dia pipe BMW-G.13 | D37: Rm | E37: 1 | F37: ='MINI SSR 2024-25'!C78 -> 447 | G37: =ROUND(E37*F37,2) -> 447
C38: Contract profit @ 13.615% | G38: 0
C39: Rate per 3Mts | G39: =SUM(G37:G38) -> 447
C40: Rate per 1Mts | G40: =G39/3 -> 149
...

Sheet Ele Data 2024-25
A1: DATA (SSR-2024-25) (Electrification)
A2: Index-code | B2: S No | C2: Description | D2: Quantity | F2: Unite | H2: Rate Rs. | I2: Amount Rs.
A3: 1 | B3: 2 | C3: 3 | D3: 4 | F3: 5 | H3: 6 | I3: 7
A4: Ele 1.4.2 (b) | B4: 1 | C4: Supply and Fixing of 25mm dia 1.8mm thick PVC pipe (ISI MARK) concealed in Roof Slabs with all required accessories including masonary work and labour charges etc., complete.
C5: Taking Output = 100 M
C6: a) Labour charges :
C7: Skilled Electrician | D7: 2 | E7: day | F7: 1 | G7: day | H7: ='MINI SSR 2024-25'!$H$16 -> 790 | I7: =ROUND(((D7*H7)/F7),2) -> 1580
C8: Semi Skilled Electrician | D8: 2 | E8: day | F8: 1 | G8: day | H8: ='MINI SSR 2024-25'!$H$17 -> 640 | I8: =ROUND(((D8*H8)/F8),2) -> 1280
C9: Helper (Electrical) | D9: 2 | E9: day | F9: 1 | G9: day | H9: ='MINI SSR 2024-25'!$H$5 -> 595 | I9: =ROUND(((D9*H9)/F9),2) -> 1190
C10: b) Material
A11: ELEC-1.2.6 b | C11: 25mm dia 1,2,3 & 4 way deep Junction Box | D11: 12 | E11: Nos | F11: 1 | G11: No | H11: ='MINI SSR 2024-25'!C100 -> 28 | I11: =ROUND(((D11*H11)/F11),2) -> 336
A12: ELEC-1.2.8 b | C12: 25mm PVC bends | D12: 12 | E12: Nos | F12: 1 | G12: No | H12: ='MINI SSR 2024-25'!C101 -> 12 | I12: =ROUND(((D12*H12)/F12),2) -> 144
A13: ELEC-1.2.2 b | C13: 25mm dia 1.8mm thick PVC pipe | D13: 100 | E13: Mtr | F13: 1 | G13: Mtr | H13: ='MINI SSR 2024-25'!C102 -> 36 | I13: =ROUND(((D13*H13)/F13),2) -> 3600
I14: =SUBTOTAL(9,I7:I13) -> 8130
C15: Contract Profit @ 13.615% | I15: =ROUND(I14*'DATA 2024-25'!$C$3,2) -> 1106.9
C16: Material Rate for 100 Mtrs | I16: =ROUND(I14+I15,2) -> 9236.9
C17: Material Rate for 1 Mtr | I17: =ROUND(I16/100,2) -> 92.37
A18: Ele 1.4.2 (a) | B18: 2 | C18: Supply and Fixing of 25mm dia 1.8mm thick PVC pipe (ISI MARK) concealed in wall with all required accessories including masonary work and labour charges etc., complete.
C19: Taking Output = 100 M
C20: a) Labour charges :
C21: Skilled Electrician | D21: 2 | E21: day | F21: 1 | G21: day | H21: ='MINI SSR 2024-25'!$H$16 -> 790 | I21: =ROUND(((D21*H21)/F21),2) -> 1580
C22: Semi Skilled Electrician | D22: 2 | E22: day | F22: 1 | G22: day | H22: ='MINI SSR 2024-25'!$H$17 -> 640 | I22: =ROUND(((D22*H22)/F22),2) -> 1280
C23: Helper (Electrical) | D23: 2 | E23: day | F23: 1 | G23: day | H23: ='MINI SSR 2024-25'!$H$5 -> 595 | I23: =ROUND(((D23*H23)/F23),2) -> 1190
C24: Mason Ist class | D24: 2 | E24: day | F24: 1 | G24: day | H24: ='MINI SSR 2024-25'!H3 -> 710 | I24: =ROUND(((D24*H24)/F24),2) -> 1420
C25: b) Material
A26: ELEC-1.2.2 b | C26: 25mm dia 1.8mm thick PVC pipe | D26: 100 | E26: Nos | F26: 1 | G26: No | H26: ='MINI SSR 2024-25'!C102 -> 36 | I26: =ROUND(((D26*H26)/F26),2) -> 3600
A27: ELEC-8.1.4 | C27: U' Links | D27: 200 | E27: Nos | F27: 100 | G27: No | H27: ='MINI SSR 2024-25'!C103 -> 39 | I27: =ROUND(((D27*H27)/F27),2) -> 78
A28: ELEC-1.2.6 b | C28: 25mm dia 1,2,3 & 4 way deep Junction Box | D28: 12 | E28: Nos | F28: 1 | G28: No | H28: ='MINI SSR 2024-25'!C100 -> 28 | I28: =ROUND(((D28*H28)/F28),2) -> 336
A29: ELEC-1.2.8 b | C29: 25mm PVC bends | D29: 12 | E29: Nos | F29: 1 | G29: No | H29: ='MINI SSR 2024-25'!C101 -> 12 | I29: =ROUND(((D29*H29)/F29),2) -> 144
C30: Cement | D30: 50 | E30: Kg | F30: 1 | G30: Kg | H30: ='lead 24-25'!L8/1000 -> 4.2188 | I30: =ROUND(((D30*H30)/F30),2) -> 210.94
I31: =SUBTOTAL(9,I21:I30) -> 9838.94
C32: Contract Profit @ 13.615% | I32: =ROUND(I31*'DATA 2024-25'!$C$3,2) -> 1339.57
C33: Material Rate for 100 Mtrs | I33: =ROUND(I31+I32,2) -> 11178.51
C34: Material Rate for 1 Mtr | I34: =ROUND(I33/100,2) -> 111.79
B36: 3 | C36: Labour charges for Grooves 2-3mm thick for PVC pipes
C37: Initial cost BMM-V.51 | D37: 1 | E37: Rm | F37: 1 | G37: Rm | H37: ='MINI SSR 2024-25'!C104 -> 74 | I37: =ROUND(((D37*H37)/F37),2) -> 74
I38: =SUM(I37) -> 74
B39: 2 | C39: Supply of Hot Dip galvanized 20/18 SWG Module box with earthing terminal for 12 Module box
C40: Initial cost ELEC-1.3.1 f | D40: 1 | E40: Nos | F40: 1 | G40: Nos | H40: ='MINI SSR 2024-25'!C106 -> 245 | I40: =ROUND(((D40*H40)/F40),2) -> 245
I41: =SUM(I40) -> 245
...

Sheet doors 2024-25
A1: DATA SHEET (2024-25)
A2: ='lead 24-25'!B2&'lead 24-25'!C2 -> Name of the Work: Completion of incomplete Anganwadi building in Paletipalli village of P.C.Palli Mandal.
E3: Est.Rs. | F3: ='lead 24-25'!K4 -> 15.00 Lakhs
A5: S No | B5: Index Code | C5: Description of the Work | D5: Unit | E5: Quantity | F5: Rate | G5: Amount | H5: Amount
A6: 1 | C6: Supplying and fixing of Door of size 1.20X2.10M with two panels Frame made with sald wood fixing with Z hold fast including c/c of all materials and furniture fittings etc complete as per specification (APSS No 1001 & 1002) Door Frame only
C7: Vertical posts | D7: 2 | E7: 1.95 | F7: 0.1 | G7: 0.075 | H7: =ROUND(D7*E7*F7*G7,4) -> 0.0293
C8: Horizontal Top & Bottom | D8: 2 | E8: 1.2 | F8: 0.1 | G8: 0.075 | H8: =ROUND(D8*E8*F8*G8,4) -> 0.018
H9: =SUM(H7:H8) -> 0.0473
B10: BMT-E.15 | C10: Sal Wood for Scantlings/Frames | E10: cum | F10: =H9 -> 0.0473 | G10: ='MINI SSR 2024-25'!$C$144 -> 53228 | H10: =ROUND(F10*G10,2) -> 2517.68
B11: BMS-W.69 | C11: MS Z Hold fasts 300mm Long | E11: No's | F11: 6 | G11: ='MINI SSR 2024-25'!$G$152 -> 41 | H11: =ROUND(F11*G11,2) -> 246
C12: B. Labour
B13: BMM-V.38 | C13: wrought & Putup Labour charges 1/3 | E13: Sqm | F13: =ROUND(1.2*2.1,2) -> 2.52 | G13: ='MINI SSR 2024-25'!$C$150 -> 1983 | H13: =ROUND(F13*G13,2)*1/3 -> 1665.72
C14: Contract Profit @ 13.615% | H14: 0
H15: =SUM(H10:H14) -> 4429.4
A16: 1 | C16: Supplying and fixing of Door of size 1.20X2.10M with two panels of Shutter made with Sal wood including brass tower bolts, handle and butt hinges with all furniture fittings including c/c of all materials and furniture fittings etc complete as per specification (APSS No 1001 & 1002) Door Shutters
C17: Shutters : Sal Wood | D17: 2 | E17: =2.1-0.15 -> 1.95 | F17: =ROUND(((1.2-0.15+0.02))/2,2) -> 0.54 | G17: 0.03 | H17: =ROUND(D17*E17*F17*G17,4) -> 0.0632
H18: =SUM(H17) -> 0.0632
B19: BMT-E.16 | C19: Sal Wood for Planks/Shutters | E19: cum | F19: =H18 -> 0.0632 | G19: ='MINI SSR 2024-25'!$C$145 -> 78753 | H19: =ROUND(F19*G19,2) -> 4977.19
B20: BMT-G.08 | C20: 150mm Alluminium tower bolts | E20: No's | F20: 2 | G20: ='MINI SSR 2024-25'!$G$143 -> 90 | H20: =ROUND(F20*G20,2) -> 180
B21: BMT-G.25 | C21: Butt Hinges 125mm Alluminiu | E21: No's | F21: 3 | G21: ='MINI SSR 2024-25'!$G$146 -> 135 | H21: =ROUND(F21*G21,2) -> 405
B22: BMT-G.34 | C22: 150mm Alluminium Door handle | E22: No's | F22: 2 | G22: ='MINI SSR 2024-25'!$G$147 -> 127 | H22: =ROUND(F22*G22,2) -> 254
B23: BMT-G.42 | C23: 300mm Alluminium Aldrop | E23: No's | F23: 2 | G23: ='MINI SSR 2024-25'!$G$149 -> 350 | H23: =ROUND(F23*G23,2) -> 700
B24: BMT-G.53 | C24: Door stopper MS Powder coated | E24: No's | F24: 1 | G24: ='MINI SSR 2024-25'!$G$151 -> 51 | H24: =ROUND(F24*G24,2) -> 51
C25: B. Labour
B26: BMM-V.38 | C26: wrought & Putup Labour charges 2/3 | E26: Sqm | F26: =ROUND(1.2*2.1,2) -> 2.52 | G26: ='MINI SSR 2024-25'!$C$150 -> 1983 | H26: =ROUND(F26*G26,2)*2/3 -> 3331.44
C27: Contract Profit @ 13.615% | H27: 0
H28: =SUM(H19:H27) -> 9898.63
A29: 2 | C29: Supplying and fixing of Door of size 0.75X2.10M with two panels Frame made with sald wood fixing with Z hold fast including c/c of all materials and furniture fittings etc complete as per specification (APSS No 1001 & 1002) Door Frame only
C30: Vertical posts | D30: 2 | E30: 1.95 | F30: 0.1 | G30: 0.075 | H30: =ROUND(D30*E30*F30*G30,4) -> 0.0293
C31: Horizontal Top & Bottom | D31: 2 | E31: 0.75 | F31: 0.1 | G31: 0.075 | H31: =ROUND(D31*E31*F31*G31,4) -> 0.0113
H32: =SUM(H30:H31) -> 0.0406
B33: BMT-E.15 | C33: Sal Wood for Scantlings/Frames | E33: cum | F33: =H32 -> 0.0406 | G33: ='MINI SSR 2024-25'!$C$144 -> 53228 | H33: =ROUND(F33*G33,2) -> 2161.06
B34: BMS-W.69 | C34: MS Z Hold fasts 300mm Long | E34: No's | F34: 6 | G34: ='MINI SSR 2024-25'!$G$152 -> 41 | H34: =ROUND(F34*G34,2) -> 246
C35: B. Labour
B36: BMM-V.38 | C36: wrought & Putup Labour charges 1/3 | E36: Sqm | F36: =ROUND(0.75*2.1,2) -> 1.58 | G36: ='MINI SSR 2024-25'!$C$150 -> 1983 | H36: =ROUND(F36*G36,2)*1/3 -> 1044.38
C37: Contract Profit @ 13.615% | H37: 0
H38: =SUM(H33:H37) -> 3451.44
A39: 3 | C39: Supplying and fixing of Door of size 0.75X2.10M with two panels Shutter made with Sal wood including brass tower bolts, handle and butt hinges with all furniture fittings including c/c of all materials and furniture fittings etc complete as per specification (APSS No 1001 & 1002)
C40: Shutters : Sal Wood | D40: 1 | E40: =2.1-0.15 -> 1.95 | F40: =ROUND(((1.2-0.15+0.02))/1,2) -> 1.07 | G40: 0.03 | H40: =ROUND(D40*E40*F40*G40,4) -> 0.0626
H41: =SUM(H40) -> 0.0626
...

Sheet CC f (2)
A1: CONTRACT CERTIFICATE
G2: GP General funds
B4: Name of the work: Repairs to Mandal Praja Parishad Office building at Upstairs in Kanigiri Mandal.
B5: Name of the Contractor :
B6: Voucher : CC 1st & Final
B7: Last Certificate if any :
B8: Month :
B9: Number and month of the last schedule if any :-
B10: Mandal : Kanigiri | E10: Amount of estimate : Rs. 1.50 Lakhs | H10: Voucher No:
B11: Overseer's No. | E11: Authority Covering list No. | H11: Schedule No.
A13: S.No | B13: Quantity executed or Supplied | E13: Description of Items. | F13: Rate in Rs. | G13: Per | H13: Amount | J13: Remarks
B14: Upto Date | D14: Since last certificate | H14: Upto Date in Rs. | I14: Since last certificate in Rs.
A16: 1 | B16: =ESTIMATE!I26 -> 0 | C16: Cum | E16: Dismantling of existing structures like Flooring including disposal of unserviceable material and stacking the serviceable material with all lifts and lead of 1000 m as per Technical Specification Clause 202 MORD / MORTH | F16: =ESTIMATE!K26 -> 487.06 | G16: 1Cum | H16: =ROUND(B16*F16,2) -> 0
A17: 2 | B17: =ESTIMATE!I45 -> 5.45 | C17: Cum | E17: Plain Cement Concrete (1:4:8) proportion Nominal mix for foundations using 40mm size SS-5 metal including c/c of all materials & labour charges, machine mixing & laying concrete in foundations ramming etc complete for Bed Concrete (APSS No 402) | F17: =ESTIMATE!K45 -> 5252.57 | G17: 1Cum | H17: =ROUND(B17*F17,2) -> 28626.51
A18: 3 | B18: =ESTIMATE!I256 -> 79.63 | C18: Sqm | E18: Ceiling Plastering to Ceiling in CM (1:3) 12mm thick with dubara sponge finishing including c/c of all materials including labour charges such as mixing cement mortar and curing etc complete for finished item of work (APSS 901 & 903) | F18: =ESTIMATE!K256 -> 378.77 | G18: 1Sqm | H18: =ROUND(B18*F18,2) -> 30161.46
A19: 4 | B19: =ESTIMATE!I333 -> 50.23 | C19: Sqm | E19: Flooring with Porcelain Vitrified tiles stain free double charged of 1st quality and of size not less than 600X600X8mm thickness glossy finish premium colours, set over base coat of CM (1:8), 12mm thick over already laid CC bed / RCC Roof slab, including neat Cement slurry of honey like consistency spread @ 3.30 Kgs per Sqm & jointed with neat white Cement paste to full depth mixed with pigment of matching shade including c/c of all materials like Cement, Sand and Water and tiles etc complete including labour charges etc complete for finished item of work | F19: =ESTIMATE!K333 -> 1238.02 | G19: 1Sqm | H19: =ROUND(B19*F19,2) -> 62185.74
A20: 5 | B20: =ESTIMATE!I386 -> 0 | C20: Sqm | E20: Flooring with Ceramic non skid tiles of not less than 7-8mm thick 1st quality laid over floor bed / VRCC slab set over base coat of CM (1:8), 12mm thick and neat grey Cement slurry of honey like consistency spread @ 3.30 Kgs per Sqm & jointed with neat white Cement paste to full depth mixed with pigment of matching shade including c/c of all materials to site including cost of mixing of mortar and watering and levelling to proper slope and curing including all labour charges etc for finished item of work | F20: =ESTIMATE!K386 -> 849.02 | G20: 1Sqm | H20: =ROUND(B20*F20,2) -> 0
A21: 6 | B21: =ESTIMATE!I392 -> 0 | C21: Sqm | E21: Providing Daddooing to walls with 5 to 7mm thick Glazed Ceramic wall tiles of 1st quality of 6mm thick set over base coat of CM (1:3) 12mm thick with Cement slurry of honey like consistency spread @ 3.30 Kgs per Sqm & jointed with neat white Cement paste to full depth mixed with pigment of matching shade including c/c of all materials to site, cost of all materials like tiles, Cement, sand and water etc complete for finished item of work | F21: =ESTIMATE!K392 -> 499.42 | G21: 1Sqm | H21: =ROUND(B21*F21,2) -> 0
A22: 7 | B22: =ESTIMATE!I448 -> 0 | C22: Sqm | E22: Providing and applying Wall putty of White Cement or Polymer or Cement based of average 1 to 2 mm thickness over plastered surface to prepare the surface even and smooth after thoroughly brushing the surface to remove all dirt and remains of loose powdered materials, applying emery paper, Sand the surface, clean & wipe off loose dust, applying knifing paste filler by putty knife / muslin pad, air dry for 2 - 3 hrs, sand with 180 and 320 No., emery paper for the surface preparation including cost and conveyance of all materials and all operational, incidental and all labour charges etc., complete for finished item of work in all floors for internal walls | F22: =ESTIMATE!K448 -> 188.29 | G22: 1Sqm | H22: =ROUND(B22*F22,2) -> 0
A23: 8 | B23: =ESTIMATE!I495 -> 0 | C23: Sqm | E23: Painting Old Wood work with Two coats of ready mixed Synthatic Enamil paint first quality of shades after thoroughly brushes the surface to remove all remains of loose provided materials including cost and conveyance of all materials, cost of brushe for finished item of work as per APSS | F23: =ESTIMATE!K495 -> 162.18 | G23: 1Sqm | H23: =ROUND(B23*F23,2) -> 0
A24: 9 | B24: =ESTIMATE!I1373 -> 0 | C24: No | E24: S&F of Teak wood windows shutter of size 0.90 x 1.50 Mts including alluminium tower bolts, Butt hinges, door handle and plain float glass including all labour charges etc., complete. | F24: =ESTIMATE!K1373 -> 6107.37 | G24: 1No | H24: =ROUND(B24*F24,2) -> 0
A25: 10 | B25: =ESTIMATE!I1377 -> 0 | C25: No | E25: S&F of Teak wood windows shutter of size 1.50 x 1.50 Mts including alluminium tower bolts, Butt hinges, door handle and plain float glass including all labour charges etc., complete. | F25: =ESTIMATE!K1377 -> 8032.44 | G25: 1No | H25: =ROUND(B25*F25,2) -> 0
A26: 11 | B26: =ESTIMATE!I1457 -> 0 | C26: No | E26: Supply & fixing of tested NP bib taps at all levels of 12.70mm dia of Indian make 400g first quality including cost & conveyance of all materials, labour charges for finished item of work, and all taxes complete for all floors | F26: =ESTIMATE!K1457 -> 387 | G26: 1No | H26: =ROUND(B26*F26,2) -> 0
A27: 12 | B27: =ESTIMATE!I1461 -> 0 | C27: No | E27: Supply & fixing bib cock cum health faucet with 1 m long flexible tube and wall hook . | F27: =ESTIMATE!K1461 -> 4166 | G27: 1No | H27: =ROUND(B27*F27,2) -> 0
A28: 13 | B28: =ESTIMATE!I1487 -> 0 | C28: No | E28: Supplying and Fixing European Water Closet of 1st quality make white glazed with 'P' trap with low down porcelain flushing tank 10 Lit Capacity internal components and Fixing best Indian make plastic seat and lid for European water closets with rubber or plastic Buffers including all labour charges for fixing etc., complete. | F28: =ESTIMATE!K1487 -> 5297 | G28: 1No | H28: =ROUND(B28*F28,2) -> 0
A29: 14 | B29: =ESTIMATE!I1499 -> 0 | C29: No | E29: Supplying and fixing Indian make Flat Back Wash Hand Basin (HSW/Parryware/ Neycer) 1st quality conforming to IS:2556-Part-4:1972 of size 450mm x 300mm with 32 mm nominal size C.P. Fitting with parallel pipe thread onforming to IS:2963-1979 and fitted with 15 mm nominal bore Chromium Plated Pillar Tap of 1st quality Indian make 400 grams Seiko/Senior/Nice or equivalent complete with tandard CI brackets including wooden blocks ,1 No.12.70mm PVC connection with brass union nuts CP oated , 1 No.12.70mm NP bib tap 400 gms Seiko or equivalent , 31.75mm dia. PVC flexible waste pipe 914.4mm length of 1st quality including cost and onveyance of all materials to site, labour charges , overheads & contractors profit for finished item of work | F29: =ESTIMATE!K1499 -> 2025 | G29: 1No | H29: =ROUND(B29*F29,2) -> 0
A30: 15 | B30: =ESTIMATE!I1662 -> 0 | C30: No | E30: Supply and Transportation of 48" (1200mm) Sweep 5 star rated Ceiling Fan , with double ball bearings, air delivery more than 200 cubic meter/min but without Regulator. | F30: =ESTIMATE!K1662 -> 2933.04 | G30: 1No | H30: =ROUND(B30*F30,2) -> 0
A31: 16 | B31: =ESTIMATE!I1679 -> 0 | C31: No | E31: Labour charges for fixing of ceiling fan with regulator including transportation, 3 core wire leads etc complete | F31: =ESTIMATE!K1679 -> 186.01 | G31: 1No | H31: =ROUND(B31*F31,2) -> 0
A32: 17 | B32: =ESTIMATE!I1689 -> 3 | C32: No | E32: Labour charges for fixing of ceiling fan with regulator including transportation, 3 core wire leads etc complete | F32: =ESTIMATE!K1689 -> 458.87 | G32: 1No | H32: =ROUND(B32*F32,2) -> 1376.61
E93: Total value o work done or suplies made to date | G93: = | H93: =SUM(H15:H92) -> 122350.32 | I93: =SUM(I15:I92) -> 0 | L93: =SUM(L15:L92) -> 0
E94: Deduct value of work supplies shown on last certificate. | G94: = | H94: =L93 -> 0 | I94: Or
E95: Net value of work/supplies since lst certificate | G95: = | H95: =H93-H94 -> 122350.32 | I95: =ROUND(H95,0) -> 122350
B96: Signature of Contractor | H96: Date…………..……200
D97: Certificate that the proceeding claim is correct that the necessary measurements have been made by me on 200 and record on page 885/B/ZP/18 and the work has been satisfactory performed | F97: CHECK MEASUREMENT CERTIFICATE
D99: Certified also that the materials billed for have been recived and brought to account. | F99: Certified that the work and materials were duly Checked and Measured by me on (Date………….)
D100: Date………….. OFFICE INCHARGE | F100: Date………………200 | I100: DESIGNATION
E102: ='[27]lead 23-24'!K32 -> Assistant Engineer
E103: ='[27]lead 23-24'!K33 -> Mandal Praja parishad
E104: ='[27]lead 23-24'!K34 -> Kanigiri

Sheet ccbc  (2)
A1: MEMORANDUM OF PAYMENTS MADE | G1: Rs. | H1: P. | I1: Rs. | J1: P.
B2: Total value of work done
B3: Amount of prevont payment from last certificate No………………….
C4: of | D4: Forward
C5: With accouts for…………………………………
C6: Fines and other deduction up to date
A8: Payments now made | C8: By Cash
C9: By Cheque No………………..
C10: By Value of Stock supplied
C11: Balance due
A12: Allotment of the year | D12: Rs P
A13: Expenditure included in this bill
C15: Balance availabe
A17: PAY RUPEES ( ) RECEIVED ( )
E18: Only as final payments in settlement of all demands
E19: ……………………………………………………………………………….
E21: ……………………………………………………………………………….
E23: Witness
A25: Head Clerk | D25: Presented of | E25: ……………………………………………………………………………….
E27: ……………………………………………………………………………….
A29: Head Account | D29: Engineer | E29: ……………………………………………………………………………….
E31: ……………………………………………………………………………….
G32: Date ………………………….. | J32: Payee……………………
I34: AUDIT ENFACEMENT
I35: Admitted Rs. ………………………….
I36: Objected Rs. ………………………….
I37: Total Rs. ………………..…………….
D38: Date | G38: 200 | J38: Auditor
D39: INVERNACULAR
B40: DISTRICT ENGINEET'S REMARKS
C41: NOTES
C42: 1. This form is intended for use in the case of running account i.e for works in progress or supplies in course
B43: of delivery when the liability is discharged in full single payment Form No. of A should be used.
C44: 2. Payment will be made only up to nineteenth of the total value of the work done. The balance being returned
B45: as a security both for the due performance of the contracts or to cover posible over payment which may be detected on cheque measurement in the case of work whose estimated cost does not exceed Rs. 50/- Payment may be made in full
B46: on the measuring officer's certificate subject to subsequent check measurement by the proper check measuring authority.
C47: 3. In calculating the amount of each item dur to the contractor in this bill, sums of five pieces or less shall be
B48: omitted and sums exceeding five pieces shall be recorded.
C49: 4. Payment made in case of sum exceeding Rs. 100/- should be attested by two witness and for smaller sum
B50: by one witness payment made by cheque to recognised firms of institutions need not be so witnessed.
...

