Workbook
Name ______can430: 40.73
Name ______can435: 43.3
Name _____can430: 40.73
Name _____can435: 43.3
Name ____can430: 40.73
Name ____can435: 43.3
Name ___can430: 40.73
Name ___can435: 43.3
Name __can430: 40.73
Name __can435: 43.3
Name _can430: 40.73
Name _can435: 43.3
Name Excel_BuiltIn_Print_Titles: NA()
Name Header_Row: ROW(#REF!)
Name Header_Row: ROW(#REF!)
Name Header_Row: ROW(#REF!)
Name Header_Row: ROW(#REF!)
Name Header_Row: ROW(#REF!)
Name Header_Row: ROW(#REF!)
Name Header_Row: ROW(#REF!)
Name Header_Row: ROW(#REF!)
Name Header_Row: ROW(#REF!)
Name Header_Row: ROW(#REF!)
Name Header_Row: ROW(#REF!)
Name Header_Row: ROW(#REF!)
Name Header_Row: ROW(#REF!)
Name Header_Row: ROW(#REF!)
Name Header_Row: ROW(#REF!)
Name Header_Row: ROW(#REF!)
Name io: DATE(YEAR([0]!Loan_Start),MONTH([0]!Loan_Start)+Payment_Number,DAY([0]!Loan_Start))
Name io: DATE(YEAR([0]!Loan_Start),MONTH([0]!Loan_Start)+Payment_Number,DAY([0]!Loan_Start))
Name io: DATE(YEAR([0]!Loan_Start),MONTH([0]!Loan_Start)+Payment_Number,DAY([0]!Loan_Start))
Name io: DATE(YEAR([0]!Loan_Start),MONTH([0]!Loan_Start)+Payment_Number,DAY([0]!Loan_Start))
Name io: DATE(YEAR([0]!Loan_Start),MONTH([0]!Loan_Start)+Payment_Number,DAY([0]!Loan_Start))
Name io: DATE(YEAR([0]!Loan_Start),MONTH([0]!Loan_Start)+Payment_Number,DAY([0]!Loan_Start))
Name io: DATE(YEAR([0]!Loan_Start),MONTH([0]!Loan_Start)+Payment_Number,DAY([0]!Loan_Start))
Name io: DATE(YEAR([0]!Loan_Start),MONTH([0]!Loan_Start)+Payment_Number,DAY([0]!Loan_Start))
Name io: DATE(YEAR([0]!Loan_Start),MONTH([0]!Loan_Start)+Payment_Number,DAY([0]!Loan_Start))
Name io: DATE(YEAR([0]!Loan_Start),MONTH([0]!Loan_Start)+Payment_Number,DAY([0]!Loan_Start))
Name io: DATE(YEAR([0]!Loan_Start),MONTH([0]!Loan_Start)+Payment_Number,DAY([0]!Loan_Start))
Name io: DATE(YEAR([0]!Loan_Start),MONTH([0]!Loan_Start)+Payment_Number,DAY([0]!Loan_Start))
Name io: DATE(YEAR([0]!Loan_Start),MONTH([0]!Loan_Start)+Payment_Number,DAY([0]!Loan_Start))
Name io: DATE(YEAR([0]!Loan_Start),MONTH([0]!Loan_Start)+Payment_Number,DAY([0]!Loan_Start))
Name io: DATE(YEAR([0]!Loan_Start),MONTH([0]!Loan_Start)+Payment_Number,DAY([0]!Loan_Start))
Name kjghd: OFFSET([0]!Full_Print,0,0,[2]CR!Last_Row)
Name kjghd: OFFSET([0]!Full_Print,0,0,[2]CR!Last_Row)
Name kjghd: #N/A
Name kjghd: OFFSET([0]!Full_Print,0,0,[2]CR!Last_Row)
Name Last_Row: IF([2]CR!Values_Entered,[0]!Header_Row+[2]CR!Number_of_Payments,[0]!Header_Row)
Name Last_Row: IF([2]CR!Values_Entered,[0]!Header_Row+[2]CR!Number_of_Payments,[0]!Header_Row)
Name Last_Row: #N/A
Name Last_Row: IF([2]CR!Values_Entered,[0]!Header_Row+[2]CR!Number_of_Payments,[0]!Header_Row)
Name Number_of_Payments: MATCH(0.01,[0]!End_Bal,-1)+1
Name Number_of_Payments: MATCH(0.01,[0]!End_Bal,-1)+1
Name Number_of_Payments: MATCH(0.01,[0]!End_Bal,-1)+1
Name Number_of_Payments: MATCH(0.01,[0]!End_Bal,-1)+1
Name Number_of_Payments: MATCH(0.01,[0]!End_Bal,-1)+1
Name Number_of_Payments: MATCH(0.01,[0]!End_Bal,-1)+1
Name Number_of_Payments: MATCH(0.01,[0]!End_Bal,-1)+1
Name Number_of_Payments: MATCH(0.01,[0]!End_Bal,-1)+1

Sheet COVER
A3: llllllllllllllllllllllllllllllllllllllllllllllllllll
A4: llllllllllllllllllllllllllllllllllllllllllllllllllllllllllllllllllllllllllllllllllllllllllllllllllllllllllllllllll | K4: llllllllllllllllllllllllllllllllllllllllllllllllllllllllllllllllllllllllllllllllllllllllllllllllllllllllllllllllllllllllllllllllllllllllllllll
C25: PANCHAYATI RAJ ENGINEERING DEPARTMENT
B28: DETAILED ESTIMATE CUM ABSTRACT
B32: Grant: FOR ADMINISTRATIVE SANCTION
C36: NAME OF THE WORK: | F36: : | G36: ='lead 2025-26'!C3 -> Providing BT Surface to the road from Inimerla SC colony to National Highway at Nuchupoda in Inimerla GP of Pamuru Mandal.
C40: ESTIMATE COST | F40: : | G40: ='lead 2025-26'!K4 -> 140.00 Lakhs
C43: NAME OF THE MANDAL | F43: : | G43: ='lead 2025-26'!J39 -> Pamuru
C46: NAME OF SUB. DIVISION | F46: : | G46: KANIGIRI
C48: NAME OF THE DIVISION | F48: : | G48: KANDUKUR
C50: NAME OF THE CIRCLE | F50: : | G50: ONGOLE
A54: llllllllllllllllllllllllllllllllllllllllllllllllllllllllllllllllllllllllllllllllll

Sheet SPE
A1: SPECIFICATION REPORT
A3: Specification Report to accompany the estimate for the work "
A4: ='lead 2025-26'!C3 -> Providing BT Surface to the road from Inimerla SC colony to National Highway at Nuchupoda in Inimerla GP of Pamuru Mandal.
F5: Estt. Rs. | H5: ='lead 2025-26'!K4 -> 140.00 Lakhs
A7: It is proposed to provide base layer with Granular sub base with 100mm thick and Wet mix mecadam 150mm thick compacted successively. It is proposed to provide shoulders of 100mm thick compacted using selected earth extending the full width of 1.00 Mts on either side of the carriage way, single coat surface dressing is proposed in place of prime coat to protect the WBM surface from damage due to traffic. Black topping is proposed with 25mm thick semi dense bituminous concrete as per code
A8: Hence the estimate is prepared with upto BT standards with following provisions.
A9: 1 | B9: Unskilled Labour Charges for Earthwork excavation
A10: 2 | B10: Clearing and grubbing road land
A11: 3 | B11: Construction of embankment with approved material
A12: 4 | B12: Scarifyting the existing Granular sub base
A13: 5 | B13: Construction of Subgrade with selected earth
A14: 6 | B14: Construction of Granular Sub base
A15: 7 | B15: Construction of Wet Mix Mecadam
A16: 8 | B16: Providing Primary coat with Emusion SS-1
A17: 9 | B17: Providing Tak coat with Emusion RS-1
A18: 10 | B18: Providing and laying bituminous macadam with 40-60 TPH
A19: 11 | B19: Providing and laying semi dense bituminous concrete
A20: 12 | B20: Construction of selected earth shoulders
A21: 13 | B21: Construction of Culverts
A22: Necessary provisions are shown for Q.C Charges @ 0.50% , GST charges @ 18%, and seigneorage charges are also shown in the estimate.
A23: The estimate is prepared as per the current schedule of rates for the year 2025-26 and the work will be executed as per APSS.
E27: ='lead 2025-26'!$G$37 -> Deputy Executive Engineer | H27: ='lead 2025-26'!J37 -> Assistant Engineer
E28: ='lead 2025-26'!$G$38 -> PRI Sub Division: Kanigiri | H28: ='lead 2025-26'!J38 -> Mandal Praja Parishad
H29: ='lead 2025-26'!J39 -> Pamuru

Sheet A.M
A1: ACTIVITY MASTER
A2: ='lead 2025-26'!B3&'lead 2025-26'!C3 -> Name of the work : Providing BT Surface to the road from Inimerla SC colony to National Highway at Nuchupoda in Inimerla GP of Pamuru Mandal.
F3: Est.Rs. | H3: ='lead 2025-26'!K4 -> 140.00 Lakhs
A4: Sl. No | B4: Material Task No. | C4: Description of Item | D4: Quantity | F4: Rate | G4: Per | H4: Amount Rs.
A6: 1 | B6: 2 | C6: 3 | D6: 4 | F6: 5 | G6: 6 | H6: 7
C7: Wage Component | H7: =0.000001 -> 1e-06
A8: =IF(B8<>"",SUBTOTAL(103,$B8:B$8),"") -> 1 | B8: ACT0011 | C8: Unskilled Labour Charges for Earthwork excavation by manual means exceeding 1.5 m in width taking out the excavated soil and disposal as directed by engineer in charge in Ordinary soil, with an Initial Lead up to 10 m and lift up to 1.5 m | D8: =MAIN!I10 -> 0 | E8: Cum | F8: =MAIN!K10 -> 144.26 | G8: 1Cum | H8: =ROUND(D8*F8/1,0) -> 0
A9: =IF(B9<>"",SUBTOTAL(103,$B$8:B9),"") -> 1 | B9: ACT0616 | C9: Unskilled labour for Curing of CC Pavament | D9: ='SUB-1'!I59 -> 0 | E9: Cum | F9: ='SUB-1'!K59 -> 150 | G9: 1Cum | H9: =ROUND(D9*F9/1,0) -> 0
C10: Material Component | H10: =0.000001 -> 1e-06
A11: =IF(B11<>"",SUBTOTAL(103,$B$8:B11),"") -> 2 | B11: ACT0009 | C11: Clearing and grubbing road land including uprooting wild vegetation, grass, bushes, shrubs, saplings and trees of girth up to 300 mm, removal of stumps of such trees cut earlier and disposal of unserviceable materials and stacking of serviceable material to be used or auctioned, up to a lead of 1000 m including removal and disposal of top organic soil not exceeding 150 mm in thickness (in area of non thorny /light jungle) as per Technical Specification Clause 201 MORD. | D11: =MAIN!I17 -> 4032 | E11: Sqm | F11: =MAIN!K17 -> 2.25 | G11: 1Sqm | H11: =ROUND(D11*F11/1,0) -> 9072
A12: =IF(B12<>"",SUBTOTAL(103,$B$8:B12),"") -> 3 | B12: ACT0011 | C12: Earthwork in excavation for structures as per drawing and technical specifications Clause 305.1 including setting out, construction of shoring and bracing, removal of stumps and other deleterious material and disposal upto a lead of 50 m, dressing of sides and bottom and backfilling in trenches with excavated suitable material as per Technical Specification 305 MORD / 304 MORTH | D12: ='SUB-1'!I19+'SUB-2'!I15+'SUB-3'!I12+'SUB-4'!I12+'sub-5'!I11 -> 78.24 | E12: Cum | F12: ='SUB-1'!K19 -> 126.69 | G12: 1Cum | H12: =ROUND(D12*F12/1,0) -> 9912
A13: =IF(B13<>"",SUBTOTAL(103,$B$8:B13),"") -> 4 | B13: ACT0026 | C13: Providing concrete for plain concrete M10 Grade in open foundations using 40 mm nominal size Graded hard stone aggregate, mechanically mixed, placed in foundation and compacted by vibration including curing for 14 days complete as per drawings and technical specifications Clause 802, 803, 1202 & 1203 MORD and 1500, 1700 & 2100 MORTH | D13: ='SUB-1'!I26+'SUB-2'!I27+'SUB-3'!I22+'SUB-4'!I22+'sub-5'!I18 -> 17.53 | E13: Cum | F13: ='SUB-1'!K26 -> 5600.99 | G13: 1Cum | H13: =ROUND(D13*F13/1,0) -> 98185
A14: =IF(B14<>"",SUBTOTAL(103,$B$8:B14),"") -> 5 | B14: ACT0024 | C14: Plain cement concrete M 15 grade using 40,20 & 12mm metal mechanically mixed in Substructures complete as per drawings and technical specification Clauses 802, 804, 805, 806, 807, 1202 and 1204 MORD and 1500, 1700 & 2200 MORTH. | D14: ='SUB-1'!I37+'SUB-2'!I44+'SUB-3'!I32+'SUB-4'!I32 -> 41.49 | E14: Cum | F14: ='SUB-1'!K37 -> 5954.56 | G14: 1Cum | H14: =ROUND(D14*F14/1,0) -> 247055
A15: =IF(B15<>"",SUBTOTAL(103,$B$8:B15),"") -> 6 | B15: ACT0193 | C15: Construction of embankment with approved material obtained from borrow pits with all lifts, transporting to site, spreading, grading to required slope and compacting to meet requirement of Tables 300.1 and 300.2 with a lead upto 1000 m as per Technical Specification Clause 301.5 MORD / 305 MORTH | D15: =MAIN!I25 -> 3360 | E15: Cum | F15: =MAIN!K25 -> 236.56 | G15: 1Cum | H15: =ROUND(D15*F15/1,0) -> 794842
A16: =IF(B16<>"",SUBTOTAL(103,$B$8:B16),"") -> 7 | B16: ACT0217 | C16: Dismantling of cement concrete pavements by mechanical means using pneumatic tools breaking to pieces not exceeding 0.02 cum in volume and stock piling at designated locations and disposal of dismantled materials upto a lead of 1000 m, stacking serviceable and unserviceable materials separately. | D16: =MAIN!I29+'SUB-1'!I10 -> 0 | E16: Cum | F16: =MAIN!K29 -> 1526.01 | G16: 1Cum | H16: =ROUND(D16*F16/1,0) -> 0
A17: =IF(B17<>"",SUBTOTAL(103,$B$8:B17),"") -> 8 | B17: ACT0504 | C17: Dismantling of existing structures comprising of stone masonry, including disposal of unserviceable material and stacking the serviceable material with all lifts and lead of 1000 m as per Technical Specification Clause 202 MORD / MORTH | D17: ='SUB-1'!I14 -> 0 | E17: Cum | F17: ='SUB-1'!K14 -> 500.62 | G17: 1Cum | H17: =ROUND(D17*F17/1,0) -> 0
A18: =IF(B18<>"",SUBTOTAL(103,$B$8:B18),"") -> 8 | B18: ACT0231 | C18: Providing and laying reinforced cement concrete M20 grade using 20 & 12mm metal mechanically mixed in superstructure as per drawing and technical specification Clauses 800, 1205.4 and 1205.4 MORD / sections 1500, 1600 & 1700 MORTH for deck slab | E18: Cum | G18: 1Cum | H18: =ROUND(D18*F18/1,0) -> 0
A19: =IF(B19<>"",SUBTOTAL(103,$B$8:B19),"") -> 8 | B19: ACT0492 | C19: Providing RCC M-25 grade cement concrete using using 20 mm to 12 mm Graded HBG crushed Metal ( 66% of 20 mm and 34% of 12mm )s from approved source including cost of all ,materials, machinery, labour, formwork, scaffolding,placing in position, levelling, vibrating, finishing, curing etc., complete with initial lead upto 50 m and all lifts. for Guide Posts | D19: ='SUB-1'!I42+'SUB-2'!I48+'SUB-3'!I36+'SUB-4'!I36 -> 0 | E19: Cum | F19: ='SUB-1'!K42 -> 7542 | G19: 1Cum | H19: =ROUND(D19*F19/1,0) -> 0
A20: =IF(B20<>"",SUBTOTAL(103,$B$8:B20),"") -> 8 | B20: ACT0493 | C20: Supplying, fitting and placing HYSD bar reinforcement in foundation complete as per drawings and technical specifications Clauses 1000 and 1202 MORD & 1100, 1600 MORTH for Bars below 36 mm dia including over laps and wastage, where they are not welded | D20: ='SUB-1'!I46+'SUB-2'!I52+'SUB-3'!I40+'SUB-4'!I40 -> 0 | E20: MT | F20: ='SUB-1'!K46 -> 86540.55 | G20: 1MT | H20: =ROUND(D20*F20/1,0) -> 0
A21: =IF(B21<>"",SUBTOTAL(103,$B$8:B21),"") -> 8 | B21: ACT0446 | C21: Providing and laying reinforced cement concrete pipe 600 NP3 for culverts on first class bedding of granular material but excluding excavation, protection works, backfilling, concrete and masonry works in head wall and parapets. Tech Specification Clause 1106 MORD. | D21: ='sub-5'!I22 -> 0 | E21: Rm | F21: ='sub-5'!K22 -> 3804.82 | G21: 1Rm | H21: =ROUND(D21*F21/1,0) -> 0
A22: =IF(B22<>"",SUBTOTAL(103,$B$8:B22),"") -> 9 | B22: ACT0486 | C22: Providing and laying reinforced cement concrete pipe 1000 NP3 for culverts on first class bedding of granular material but excluding excavation, protection works, backfilling, concrete and masonry works in head wall and parapets. Tech Specification Clause 1106 MORD. | D22: ='SUB-1'!I30+'SUB-2'!I32+'SUB-3'!I26+'SUB-4'!I26 -> 22.5 | E22: Rm | F22: ='SUB-1'!K30 -> 9006.27 | G22: 1Rm | H22: =ROUND(D22*F22/1,0) -> 202641
A23: =IF(B23<>"",SUBTOTAL(103,$B$8:B23),"") -> 9 | B23: ACT0594 | C23: Brick Masonary for Superstructure with CM (1:6) proportion using 2nd class traditional bricks of size 23X11X7 cms having minimum crushing strength of 40kg/cm2 including c/c of all materials like Cement, Sand, Bricks, water etc including seigniorage, sales and other taxes on all marerilas including all operational, incidental and labour charges such as mixing cement mortar , Scaffolding charges, etc complete for finished item of work (APSS No 501 & 504). | E23: Cum | G23: 1Cum | H23: =ROUND(D23*F23/1,0) -> 0
A24: =IF(B24<>"",SUBTOTAL(103,$B$8:B24),"") -> 9 | B24: ACT0061 | C24: Plastering with CM (1:5), 12 mm thick including Cost and Conveyance of all materials and labour charges etc., complete | E24: Sqm | G24: 1Sqm | H24: =ROUND(D24*F24/1,0) -> 0
A25: =IF(B25<>"",SUBTOTAL(103,$B$8:B25),"") -> 9 | B25: ACT0409 | C25: Filling with selected earth in trenches, sides of foundations & basement by watering and ramming including all operational, incidental, labour charges, hire charges of T&P etc complete including cost and conveyance of material and labour charges etc complete for finished item of the work (APSS No 309& 310) per 1 Cum | D25: ='SUB-1'!I50+'SUB-2'!I57+'SUB-3'!I45+'SUB-4'!I45 -> 40.7 | E25: Cum | F25: ='SUB-1'!K50 -> 279.78 | G25: 1Cum | H25: =ROUND(D25*F25/1,0) -> 11387
A26: =IF(B26<>"",SUBTOTAL(103,$B$8:B26),"") -> 10 | B26: ACT0494 | C26: Scarifying existing granular surface to a depth of 50 mm and disposal of scarified material with a lift upto 3 m and leads upto 1000 m as per Technical Specification Clause 301.4. MORD | D26: =MAIN!I33 -> 6720 | E26: Sqm | F26: =MAIN!K33 -> 38.49 | G26: 1Sqm | H26: =ROUND(D26*F26/1,0) -> 258653 | I26: =I50 -> 0
A27: =IF(B27<>"",SUBTOTAL(103,$B$8:B27),"") -> 11 | B27: ACT0181 | C27: Construction of Granular Sub Base using well graded material, spreading in uniform layers with tractor mounted grader on prepared surface , mixing by mix in place method with rotovator at OMC and compacting with Smooth wheel roller to achive the desired density , Complete as per technical speficaction clause 401 of MORD | D27: =MAIN!I47 -> 672 | E27: =MAIN!J47 -> Cum | F27: =MAIN!K47 -> 2928.41 | G27: =MAIN!L47 -> 1Cum | H27: =ROUND(D27*F27/1,0) -> 1967892
A28: =IF(B28<>"",SUBTOTAL(103,$B$8:B28),"") -> 12 | B28: ACT0182 | C28: Providing, laying, spreading and compacting graded stone aggregate to wet mix macadam specification including premixing the material with water at OMC in mechanical mixer (Pug Mill), carriage of mixed material by tipper to site, laying in uniform layers in sub-base/base course on a well prepared sub-base and compacting with smooth wheel roller of 80 to 100kN / Vibratory Roller 80-100 kN weight to achieve the desired density including lighting, barricading and maintenance of diversion, etc as per Tables 400.11 & 400.12 and Technical Specification Clause 406 MORD / MORTH. | D28: =MAIN!I51 -> 945 | E28: =MAIN!J51 -> Cum | F28: =MAIN!K51 -> 3982.34 | G28: =MAIN!L51 -> 1Cum | H28: =ROUND(D28*F28/1,0) -> 3763311
A29: =IF(B29<>"",SUBTOTAL(103,$B$8:B29),"") -> 13 | B29: ACT0183 | C29: Providing and applying primer coat with bitumen emulsion (SS-1) on prepared surface of granular base including cleaning of road surface and spraying primer at the rate of 0.70-1.0 kg/sqm using mechanical means as per Technical Specification Clause 502 MORD (for use on Wet mix macadam & WBM) | D29: =MAIN!I55 -> 6300 | E29: =MAIN!J55 -> Sqm | F29: =MAIN!K55 -> 42.54 | G29: =MAIN!L55 -> 1Sqm | H29: =ROUND(D29*F29/1,0) -> 268002
A30: =IF(B30<>"",SUBTOTAL(103,$B$8:B30),"") -> 14 | B30: ACT0184 | C30: Providing and applying tack coat with Bitumen emulsion (RS-1) using emulsion distributor at the rate of 0.25 to 0.30 kg per sqm on the prepared granular surfaces treated with primer & cleaned with Hydraulic broom as per Technical Specification Clause 503 MORD, | D30: =MAIN!I59 -> 6300 | E30: =MAIN!J59 -> Sqm | F30: =MAIN!K59 -> 16.24 | G30: =MAIN!L59 -> 1Sqm | H30: =ROUND(D30*F30/1,0) -> 102312
A31: =IF(B31<>"",SUBTOTAL(103,$B$8:B31),"") | C31: Providing and laying bituminous macadam with 40-60 TPH hot mix plant using crushed aggregates of grading as per Table 500.4 premixed with bituminous binder, transported to site upto a lead of 1000 m laid over a previously prepared surface with paver finisher to the required grade, level and alignment and rolled to achieved the desired compaction as per Technical Specification Clause 504 MORD (using vibratory Roller 80-100 KN for intermediate rolling and 3 wheel roller 80-100 KN for initial and final rolling). | D31: =MAIN!I69 -> 0 | E31: Cum | F31: =MAIN!K69 -> 10500.24 | G31: 1Cum | H31: =ROUND(D31*F31/1,0) -> 0
A32: =IF(B32<>"",SUBTOTAL(103,$B$8:B32),"") -> 15 | B32: ACT0184 | C32: Providing and laying semi dense bituminous concrete with 40-60 TPH batch type HMP producing an average output of 37.5 tonnes per hour using crushed aggregates of specified grading, premixed with bituminous binder @ 4.5 to 5 per cent of mix and filler, transporting the hot mix to work site, laying with a hydrostatic paver finisher with sensor control to the required grade, level and alignment, rolling with smooth wheeled, vibratory and tandem rollers to achieve the desired compaction as per MoRTH specification clause No. 508 complete in all respects | D32: =MAIN!I73 -> 157.5 | E32: =MAIN!J73 -> Cum | F32: =MAIN!K73 -> 11856.57 | G32: =MAIN!L73 -> 1Cum | H32: =ROUND(D32*F32/1,0) -> 1867410
A33: =IF(B33<>"",SUBTOTAL(103,$B$8:B33),"") -> 16 | B33: ACT0186 | C33: Construction of improved shoulders by provided selected earth having minimum CBR of 10% MD not less than 1.85 G/CC with LL & PI not more than 40% and 20 respectively and spreading in uniform layers with tractor grader on prepared surface and compacted at OMC with vibratory roller 80-100 KN to meet requirement of table 00.2 with as per technical specification clause 303 MORD, 305 MORTH by using machinery | D33: =MAIN!I77+MAIN!I43 -> 907.2 | E33: =MAIN!J77 -> Cum | F33: =MAIN!K77 -> 384.05 | G33: =MAIN!L77 -> 1Cum | H33: =ROUND(D33*F33/1,0) -> 348410
A34: =IF(B34<>"",SUBTOTAL(103,$B$8:B34),"") -> 17 | B34: ACT0407 | C34: Plain cement concrete for CC pavement, thickness as per design, over a prepared sub base, with 43 grade cement or any other type as per Clause 1501.2.2 M20 (Grade), coarse and fine aggregates conforming to IS : 383, maximum in a concrete mixer of not less than 0.2 cum capacity and appropeiate weigh batcher using approved mix design, laid in approved fixed side formwork (steel channel, laying and fixing of 125 mictron thick polythene film, wedges, steel plates including levelling the formwork as per drawing), spreading the concrete with sholvels, rakes, compacted using needle, scareed and plate vibrators and finished in continuous operation including provision of contraction and expansion, construction joints, applying debonding strips, primer, sealant, dowel bars, near approaches to bridge / culvert and construction joints, admixtures as approved, curing of concrete slabs for 28- days, curing compound (where specified) and water finishing to lines and grade as per drawing and Technical Specification Clause 1501 MORD | D34: ='SUB-1'!I55+'SUB-2'!I61+'SUB-3'!I49+'SUB-4'!I49+MAIN!I81 -> 0 | E34: Cum | F34: ='SUB-1'!K55 -> 7873.37 | G34: 1Cum | H34: =ROUND(D34*F34/1,0) -> 0
A35: =IF(B35<>"",SUBTOTAL(103,$B$8:B35),"") -> 17 | B35: ACT0409 | C35: Collection and supply of Selected earth for shoulders including cost and conveyance of all materials and stacking at site to dept gauge | E35: Cum | G35: 1Cum | H35: =ROUND(D35*F35/1,0) -> 0
A36: =IF(B36<>"",SUBTOTAL(103,$B$8:B36),"") -> 18 | B36: ACT0196 | C36: Providing and construction of name board of specified size with brick masonary including painting and required lettering etc complete. | D36: 1 | E36: No | F36: =Abstract!M19 -> 0 | G36: 1Cum | H36: =ROUND(D36*F36/1,0) -> 0
A37: =IF(B37<>"",SUBTOTAL(103,$B$8:B37),"") -> 19 | B37: ACT0194 | C37: Supply and fixing of KM Stones including painting and required lettering. | D37: ='sub-6'!I11 -> 3 | E37: No | F37: ='sub-6'!K11 -> 3148.81 | G37: No | H37: =ROUND(D37*F37/1,0) -> 9446
A38: =IF(B38<>"",SUBTOTAL(103,$B$8:B38),"") -> 20 | B38: ACT0195 | C38: Supply and fixing of HM Stones including painting and required lettering. | D38: ='sub-6'!I15 -> 7 | E38: No | F38: ='sub-6'!K15 -> 883.73 | G38: No | H38: =ROUND(D38*F38/1,0) -> 6186
A39: =IF(B39<>"",SUBTOTAL(103,$B$8:B39),"") -> 20 | B39: ACT0485 | C39: S&F of retro-reflective cautionary, mandatory & informatory sign as per IRC:67 made of encapsulated lens type reflective sheeting vide clause 1701.2.3 MORD fixed over aluminium sheeting 1.5mm thick supported on a mild steel iron post 75x75x6 mm firmly fixed to the ground by means of properly designed foundation with M20 cement concrete 450x450x600mm,600 mm below ground level as per drawings and technical spec. clause 1701 MORD Cautionary warning signs Equilateral traiangle of size 600 mm | D39: ='sub-6'!I19 -> 0 | E39: No | F39: ='sub-6'!K19 -> 2623.842 | G39: No | H39: =ROUND(D39*F39/1,0) -> 0
A40: =IF(B40<>"",SUBTOTAL(103,$B$8:B40),"") -> 20 | B40: ACT0481 | C40: S/&F Direction&Place identi. retrorefl. sign boards as per as per IRC67 made of 2mm thick MS sheet duly stove enameled paint white colour in front&grey colour on back with refl.border of 70mm width&required message let.&fig. with refl. tape engg. grade as per clause 1701 of req. shade&colour supported&welded on two nos.47X47X12mm SWG sheet tube of 3050mm ht.strengthened by 25x5mm MS flat on edges on back fixed to ground fn. in M-20 CC 450X600X600mm below G.L Main info. Board of size 1500 x1200 | D40: ='sub-6'!I23 -> 0 | E40: No | F40: ='sub-6'!K23 -> 2222.59 | G40: No | H40: =ROUND(D40*F40/1,0) -> 0
A41: =IF(B41<>"",SUBTOTAL(103,$B$8:B41),"") -> 20 | B41: ACT0482 | C41: S/&F Direction&Place identi.semi reflective Village boards as per as per IRC67 made of 2mm thick MS sheet duly stove enameled paint white colour in front&grey colour on back with refl.border of 70mm width&required message let.&fig. with refl. tape engg. grade as per clause 1701 of req. shade&colour supported&welded on two nos.47X47X12mm SWG sheet tube of 3050mm ht.strengthened by 25x5mm MS flat on edges on back fixed to ground fn. in M-20 CC 450X600X600mm below GL vill. board of size 900X600 mm | D41: ='sub-6'!I27 -> 0 | E41: No | F41: ='sub-6'!K27 -> 2222.6557 | G41: No | H41: =ROUND(D41*F41/1,0) -> 0
...

Sheet input data
A2: NIC MATERIAL MASTER
A3: ='lead 2025-26'!B3&'lead 2025-26'!C3 -> Name of the work : Providing BT Surface to the road from Inimerla SC colony to National Highway at Nuchupoda in Inimerla GP of Pamuru Mandal. | I3: 18
B4: Name of the District: | C4: : | D4: Prakasam | I4: 229
B5: Name of the Constituency | C5: : | D5: Kanigiri | I5: =MAIN!#REF! -> #REF!
B6: Name of the Mandal | C6: : | D6: P.C.Palli
B7: Name of the GP / Habitation | C7: : | D7: Vengalayapalli
E8: Es.Rs. | F8: ='lead 2025-26'!K4 -> 140.00 Lakhs
A9: S No | B9: Task Name | C9: Unit | D9: Task Code | E9: Qty | F9: Rate per Unit in Rs | G9: Amount in Rs
A10: 1 | B10: Cost of Cement (OPC-53) | C10: MT | D10: MAT-0001 | E10: =seigneorage!O77 -> 15.27 | F10: ='lead 2025-26'!K26 -> 4218.8 | G10: =ROUND(E10*F10,0) -> 64421
A11: 2 | B11: Cost of Sand for Concrete | C11: cum | D11: MAT -0010 | E11: =seigneorage!I77 -> 27.81 | F11: ='lead 2025-26'!H9 -> 0 | G11: =ROUND(E11*F11,0) -> 0
A12: 2 | B12: Cost of 40 mm HBG Metal | C12: cum | D12: MAT-0013 | E12: =seigneorage!K77 -> 35.7 | F12: ='lead 2025-26'!H16+'lead 2025-26'!I16+'lead 2025-26'!J16 -> 1032.5 | G12: =ROUND(E12*F12,0) -> 36860
A13: 3 | B13: Cost of 20 mm HBG Metal | C13: cum | D13: MAT-0014 | E13: =seigneorage!L77 -> 9.96 | F13: ='lead 2025-26'!H12+'lead 2025-26'!I12+'lead 2025-26'!J12 -> 1676.25 | G13: =ROUND(E13*F13,0) -> 16695
A14: 4 | B14: Cost of 12 mm HBG Metal | C14: cum | D14: MAT -0015 | E14: =seigneorage!M77 -> 3.32 | F14: ='lead 2025-26'!H13+'lead 2025-26'!I13+'lead 2025-26'!J13 -> 1350 | G14: =ROUND(E14*F14,0) -> 4482
A15: 5 | B15: Granular Material | C15: cum | D15: MAT-0030 | E15: =A.M!D27 -> 672 | F15: =A.M!F27 -> 2928.41 | G15: =ROUND(E15*F15,0) -> 1967892
A16: 6 | B16: Cost of Selected earth | C16: cum | D16: MAT-0039 | E16: =MAIN!I77 -> 907.2 | F16: =MAIN!K77 -> 384.05 | G16: =ROUND(E16*F16,0) -> 348410
A17: 7 | B17: Cost and supply of NP3 pipes 1000mm | C17: cum | D17: MAT-0052 | E17: =A.M!D22 -> 22.5 | F17: =A.M!F22 -> 9006.27 | G17: =ROUND(E17*F17,0) -> 202641
A18: 8 | B18: Cost and supply of NP3 pipes 600mm | C18: cum | E18: =A.M!D21 -> 0 | F18: =A.M!F21 -> 3804.82 | G18: =ROUND(E18*F18,0) -> 0
A19: 8 | B19: Conveyance charges for Sand | C19: cum | D19: MAT-0060 | E19: =E11 -> 27.81 | F19: ='lead 2025-26'!G9 -> 1287.19 | G19: =ROUND(E19*F19,0) -> 35797
A20: 9 | B20: Conveyance charges for Metal, Stone, Bricks | C20: LS | D20: MAT-0061 | G20: =ROUND((E12*'lead 2025-26'!G16)+('input data'!E13*'lead 2025-26'!G12)+('input data'!E14*'lead 2025-26'!G13)+(seigneorage!N9*'lead 2025-26'!G17)+(seigneorage!N11*'lead 2025-26'!G17),0) -> 1993028
A21: 10 | B21: Citizen information Board/Name board | C21: Each | D21: MAT-0063 | G21: =A.M!H36 -> 0
A22: 11 | B22: GST charges | C22: Each | D22: MAT-0062 | G22: =A.M!H46 -> 2004957
A23: 12 | B23: Provision for work wise file | C23: Each | D23: MAT- 0064 | G23: =A.M!H45 -> 0
A24: 13 | B24: Provision for Seigneorage charges | D24: A11592 CW-13 | G24: =A.M!H43 -> 960158
A25: 14 | B25: Provision QC charges @ 0.50% | D25: A11591 CW-12 | G25: =A.M!H44 -> 50892 | H25: =SUM(G10:G25) -> 7686233
A26: 15 | B26: Contingency and unforeseen items | C26: LS | D26: MAT-0073 | G26: =H26-H25 -> 6313767 | H26: =Abstract!M22-MAIN!M10-'SUB-1'!M59 -> 14000000
A29: Total excluding Wage component | G29: =SUM(G10:G28) -> 14000000 | H29: =G29+A.M!H8+A.M!H9 -> 14000000
C33: ='lead 2025-26'!G37 -> Deputy Executive Engineer | F33: ='lead 2025-26'!J37 -> Assistant Engineer
C34: ='lead 2025-26'!G38 -> PRI Sub Division: Kanigiri | F34: ='lead 2025-26'!J38 -> Mandal Praja Parishad
F35: ='lead 2025-26'!J39 -> Pamuru

Sheet Abstract
A1: GENERAL ABSTRACT
A2: ='lead 2025-26'!B3 -> Name of the work : | C2: ='lead 2025-26'!C3 -> Providing BT Surface to the road from Inimerla SC colony to National Highway at Nuchupoda in Inimerla GP of Pamuru Mandal.
K3: Est.Rs. | M3: ='lead 2025-26'!K4 -> 140.00 Lakhs
A4: Sl. No | B4: Description of Item | I4: Quantity | K4: Rate | L4: Per | M4: Amount Rs.
A6: 1 | B6: 2 | I6: 3 | K6: 4 | L6: 5 | M6: 6
A7: 1 | B7: Cost of Road work | M7: =MAIN!M83 -> 9379904
A8: 2 | B8: Construction of 3 rows of 1000mm dia pipe culvert - 3Nos | M8: ='SUB-1'!M61 -> 0
A9: 3 | B9: Construction of 2 rows of 1000mm dia vented road dam @ 2/8 to 3/0 & 3/2 to 3/4. | M9: ='SUB-2'!M63 -> 0
A10: 2 | B10: Construction of 1 row of 1000mm dia Pipe culvert - 3 Nos | M10: ='SUB-3'!M51 -> 569180
A11: 5 | B11: Construction of 1 row of 1000mm dia Pipe culvert @ 1/2 to 1/4. | M11: ='SUB-4'!M51 -> 0
A12: 6 | B12: Construction of 1 row of 600mm dia Pipe culvert @ 1/6 to 1/8. | M12: ='sub-5'!M24 -> 0
A13: 3 | B13: Construction of Road Safety interventions | M13: ='sub-6'!M33 -> 229409
B14: Total | M14: =SUM(M7:M13) -> 10178493
A15: 4 | B15: Provision for Seigneorage charges | M15: =seigneorage!J84 -> 960158
M16: =SUM(M14:M15) -> 11138651
A17: 5 | B17: Provision for QC charges @ 0.50% | K17: =M14 -> 10178493 | L17: x0.50% | M17: =ROUND(K17*0.5%,0) -> 50892
A18: 6 | B18: Provision for GST charges @ 18% | K18: =M16 -> 11138651 | L18: x18% | M18: =ROUND(K18*18%,0) -> 2004957
A19: 6 | B19: Provision for Name board | M19: 0
A20: 6 | B20: Provision for work file
A21: 7 | B21: Unforseen items | M21: =O21 -> 805500 | O21: =O22-M16-M17-M18-M19-M20 -> 805500
I22: Grand Total:- | M22: =SUM(M16:M21) -> 14000000 | O22: 14000000
G27: ='lead 2025-26'!$G$37 -> Deputy Executive Engineer | L27: ='lead 2025-26'!J37 -> Assistant Engineer
G28: ='lead 2025-26'!$G$38 -> PRI Sub Division: Kanigiri | L28: ='lead 2025-26'!J38 -> Mandal Praja Parishad
L29: ='lead 2025-26'!J39 -> Pamuru

Sheet MAIN
A1: DETAILED ESTIMATE CUM ABSTRACT
A2: ='lead 2025-26'!B3 -> Name of the work : | C2: ='lead 2025-26'!C3 -> Providing BT Surface to the road from Inimerla SC colony to National Highway at Nuchupoda in Inimerla GP of Pamuru Mandal.
K3: Est.Rs. | M3: ='lead 2025-26'!K4 -> 140.00 Lakhs
A4: Sl. No | B4: Description of Item | C4: No. | F4: Measurements | I4: Quantity | K4: Rate | L4: Per | M4: Amount Rs.
F5: L | G5: B | H5: D
A6: 1 | B6: 2 | C6: 3 | F6: 4 | G6: 5 | H6: 6 | I6: 7 | K6: 8 | L6: 9 | M6: 10
A7: 1 | B7: Unskilled Labour Charges for Earthwork excavation by manual means exceeding 1.5 m in width taking out the excavated soil and disposal as directed by engineer in charge in Ordinary soil, with an Initial Lead up to 10 m and lift up to 1.5 m
B8: High berm cutting | C8: 1 | D8: x | E8: 1 | F8: 20 | G8: 0.3 | H8: 0.3 | I8: =ROUND(IF(AND(F8:H8),C8*E8*F8*G8*H8,IF(AND(F8,G8),C8*E8*F8*G8,IF(AND(F8,H8),C8*E8*F8*H8,IF(AND(G8,H8),C8*E8*G8*H8,IF(F8,C8*E8*F8,IF(G8,C8*E8*G8,IF(H8,C8*E8*H8,C8*E8))))))),2) -> 1.8 | J8: Cum
J10: Cum | K10: ='data 2025-26'!H8 -> 144.26 | L10: 1Cum | M10: =ROUND(I10*K10/1,0) -> 0
A11: 1 | B11: Clearing and grubbing road land including uprooting wild vegetation, grass, bushes, shrubs, saplings and trees of girth up to 300 mm, removal of stumps of such trees cut earlier and disposal of unserviceable materials and stacking of serviceable material to be used or auctioned, up to a lead of 1000 m including removal and disposal of top organic soil not exceeding 150 mm in thickness (in area of non thorny /light jungle) as per Technical Specification Clause 201 MORD. | N11: =N88 -> 0 | O11: =N83 -> 0
B12: Km 0/0 to 1/6 + 80 | C12: 1 | D12: x | E12: 2 | F12: 1680 | G12: 2 | H12: 0 | I12: =ROUND(IF(AND(F12:H12),C12*E12*F12*G12*H12,IF(AND(F12,G12),C12*E12*F12*G12,IF(AND(F12,H12),C12*E12*F12*H12,IF(AND(G12,H12),C12*E12*G12*H12,IF(F12,C12*E12*F12,IF(G12,C12*E12*G12,IF(H12,C12*E12*H12,C12*E12))))))),2) -> 6720 | J12: Sqm | N12: =Abstract!M21 -> 805500
I14: =SUM(I12:I13) -> 6720 | J14: Sqm
B15: Deduct voids @ 40% | I15: =-ROUND(I14*40%,2) -> -2688 | J15: Sqm
I17: =SUM(I14:I16) -> 4032 | J17: Sqm | K17: ='data 2025-26'!H21 -> 2.25 | L17: 1Sqm | M17: =ROUND(I17*K17/1,0) -> 9072
A18: 3 | B18: Construction of embankment with approved materials deposited at site from roadway cutting and excavation from drain (not exceeding 0.6 m depth) and foundation of other structures graded and compacted to meet requirement of Tables 300.1 and 300.2 as per Technical Specification Clause 301.5 MORD / 305 MORTH | N18: =N92 -> 0 | O18: =N89 -> 0
C19: 1 | D19: x | E19: 2 | F19: 2100 | G19: 1.7 | H19: 0.6 | I19: =ROUND(IF(AND(F19:H19),C19*E19*F19*G19*H19,IF(AND(F19,G19),C19*E19*F19*G19,IF(AND(F19,H19),C19*E19*F19*H19,IF(AND(G19,H19),C19*E19*G19*H19,IF(F19,C19*E19*F19,IF(G19,C19*E19*G19,IF(H19,C19*E19*H19,C19*E19))))))),2) -> 4284 | J19: Cum
J21: Cum | K21: ='data 2025-26'!H53 -> 98.65 | L21: 1Cum | M21: =ROUND(I21*K21/1,0) -> 0
A22: 2 | B22: Construction of embankment with approved material obtained from borrow pits with all lifts, transporting to site, spreading, grading to required slope and compacting with vibratory roller 80-100 KN to meet requirement of Tables 300.1 and 300.2 with a lead upto 1000 m as per Technical Specification Clause 301.5 MORD/305 MORTH. | N22: =N96 -> 0 | O22: =N93 -> 0
B23: =B12 -> Km 0/0 to 1/6 + 80 | I23: =F12*2 -> 3360 | J23: Cum | O23: =N12 -> 805500
I25: =SUM(I23:I24) -> 3360 | J25: Cum | K25: ='data 2025-26'!H70 -> 236.56 | L25: 1Cum | M25: =ROUND(I25*K25/1,0) -> 794842
A26: 4 | B26: Dismantling of cement concrete pavements by mechanical means using pneumatic tools breaking to pieces not exceeding 0.02 cum in volume and stock piling at designated locations and disposal of dismantled materials upto a lead of 1000 m, stacking serviceable and unserviceable materials separately. | N26: =#REF! -> #REF! | O26: =#REF! -> #REF!
B27: Damaged existing CC road | C27: 1 | D27: x | E27: 1 | F27: 103 | G27: 2.5 | H27: 0.17 | I27: =ROUND(IF(AND(F27:H27),C27*E27*F27*G27*H27,IF(AND(F27,G27),C27*E27*F27*G27,IF(AND(F27,H27),C27*E27*F27*H27,IF(AND(G27,H27),C27*E27*G27*H27,IF(F27,C27*E27*F27,IF(G27,C27*E27*G27,IF(H27,C27*E27*H27,C27*E27))))))),2) -> 43.78 | J27: Cum
J29: Cum | K29: ='CD WORK DATA'!H15 -> 1526.01 | L29: 1Cum | M29: =ROUND(I29*K29/1,0) -> 0
A30: 3 | B30: Scarifying existing granular surface to a depth of 50 mm and disposal of scarified material with a lift upto 3 m and leads upto 1000 m as per Technical Specification Clause 301.4. MORD | N30: =N104 -> 0 | O30: =N101 -> 0
B31: =B12 -> Km 0/0 to 1/6 + 80 | C31: 1 | D31: x | E31: 1 | F31: =F12 -> 1680 | G31: 4 | H31: 0 | I31: =ROUND(IF(AND(F31:H31),C31*E31*F31*G31*H31,IF(AND(F31,G31),C31*E31*F31*G31,IF(AND(F31,H31),C31*E31*F31*H31,IF(AND(G31,H31),C31*E31*G31*H31,IF(F31,C31*E31*F31,IF(G31,C31*E31*G31,IF(H31,C31*E31*H31,C31*E31))))))),2) -> 6720 | J31: Sqm
I33: =SUM(I31:I32) -> 6720 | J33: Sqm | K33: ='data 2025-26'!H38 -> 38.49 | L33: 1Sqm | M33: =ROUND(I33*K33/1,0) -> 258653
A34: 6 | B34: Construction of improved subgrade by provided selected earth and spreading in uniform layers with tractor grader on prepared surface and compacted at OMC with vibratory roller 80-100 KN to meet requirement of table 00.2 with as per technical specification clause 303 MORD, 305 MORTH by using machinery
B35: =B31 -> Km 0/0 to 1/6 + 80 | C35: 1 | D35: x | E35: 1 | F35: 145 | G35: 7.5 | H35: 0.225 | I35: =ROUND(IF(AND(F35:H35),C35*E35*F35*G35*H35,IF(AND(F35,G35),C35*E35*F35*G35,IF(AND(F35,H35),C35*E35*F35*H35,IF(AND(G35,H35),C35*E35*G35*H35,IF(F35,C35*E35*F35,IF(G35,C35*E35*G35,IF(H35,C35*E35*H35,C35*E35))))))),2) -> 244.69 | J35: Cum
B36: Deduct CD work 1/0 to 1/2 | C36: 1 | D36: x | E36: 1 | F36: 5.6 | G36: 7.5 | H36: 0.225 | I36: =-ROUND(IF(AND(F36:H36),C36*E36*F36*G36*H36,IF(AND(F36,G36),C36*E36*F36*G36,IF(AND(F36,H36),C36*E36*F36*H36,IF(AND(G36,H36),C36*E36*G36*H36,IF(F36,C36*E36*F36,IF(G36,C36*E36*G36,IF(H36,C36*E36*H36,C36*E36))))))),2) -> -9.45 | J36: Cum
B37: Km 1/2 to 1/4 | C37: 1 | D37: x | E37: 1 | F37: 200 | G37: 7.5 | H37: 0.225 | I37: =ROUND(IF(AND(F37:H37),C37*E37*F37*G37*H37,IF(AND(F37,G37),C37*E37*F37*G37,IF(AND(F37,H37),C37*E37*F37*H37,IF(AND(G37,H37),C37*E37*G37*H37,IF(F37,C37*E37*F37,IF(G37,C37*E37*G37,IF(H37,C37*E37*H37,C37*E37))))))),2) -> 337.5 | J37: Cum
B38: Km 1/4 to 1/6 | C38: 1 | D38: x | E38: 1 | F38: 200 | G38: 7.5 | H38: 0.225 | I38: =ROUND(IF(AND(F38:H38),C38*E38*F38*G38*H38,IF(AND(F38,G38),C38*E38*F38*G38,IF(AND(F38,H38),C38*E38*F38*H38,IF(AND(G38,H38),C38*E38*G38*H38,IF(F38,C38*E38*F38,IF(G38,C38*E38*G38,IF(H38,C38*E38*H38,C38*E38))))))),2) -> 337.5 | J38: Cum
B39: Km 1/6 to 1/8 | C39: 1 | D39: x | E39: 1 | F39: 200 | G39: 7.5 | H39: 0.225 | I39: =ROUND(IF(AND(F39:H39),C39*E39*F39*G39*H39,IF(AND(F39,G39),C39*E39*F39*G39,IF(AND(F39,H39),C39*E39*F39*H39,IF(AND(G39,H39),C39*E39*G39*H39,IF(F39,C39*E39*F39,IF(G39,C39*E39*G39,IF(H39,C39*E39*H39,C39*E39))))))),2) -> 337.5 | J39: Cum
B40: Km 1/8 to 2/0 | C40: 1 | D40: x | E40: 1 | F40: 200 | G40: 7.5 | H40: 0.225 | I40: =ROUND(IF(AND(F40:H40),C40*E40*F40*G40*H40,IF(AND(F40,G40),C40*E40*F40*G40,IF(AND(F40,H40),C40*E40*F40*H40,IF(AND(G40,H40),C40*E40*G40*H40,IF(F40,C40*E40*F40,IF(G40,C40*E40*G40,IF(H40,C40*E40*H40,C40*E40))))))),2) -> 337.5 | J40: Cum
B41: Km 2/0 to 2/0+137 | C41: 1 | D41: x | E41: 1 | F41: =#REF! -> #REF! | G41: 7.5 | H41: 0.225 | I41: =ROUND(IF(AND(F41:H41),C41*E41*F41*G41*H41,IF(AND(F41,G41),C41*E41*F41*G41,IF(AND(F41,H41),C41*E41*F41*H41,IF(AND(G41,H41),C41*E41*G41*H41,IF(F41,C41*E41*F41,IF(G41,C41*E41*G41,IF(H41,C41*E41*H41,C41*E41))))))),2) -> #REF! | J41: Cum
J43: Cum | K43: ='data 2025-26'!H228 -> 384.05 | L43: 1Cum | M43: =ROUND(I43*K43/1,0) -> 0
A44: 4 | B44: Construction of Granular Sub Base using well graded material, spreading in uniform layers with tractor mounted grader on prepared surface , mixing by mix in place method with rotovator at OMC and compacting with Smooth wheel roller to achive the desired density , Complete as per technical speficaction clause 401 of MORD
B45: =B31 -> Km 0/0 to 1/6 + 80 | C45: 1 | D45: x | E45: 1 | F45: =F31 -> 1680 | G45: 4 | H45: 0.1 | I45: =ROUND(IF(AND(F45:H45),C45*E45*F45*G45*H45,IF(AND(F45,G45),C45*E45*F45*G45,IF(AND(F45,H45),C45*E45*F45*H45,IF(AND(G45,H45),C45*E45*G45*H45,IF(F45,C45*E45*F45,IF(G45,C45*E45*G45,IF(H45,C45*E45*H45,C45*E45))))))),2) -> 672 | J45: Cum
I47: =SUM(I45:I46) -> 672 | J47: Cum | K47: ='data 2025-26'!H88 -> 2928.41 | L47: 1Cum | M47: =ROUND(I47*K47/1,0) -> 1967892
A48: 5 | B48: Providing, laying, spreading and compacting graded stone aggregate to wet mix macadam specification including premixing the material with water at OMC in mechanical mixer (Pug Mill), carriage of mixed material by tipper to site, laying in uniform layers in sub-base/base course on a well prepared sub-base and compacting with smooth wheel roller of 80 to 100kN / Vibratory Roller 80-100 kN weight to achieve the desired density including lighting, barricading and maintenance of diversion, etc as per Tables 400.11 & 400.12 and Technical Specification Clause 406 MORD / MORTH.
B49: =B45 -> Km 0/0 to 1/6 + 80 | C49: 1 | D49: x | E49: 1 | F49: =F45 -> 1680 | G49: 3.75 | H49: 0.15 | I49: =ROUND(IF(AND(F49:H49),C49*E49*F49*G49*H49,IF(AND(F49,G49),C49*E49*F49*G49,IF(AND(F49,H49),C49*E49*F49*H49,IF(AND(G49,H49),C49*E49*G49*H49,IF(F49,C49*E49*F49,IF(G49,C49*E49*G49,IF(H49,C49*E49*H49,C49*E49))))))),2) -> 945 | J49: Cum
...

Sheet SUB-1
A1: SUB ESTIMATE-1
A2: ='lead 2025-26'!B3 -> Name of the work : | C2: ='lead 2025-26'!C3 -> Providing BT Surface to the road from Inimerla SC colony to National Highway at Nuchupoda in Inimerla GP of Pamuru Mandal.
A3: Name of the Sub work : | C3: Construction of 3 rows of 1000mm dia vented road dam @ Km 1/0 to 1/2
A4: Sl. No | B4: Description of Item | C4: No. | F4: Measurements | I4: Quantity | K4: Rate | L4: Per | M4: Amount Rs.
F5: L | G5: B | H5: D
A6: 1 | B6: 2 | C6: 3 | F6: 4 | G6: 5 | H6: 6 | I6: 7 | K6: 8 | L6: 9 | M6: 10
A7: 1 | B7: Dismantling of cement concrete pavements by mechanical means using pneumatic tools breaking to pieces not exceeding 0.02 cum in volume and stock piling at designated locations and disposal of dismantled materials upto a lead of 1000 m, stacking serviceable and unserviceable materials separately. | N7: =N76 -> 0 | O7: =N73 -> 0
B8: RCC slab | C8: 1 | D8: x | E8: 1 | F8: 6 | G8: 2.9 | H8: 0.2 | I8: =ROUND(IF(AND(F8:H8),C8*E8*F8*G8*H8,IF(AND(F8,G8),C8*E8*F8*G8,IF(AND(F8,H8),C8*E8*F8*H8,IF(AND(G8,H8),C8*E8*G8*H8,IF(F8,C8*E8*F8,IF(G8,C8*E8*G8,IF(H8,C8*E8*H8,C8*E8))))))),2) -> 3.48 | J8: Cum
J10: Cum | K10: ='CD WORK DATA'!H15 -> 1526.01 | L10: 1Cum | M10: =ROUND(I10*K10/1,0) -> 0
A11: 2 | B11: Dismantling of existing structures comprising of stone masonry, including disposal of unserviceable material and stacking the serviceable material with all lifts and lead of 1000 m as per Technical Specification Clause 202 MORD / MORTH | N11: =N80 -> 0 | O11: =N77 -> 0
B12: RCC slab | C12: 1 | D12: x | E12: 2 | F12: 6 | G12: 0.45 | H12: 0.6 | I12: =ROUND(IF(AND(F12:H12),C12*E12*F12*G12*H12,IF(AND(F12,G12),C12*E12*F12*G12,IF(AND(F12,H12),C12*E12*F12*H12,IF(AND(G12,H12),C12*E12*G12*H12,IF(F12,C12*E12*F12,IF(G12,C12*E12*G12,IF(H12,C12*E12*H12,C12*E12))))))),2) -> 3.24 | J12: Cum
J14: Cum | K14: ='CD WORK DATA'!H26 -> 500.62 | L14: 1Cum | M14: =ROUND(I14*K14/1,0) -> 0
A15: 3 | B15: Earthwork in excavation for structures as per drawing and technical specifications Clause 305.1 including setting out, construction of shoring and bracing, removal of stumps and other deleterious material and disposal upto a lead of 50 m, dressing of sides and bottom and backfilling in trenches with excavated suitable material as per Technical Specification 305 MORD / 304 MORTH
B16: Pipe portion | C16: 1 | D16: x | E16: 1 | F16: 5.6 | G16: 5.3 | H16: 1 | I16: =ROUND(IF(AND(F16:H16),C16*E16*F16*G16*H16,IF(AND(F16,G16),C16*E16*F16*G16,IF(AND(F16,H16),C16*E16*F16*H16,IF(AND(G16,H16),C16*E16*G16*H16,IF(F16,C16*E16*F16,IF(G16,C16*E16*G16,IF(H16,C16*E16*H16,C16*E16))))))),2) -> 29.68 | J16: Cum
B17: Body walls | C17: 2 | D17: x | E17: 1 | F17: 20 | G17: 1.1 | H17: 1.3 | I17: =ROUND(IF(AND(F17:H17),C17*E17*F17*G17*H17,IF(AND(F17,G17),C17*E17*F17*G17,IF(AND(F17,H17),C17*E17*F17*H17,IF(AND(G17,H17),C17*E17*G17*H17,IF(F17,C17*E17*F17,IF(G17,C17*E17*G17,IF(H17,C17*E17*H17,C17*E17))))))),2) -> 57.2 | J17: Cum | O17: =Abstract!M21 -> 805500
J19: Cum | K19: ='CD WORK DATA'!H37 -> 126.69 | L19: 1Cum | M19: =ROUND(I19*K19/1,0) -> 0
A20: 4 | B20: Providing concrete for plain concrete M10 Grade in open foundations using 40 mm nominal size Graded hard stone aggregate, mechanically mixed, placed in foundation and compacted by vibration including curing for 14 days complete as per drawings and technical specifications Clause 802, 803, 1202 & 1203 MORD and 1500, 1700 & 2100 MORTH | N20: =N70 -> 0 | O20: =N67 -> 0
B21: Pipe portion | C21: 1 | D21: x | E21: 1 | F21: =$F$16 -> 5.6 | G21: 5.3 | H21: 0.3 | I21: =ROUND(IF(AND(F21:H21),C21*E21*F21*G21*H21,IF(AND(F21,G21),C21*E21*F21*G21,IF(AND(F21,H21),C21*E21*F21*H21,IF(AND(G21,H21),C21*E21*G21*H21,IF(F21,C21*E21*F21,IF(G21,C21*E21*G21,IF(H21,C21*E21*H21,C21*E21))))))),2) -> 8.9 | J21: Cum
B22: Body walls | C22: 2 | D22: x | E22: 1 | F22: =$F$17 -> 20 | G22: 1.1 | H22: 0.3 | I22: =ROUND(IF(AND(F22:H22),C22*E22*F22*G22*H22,IF(AND(F22,G22),C22*E22*F22*G22,IF(AND(F22,H22),C22*E22*F22*H22,IF(AND(G22,H22),C22*E22*G22*H22,IF(F22,C22*E22*F22,IF(G22,C22*E22*G22,IF(H22,C22*E22*H22,C22*E22))))))),2) -> 13.2 | J22: Cum
B23: Encasement of pipes | C23: 1 | D23: x | E23: 1 | F23: =$F$16 -> 5.6 | G23: 5.76+6.48/2 | H23: 1.4 | I23: =ROUND(C23*E23*F23*H23*(5.76+6.48)/2,2) -> 47.98 | J23: Cum
B24: Deduct pipe portion | C24: 3 | D24: x | E24: 0.785 | F24: 5.76+6.48/2 | G24: 1.2 | H24: 1.2 | I24: =-ROUND(C24*E24*G24*H24*(5.76+6.48)/2,2) -> -20.75 | J24: Cum
J26: Cum | K26: ='CD WORK DATA'!H54 -> 5600.99 | L26: 1Cum | M26: =ROUND(I26*K26/1,0) -> 0
A27: 5 | B27: Providing and laying reinforced cement concrete pipe 1000 dia NP3 for culverts on first class bedding of granular material but excluding excavation, protection works, backfilling, concrete and masonry works in head wall and parapets. Tech Specification Clause 1106 MORD. | N27: =N70 -> 0 | O27: =N67 -> 0
C28: 3 | D28: x | E28: 3 | F28: 2.5 | G28: 0 | H28: 0 | I28: =ROUND(IF(AND(F28:H28),C28*E28*F28*G28*H28,IF(AND(F28,G28),C28*E28*F28*G28,IF(AND(F28,H28),C28*E28*F28*H28,IF(AND(G28,H28),C28*E28*G28*H28,IF(F28,C28*E28*F28,IF(G28,C28*E28*G28,IF(H28,C28*E28*H28,C28*E28))))))),2) -> 22.5 | J28: Rm
J30: Rm | K30: ='CD WORK DATA'!H164 -> 9006.27 | L30: 1Rm | M30: =ROUND(I30*K30/1,0) -> 0
A31: 6 | B31: Plain cement concrete M 15 grade using 40,20 & 12mm metal mechanically mixed in Open foundations complete as per drawings and technical specification Clauses 802, 804, 805, 806, 807, 1202 and 1204 MORD and 1500, 1700 & 2200 MORTH | N31: =N75 -> 0 | O31: =N72 -> 0
B32: Body walls | C32: 1 | D32: x | E32: 2 | F32: =$F$17 -> 20 | G32: 1.1 | H32: 0.3 | I32: =ROUND(IF(AND(F32:H32),C32*E32*F32*G32*H32,IF(AND(F32,G32),C32*E32*F32*G32,IF(AND(F32,H32),C32*E32*F32*H32,IF(AND(G32,H32),C32*E32*G32*H32,IF(F32,C32*E32*F32,IF(G32,C32*E32*G32,IF(H32,C32*E32*H32,C32*E32))))))),2) -> 13.2 | J32: Cum
B33: Body walls | C33: 1 | D33: x | E33: 2 | F33: =$F$17 -> 20 | G33: 0.90+0.45/2 | H33: 1.4 | I33: =ROUND(C33*E33*F33*H33*(0.9+0.45)/2,2) -> 37.8 | J33: Cum
B34: Deduct pipe portion | C34: 6 | D34: x | E34: 0.785 | F34: 1.2 | G34: 0.87+0.51/2 | H34: 1.2 | I34: =-ROUND(C34*E34*F34*H34*(0.87+0.51)/2,2) -> -4.68 | J34: Cum
B35: Parapet wall | C35: 1 | D35: x | E35: 2 | F35: =$F$16 -> 5.6 | G35: 0.23 | H35: 0.6 | I35: =ROUND(IF(AND(F35:H35),C35*E35*F35*G35*H35,IF(AND(F35,G35),C35*E35*F35*G35,IF(AND(F35,H35),C35*E35*F35*H35,IF(AND(G35,H35),C35*E35*G35*H35,IF(F35,C35*E35*F35,IF(G35,C35*E35*G35,IF(H35,C35*E35*H35,C35*E35))))))),2) -> 1.55 | J35: Cum
J37: Cum | K37: ='CD WORK DATA'!H74 -> 5954.56 | L37: 1Cum | M37: =ROUND(I37*K37/1,0) -> 0
A38: 4 | B38: Providing RCC M-25 grade cement concrete using using 20 mm to 12 mm Graded HBG crushed Metal ( 66% of 20 mm and 34% of 12mm )s from approved source including cost of all ,materials, machinery, labour, formwork, scaffolding,placing in position, levelling, vibrating, finishing, curing etc., complete with initial lead upto 50 m and all lifts. for Guide Posts | N38: =N81 -> 0 | O38: =N78 -> 0
C39: 14 | D39: x | E39: 0.785 | F39: 0.2 | G39: 0.2 | H39: 0.6 | I39: =ROUND(IF(AND(F39:H39),C39*E39*F39*G39*H39,IF(AND(F39,G39),C39*E39*F39*G39,IF(AND(F39,H39),C39*E39*F39*H39,IF(AND(G39,H39),C39*E39*G39*H39,IF(F39,C39*E39*F39,IF(G39,C39*E39*G39,IF(H39,C39*E39*H39,C39*E39))))))),2) -> 0.26 | J39: Cum
C40: 14 | D40: x | E40: 0.785 | F40: 0.2 | G40: 0.2 | H40: 0.6 | I40: =ROUND(IF(AND(F40:H40),C40*E40*F40*G40*H40,IF(AND(F40,G40),C40*E40*F40*G40,IF(AND(F40,H40),C40*E40*F40*H40,IF(AND(G40,H40),C40*E40*G40*H40,IF(F40,C40*E40*F40,IF(G40,C40*E40*G40,IF(H40,C40*E40*H40,C40*E40))))))),2) -> 0.26 | J40: Cum
J42: Cum | K42: ='CD WORK DATA'!H114 -> 7542 | L42: 1Cum | M42: =ROUND(I42*K42/1,0) -> 0
A43: 8 | B43: Supplying, fitting and placing HYSD bar reinforcement in foundation complete as per drawings and technical specifications Clauses 1000 and 1202 MORD & 1100, 1600 MORTH for Bars below 36 mm dia including over laps and wastage, where they are not welded.
B44: Guide posts | I44: =ROUND((I42*0.2)/0.38,2) -> 0 | J44: MT
I46: =SUM(I44:I45) -> 0 | J46: MT | K46: ='CD WORK DATA'!H147 -> 86540.55 | L46: 1MT | M46: =ROUND(I46*K46,0) -> 0
A47: 5 | B47: Filling with selected earth in trenches, sides of foundations & basement by watering and ramming including cost and conveyance of material and labour charges etc complete for finished item of the work (APSS No 309& 310) per 1 Cum
B48: Inbetween body walls | C48: 1 | D48: x | E48: 2 | F48: 2 | G48: 6.3+5.1/2 | H48: 0.7 | I48: =ROUND(C48*E48*F48*H48*(6.3+5.1)/2,2) -> 15.96 | J48: Cum
...

Sheet SUB-2
A1: SUB ESTIMATE-2
A2: ='lead 2025-26'!B3 -> Name of the work : | C2: ='lead 2025-26'!C3 -> Providing BT Surface to the road from Inimerla SC colony to National Highway at Nuchupoda in Inimerla GP of Pamuru Mandal.
A3: Name of the Sub work : | C3: Construction of 2 rows of 1000mm dia vented road dam @ 2/8 to 3/0 & 3/2 to 3/4.
A5: Sl. No | B5: Description of Item | C5: No. | F5: Measurements | I5: Quantity | K5: Rate | L5: Per | M5: Amount Rs.
F6: L | G6: B | H6: D
A7: 1 | B7: 2 | C7: 3 | F7: 4 | G7: 5 | H7: 6 | I7: 7 | K7: 8 | L7: 9 | M7: 10
A8: 1 | B8: Earthwork in excavation for structures as per drawing and technical specifications Clause 305.1 including setting out, construction of shoring and bracing, removal of stumps and other deleterious material and disposal upto a lead of 50 m, dressing of sides and bottom and backfilling in trenches with excavated suitable material as per Technical Specification 305 MORD / 304 MORTH
B9: Pipe portion | C9: 1 | D9: x | E9: 1 | F9: 3.9 | G9: 5.3 | H9: 1 | I9: =ROUND(IF(AND(F9:H9),C9*E9*F9*G9*H9,IF(AND(F9,G9),C9*E9*F9*G9,IF(AND(F9,H9),C9*E9*F9*H9,IF(AND(G9,H9),C9*E9*G9*H9,IF(F9,C9*E9*F9,IF(G9,C9*E9*G9,IF(H9,C9*E9*H9,C9*E9))))))),2) -> 20.67 | J9: Cum
B10: Body walls | C10: 2 | D10: x | E10: 1 | F10: 4.9 | G10: 1.1 | H10: 1.3 | I10: =ROUND(IF(AND(F10:H10),C10*E10*F10*G10*H10,IF(AND(F10,G10),C10*E10*F10*G10,IF(AND(F10,H10),C10*E10*F10*H10,IF(AND(G10,H10),C10*E10*G10*H10,IF(F10,C10*E10*F10,IF(G10,C10*E10*G10,IF(H10,C10*E10*H10,C10*E10))))))),2) -> 14.01 | J10: Cum
B12: Pipe portion | C12: 1 | D12: x | E12: 1 | F12: 3.9 | G12: 5.3 | H12: 1 | I12: =ROUND(IF(AND(F12:H12),C12*E12*F12*G12*H12,IF(AND(F12,G12),C12*E12*F12*G12,IF(AND(F12,H12),C12*E12*F12*H12,IF(AND(G12,H12),C12*E12*G12*H12,IF(F12,C12*E12*F12,IF(G12,C12*E12*G12,IF(H12,C12*E12*H12,C12*E12))))))),2) -> 20.67 | J12: Cum
B13: Body walls | C13: 2 | D13: x | E13: 1 | F13: 4.9 | G13: 1.1 | H13: 1.3 | I13: =ROUND(IF(AND(F13:H13),C13*E13*F13*G13*H13,IF(AND(F13,G13),C13*E13*F13*G13,IF(AND(F13,H13),C13*E13*F13*H13,IF(AND(G13,H13),C13*E13*G13*H13,IF(F13,C13*E13*F13,IF(G13,C13*E13*G13,IF(H13,C13*E13*H13,C13*E13))))))),2) -> 14.01 | J13: Cum
J15: Cum | K15: ='CD WORK DATA'!H37 -> 126.69 | L15: 1Cum | M15: =ROUND(I15*K15/1,0) -> 0
A16: 2 | B16: Providing concrete for plain concrete M10 Grade in open foundations using 40 mm nominal size Graded hard stone aggregate, mechanically mixed, placed in foundation and compacted by vibration including curing for 14 days complete as per drawings and technical specifications Clause 802, 803, 1202 & 1203 MORD and 1500, 1700 & 2100 MORTH | N16: =N72 -> 0 | O16: =N69 -> 0
B17: Pipe portion | C17: 1 | D17: x | E17: 1 | F17: 3.9 | G17: 5.3 | H17: 0.3 | I17: =ROUND(IF(AND(F17:H17),C17*E17*F17*G17*H17,IF(AND(F17,G17),C17*E17*F17*G17,IF(AND(F17,H17),C17*E17*F17*H17,IF(AND(G17,H17),C17*E17*G17*H17,IF(F17,C17*E17*F17,IF(G17,C17*E17*G17,IF(H17,C17*E17*H17,C17*E17))))))),2) -> 6.2 | J17: Cum
B18: Body walls | C18: 2 | D18: x | E18: 1 | F18: 4.9 | G18: 1.1 | H18: 0.3 | I18: =ROUND(IF(AND(F18:H18),C18*E18*F18*G18*H18,IF(AND(F18,G18),C18*E18*F18*G18,IF(AND(F18,H18),C18*E18*F18*H18,IF(AND(G18,H18),C18*E18*G18*H18,IF(F18,C18*E18*F18,IF(G18,C18*E18*G18,IF(H18,C18*E18*H18,C18*E18))))))),2) -> 3.23 | J18: Cum
B19: Encasement of pipes | C19: 1 | D19: x | E19: 1 | F19: =F17 -> 3.9 | G19: 5.76+6.48/2 | H19: 1.4 | I19: =ROUND(C19*E19*F19*H19*(5.76+6.48)/2,2) -> 33.42 | J19: Cum
B20: Deduct pipe portion | C20: 2 | D20: x | E20: 0.785 | F20: 5.76+6.48/2 | G20: 1.2 | H20: 1.2 | I20: =-ROUND(C20*E20*G20*H20*(5.76+6.48)/2,2) -> -13.84 | J20: Cum
B22: Pipe portion | C22: 1 | D22: x | E22: 1 | F22: 3.9 | G22: 5.3 | H22: 0.3 | I22: =ROUND(IF(AND(F22:H22),C22*E22*F22*G22*H22,IF(AND(F22,G22),C22*E22*F22*G22,IF(AND(F22,H22),C22*E22*F22*H22,IF(AND(G22,H22),C22*E22*G22*H22,IF(F22,C22*E22*F22,IF(G22,C22*E22*G22,IF(H22,C22*E22*H22,C22*E22))))))),2) -> 6.2 | J22: Cum
B23: Body walls | C23: 2 | D23: x | E23: 1 | F23: 4.9 | G23: 1.1 | H23: 0.3 | I23: =ROUND(IF(AND(F23:H23),C23*E23*F23*G23*H23,IF(AND(F23,G23),C23*E23*F23*G23,IF(AND(F23,H23),C23*E23*F23*H23,IF(AND(G23,H23),C23*E23*G23*H23,IF(F23,C23*E23*F23,IF(G23,C23*E23*G23,IF(H23,C23*E23*H23,C23*E23))))))),2) -> 3.23 | J23: Cum
B24: Encasement of pipes | C24: 1 | D24: x | E24: 1 | F24: 3.9 | G24: 5.76+6.48/2 | H24: 1.4 | I24: =ROUND(C24*E24*F24*H24*(5.76+6.48)/2,2) -> 33.42 | J24: Cum
B25: Deduct pipe portion | C25: 2 | D25: x | E25: 0.785 | F25: 5.76+6.48/2 | G25: 1.2 | H25: 1.2 | I25: =-ROUND(C25*E25*G25*H25*(5.76+6.48)/2,2) -> -13.84 | J25: Cum
J27: Cum | K27: ='CD WORK DATA'!H54 -> 5600.99 | L27: 1Cum | M27: =ROUND(I27*K27/1,0) -> 0
A28: 3 | B28: Providing and laying reinforced cement concrete pipe 1000 dia NP3 for culverts on first class bedding of granular material but excluding excavation, protection works, backfilling, concrete and masonry works in head wall and parapets. Tech Specification Clause 1106 MORD. | N28: =N72 -> 0 | O28: =N69 -> 0
C29: 2 | D29: x | E29: 3 | F29: 2.5 | G29: 0 | H29: 0 | I29: =ROUND(IF(AND(F29:H29),C29*E29*F29*G29*H29,IF(AND(F29,G29),C29*E29*F29*G29,IF(AND(F29,H29),C29*E29*F29*H29,IF(AND(G29,H29),C29*E29*G29*H29,IF(F29,C29*E29*F29,IF(G29,C29*E29*G29,IF(H29,C29*E29*H29,C29*E29))))))),2) -> 15 | J29: Rm
C30: 2 | D30: x | E30: 3 | F30: 2.5 | G30: 0 | H30: 0 | I30: =ROUND(IF(AND(F30:H30),C30*E30*F30*G30*H30,IF(AND(F30,G30),C30*E30*F30*G30,IF(AND(F30,H30),C30*E30*F30*H30,IF(AND(G30,H30),C30*E30*G30*H30,IF(F30,C30*E30*F30,IF(G30,C30*E30*G30,IF(H30,C30*E30*H30,C30*E30))))))),2) -> 15 | J30: Rm
J32: Rm | K32: ='CD WORK DATA'!H164 -> 9006.27 | L32: 1Rm | M32: =ROUND(I32*K32/1,0) -> 0
A33: 4 | B33: Plain cement concrete M 15 grade using 40,20 & 12mm metal mechanically mixed in Open foundations complete as per drawings and technical specification Clauses 802, 804, 805, 806, 807, 1202 and 1204 MORD and 1500, 1700 & 2200 MORTH | N33: =N77 -> 0 | O33: =N74 -> 0
B34: Body walls | C34: 1 | D34: x | E34: 2 | F34: 4.9 | G34: 1.1 | H34: 0.3 | I34: =ROUND(IF(AND(F34:H34),C34*E34*F34*G34*H34,IF(AND(F34,G34),C34*E34*F34*G34,IF(AND(F34,H34),C34*E34*F34*H34,IF(AND(G34,H34),C34*E34*G34*H34,IF(F34,C34*E34*F34,IF(G34,C34*E34*G34,IF(H34,C34*E34*H34,C34*E34))))))),2) -> 3.23 | J34: Cum
B35: Body walls | C35: 1 | D35: x | E35: 2 | F35: 4.9 | G35: 0.90+0.45/2 | H35: 1.4 | I35: =ROUND(C35*E35*F35*H35*(0.9+0.45)/2,2) -> 9.26 | J35: Cum
B36: Deduct pipe portion | C36: 4 | D36: x | E36: 0.785 | F36: 1.2 | G36: 0.87+0.51/2 | H36: 1.2 | I36: =-ROUND(C36*E36*F36*H36*(0.87+0.51)/2,2) -> -3.12 | J36: Cum
B37: Parapet wall | C37: 1 | D37: x | E37: 2 | F37: 3.9 | G37: 0.23 | H37: 0.6 | I37: =ROUND(IF(AND(F37:H37),C37*E37*F37*G37*H37,IF(AND(F37,G37),C37*E37*F37*G37,IF(AND(F37,H37),C37*E37*F37*H37,IF(AND(G37,H37),C37*E37*G37*H37,IF(F37,C37*E37*F37,IF(G37,C37*E37*G37,IF(H37,C37*E37*H37,C37*E37))))))),2) -> 1.08 | J37: Cum
B39: Body walls | C39: 1 | D39: x | E39: 2 | F39: 4.9 | G39: 1.1 | H39: 0.3 | I39: =ROUND(IF(AND(F39:H39),C39*E39*F39*G39*H39,IF(AND(F39,G39),C39*E39*F39*G39,IF(AND(F39,H39),C39*E39*F39*H39,IF(AND(G39,H39),C39*E39*G39*H39,IF(F39,C39*E39*F39,IF(G39,C39*E39*G39,IF(H39,C39*E39*H39,C39*E39))))))),2) -> 3.23 | J39: Cum
B40: Body walls | C40: 1 | D40: x | E40: 2 | F40: 4.9 | G40: 0.90+0.45/2 | H40: 1.4 | I40: =ROUND(C40*E40*F40*H40*(0.9+0.45)/2,2) -> 9.26 | J40: Cum
B41: Deduct pipe portion | C41: 4 | D41: x | E41: 0.785 | F41: 1.2 | G41: 0.87+0.51/2 | H41: 1.2 | I41: =-ROUND(C41*E41*F41*H41*(0.87+0.51)/2,2) -> -3.12 | J41: Cum
B42: Parapet wall | C42: 1 | D42: x | E42: 2 | F42: 3.9 | G42: 0.23 | H42: 0.6 | I42: =ROUND(IF(AND(F42:H42),C42*E42*F42*G42*H42,IF(AND(F42,G42),C42*E42*F42*G42,IF(AND(F42,H42),C42*E42*F42*H42,IF(AND(G42,H42),C42*E42*G42*H42,IF(F42,C42*E42*F42,IF(G42,C42*E42*G42,IF(H42,C42*E42*H42,C42*E42))))))),2) -> 1.08 | J42: Cum
J44: Cum | K44: ='CD WORK DATA'!H74 -> 5954.56 | L44: 1Cum | M44: =ROUND(I44*K44/1,0) -> 0
A45: 5 | B45: Providing RCC M-25 grade cement concrete using using 20 mm to 12 mm Graded HBG crushed Metal ( 66% of 20 mm and 34% of 12mm )s from approved source including cost of all ,materials, machinery, labour, formwork, scaffolding,placing in position, levelling, vibrating, finishing, curing etc., complete with initial lead upto 50 m and all lifts. for Guide Posts | N45: =N83 -> 0 | O45: =N80 -> 0
C46: 20 | D46: x | E46: 0.785 | F46: 0.2 | G46: 0.2 | H46: 0.6 | I46: =ROUND(IF(AND(F46:H46),C46*E46*F46*G46*H46,IF(AND(F46,G46),C46*E46*F46*G46,IF(AND(F46,H46),C46*E46*F46*H46,IF(AND(G46,H46),C46*E46*G46*H46,IF(F46,C46*E46*F46,IF(G46,C46*E46*G46,IF(H46,C46*E46*H46,C46*E46))))))),2) -> 0.38 | J46: Cum
J48: Cum | K48: ='CD WORK DATA'!H114 -> 7542 | L48: 1Cum | M48: =ROUND(I48*K48/1,0) -> 0
A49: 6 | B49: Supplying, fitting and placing HYSD bar reinforcement in foundation complete as per drawings and technical specifications Clauses 1000 and 1202 MORD & 1100, 1600 MORTH for Bars below 36 mm dia including over laps and wastage, where they are not welded.
...

Sheet SUB-3
A1: SUB ESTIMATE-1
A2: ='lead 2025-26'!B3 -> Name of the work : | C2: ='lead 2025-26'!C3 -> Providing BT Surface to the road from Inimerla SC colony to National Highway at Nuchupoda in Inimerla GP of Pamuru Mandal.
A3: Name of the Sub work : | C3: Construction of 1 row of 1000mm dia Pipe culvert - 3 Nos
A5: Sl. No | B5: Description of Item | C5: No. | F5: Measurements | I5: Quantity | K5: Rate | L5: Per | M5: Amount Rs.
F6: L | G6: B | H6: D
A7: 1 | B7: 2 | C7: 3 | F7: 4 | G7: 5 | H7: 6 | I7: 7 | K7: 8 | L7: 9 | M7: 10
A8: 1 | B8: Earthwork in excavation for structures as per drawing and technical specifications Clause 305.1 including setting out, construction of shoring and bracing, removal of stumps and other deleterious material and disposal upto a lead of 50 m, dressing of sides and bottom and backfilling in trenches with excavated suitable material as per Technical Specification 305 MORD / 304 MORTH
B9: Pipe portion | C9: 1 | D9: x | E9: 3 | F9: =(1*1.2)+(2*0.2) -> 1.6 | G9: 5.3 | H9: 1 | I9: =ROUND(IF(AND(F9:H9),C9*E9*F9*G9*H9,IF(AND(F9,G9),C9*E9*F9*G9,IF(AND(F9,H9),C9*E9*F9*H9,IF(AND(G9,H9),C9*E9*G9*H9,IF(F9,C9*E9*F9,IF(G9,C9*E9*G9,IF(H9,C9*E9*H9,C9*E9))))))),2) -> 25.44 | J9: Cum
B10: Body walls | C10: 2 | D10: x | E10: 3 | F10: 5 | G10: 1.1 | H10: 1.6 | I10: =ROUND(IF(AND(F10:H10),C10*E10*F10*G10*H10,IF(AND(F10,G10),C10*E10*F10*G10,IF(AND(F10,H10),C10*E10*F10*H10,IF(AND(G10,H10),C10*E10*G10*H10,IF(F10,C10*E10*F10,IF(G10,C10*E10*G10,IF(H10,C10*E10*H10,C10*E10))))))),2) -> 52.8 | J10: Cum
I12: =SUM(I9:I11) -> 78.24 | J12: Cum | K12: ='CD WORK DATA'!H37 -> 126.69 | L12: 1Cum | M12: =ROUND(I12*K12/1,0) -> 9912
A13: 2 | B13: Providing concrete for plain concrete M10 Grade in open foundations using 40 mm nominal size Graded hard stone aggregate, mechanically mixed, placed in foundation and compacted by vibration including curing for 14 days complete as per drawings and technical specifications Clause 802, 803, 1202 & 1203 MORD and 1500, 1700 & 2100 MORTH | N13: =N60 -> 0 | O13: =N57 -> 0
B14: Pipe portion | C14: 1 | D14: x | E14: 3 | F14: =F9 -> 1.6 | G14: =G9 -> 5.3 | H14: 0.3 | I14: =ROUND(IF(AND(F14:H14),C14*E14*F14*G14*H14,IF(AND(F14,G14),C14*E14*F14*G14,IF(AND(F14,H14),C14*E14*F14*H14,IF(AND(G14,H14),C14*E14*G14*H14,IF(F14,C14*E14*F14,IF(G14,C14*E14*G14,IF(H14,C14*E14*H14,C14*E14))))))),2) -> 7.63 | J14: Cum
B15: Body walls | C15: 2 | D15: x | E15: 3 | F15: =F10 -> 5 | G15: =G10 -> 1.1 | H15: 0.3 | I15: =ROUND(IF(AND(F15:H15),C15*E15*F15*G15*H15,IF(AND(F15,G15),C15*E15*F15*G15,IF(AND(F15,H15),C15*E15*F15*H15,IF(AND(G15,H15),C15*E15*G15*H15,IF(F15,C15*E15*F15,IF(G15,C15*E15*G15,IF(H15,C15*E15*H15,C15*E15))))))),2) -> 9.9 | J15: Cum
B17: Encasement of pipes | D17: x | E17: 1 | F17: =F9 -> 1.6 | G17: 6.6 | H17: 1.35 | I17: =ROUND(IF(AND(F17:H17),C17*E17*F17*G17*H17,IF(AND(F17,G17),C17*E17*F17*G17,IF(AND(F17,H17),C17*E17*F17*H17,IF(AND(G17,H17),C17*E17*G17*H17,IF(F17,C17*E17*F17,IF(G17,C17*E17*G17,IF(H17,C17*E17*H17,C17*E17))))))),2) -> 0 | J17: Cum
B18: Deduct pipe portion | D18: x | E18: 0.785 | F18: =G17 -> 6.6 | G18: 1.2 | H18: 1.2 | I18: =-ROUND(IF(AND(F18:H18),C18*E18*F18*G18*H18,IF(AND(F18,G18),C18*E18*F18*G18,IF(AND(F18,H18),C18*E18*F18*H18,IF(AND(G18,H18),C18*E18*G18*H18,IF(F18,C18*E18*F18,IF(G18,C18*E18*G18,IF(H18,C18*E18*H18,C18*E18))))))),2) -> 0 | J18: Cum
