Workbook
Name Header_Row: ROW(#REF!)

Sheet COVER
A3: ffffffffffffffffffffffffffffffffffffffffffffffffffff
A4: fffffffffffffffffffffffffffffffffffffffffffffffffffffffffffffffffffffffffffffffffffffff | K4: fffffffffffffffffffffffffffffffffffffffffffffffffffffffffffffffffffffffffffffffffffffffffffffffffffffffffffffff
C25: PANCHAYATI RAJ ENGINEERING DEPARTMENT
B28: DETAILED ESTIMATE CUM ABSTRACT
B32: Grant: ZPGF GRANT
C36: NAME OF THE WORK: | F36: : | G36: ='lead 2025-26'!C3 -> Gravelling the road from Nagaiah kunta road to Gaddam vinodsai fields in Vepagumpalli village and GP of P.C.Palli mandal.
C40: ESTIMATE COST | F40: : | G40: ='lead 2025-26'!K4 -> 5.00 Lakhs
C43: NAME OF THE MANDAL | F43: : | G43: P.C.PALLI
C46: NAME OF SUB. DIVISION | F46: : | G46: KANIGIRI
C48: NAME OF THE DIVISION | F48: : | G48: KANDUKUR
C50: NAME OF THE CIRCLE | F50: : | G50: ONGOLE
A54: fffffffffffffffffffffffffffffffffffffffffffffffffffffffffffffffffffffffffffffffffffffffffffff

Sheet input data
A2: INPUT DATA
A3: ='lead 2025-26'!B3&'lead 2025-26'!C3 -> Name of the work : Gravelling the road from Nagaiah kunta road to Gaddam vinodsai fields in Vepagumpalli village and GP of P.C.Palli mandal.
E4: Es.Rs. | F4: ='lead 2025-26'!K4 -> 5.00 Lakhs
A5: S No | B5: Task Name | C5: Unit | D5: Task Code | E5: Qty | F5: Rate per Unit in Rs | G5: Amount in Rs
A6: 1 | B6: CW-G01.Amount for wage component | C6: days | D6: 34816 | G6: =H6 -> #REF! | H6: =DET!#REF!+DET!#REF! -> #REF!
A7: 2 | B7: CW-G02.cement | C7: bags | D7: 34817 | E7: =seigneorage!L8 -> 0 | F7: ='lead 2025-26'!#REF!/1000*50 -> #REF! | G7: =ROUND(E7*F7,0) -> #REF!
A8: 3 | B8: CW-G04.Sand for Mortar | C8: cum | D8: 34819 | E8: =seigneorage!I8 -> 0 | F8: ='lead 2025-26'!#REF! -> #REF! | G8: =ROUND(E8*F8,0) -> #REF!
A9: 4 | B9: CW-G19.Sand for Concrete | C9: cum | D9: 34832 | G9: =ROUND(E9*F9,0) -> 0
A10: 5 | B10: CW-G07 : 20-12mm HBG/HBT graded Metal Consisting of 20mm @ 60% & 12mm metal 40% | C10: cum | D10: 34822 | E10: =seigneorage!K8 -> 0 | F10: ='data 2025-26'!#REF! -> #REF! | G10: =ROUND(E10*F10,0) -> #REF!
A11: 6 | B11: CW-G10.Cost towards engaging skilled labour,semi skilled labour,other materials and equipment charges including all other materials not covered above | C11: Rs | D11: 34825 | E11: 1 | F11: =G11 -> #REF! | G11: =H11-I11 -> #REF! | H11: =DET!M28-DET!#REF! -> #REF! | I11: =G6+G7+G8+G9+G10 -> #REF!
A12: 7 | B12: Name Board using Brick Masonary of size 3'0"X4'0'' | C12: days | D12: 34146 | E12: 1 | F12: =DET!#REF! -> #REF! | G12: =ROUND(E12*F12,0) -> #REF!
A13: 8 | B13: CW-G12.QC @0.50% | C13: Rs | D13: 34826 | G13: =DET!M31 -> 1777
A14: 9 | B14: CW-G13.Seigniorage charges | C14: Rs | D14: 34827 | G14: =DET!M29 -> 57600
A15: 10 | B15: Workwise File | C15: Rs | D15: 35270 | G15: =DET!#REF! -> #REF!
A16: 11 | B16: CW-G15.LS amount for unforcen items. | C16: Rs | D16: 34829 | G16: =DET!M37 -> 5999
A17: Grand Total : | G17: =SUM(G6:G16) -> #REF! | H17: =('lead 2025-26'!#REF!+'lead 2025-26'!#REF!)*100000 -> #REF! | I17: Total
C21: ='lead 2025-26'!G14 -> Deputy Executive Engineer | F21: ='lead 2025-26'!J14 -> Assistant Engineer
C22: ='lead 2025-26'!G15 -> PRI Sub Division: Kanigiri | F22: ='lead 2025-26'!J15 -> Mandal Praja Parishad
F23: ='lead 2025-26'!J16 -> P.C.Palli

Sheet SPE
A1: SPECIFICATION REPORT
A3: Specification Report to accompany the estimate for the work "
A4: ='lead 2025-26'!C3 -> Gravelling the road from Nagaiah kunta road to Gaddam vinodsai fields in Vepagumpalli village and GP of P.C.Palli mandal.
F5: Estt. Rs. | H5: ='lead 2025-26'!K4 -> 5.00 Lakhs
A7: Accrodingly an amount of Rs. 5.00 Lakhs has been administratively sanctioned vide Rc.No.P2/1325-2/2O25 Dt 22.07.2025 of the Chief Executive officer, Zilla Praja Parishad, Prakasam District, Ongole under ZPGF Grant during the year 2024-25. Hence the estimate is prepared with the following provisions.
A8: 1 | B8: Clearing Juliflora (Prosafis) jungle including up-rooting and removing of Juliflora stumps.
A9: 2 | B9: Earthwork excavation for road way in soil by mechanical means including cutting and pushing the earth to side
A10: 2 | B10: Scarifying existing granular surface to a depth of 50 mm and disposal of scarified material with all lifts and leads up to 1000 m as per Technical Specification Clause 301.4.MORD
A11: 3 | B11: Construction of sub base by provided selected earth and spreading in uniform layers with tractor grader on prepared surface and compacted
A12: Necessary provisions are made for QC Charges at 0.5%, GST charges @ 18%, Seigneorage charges and for unforeseen items of work if any
A13: The estimate is prepared as per the current schedule of rates for the year 2025-26 and the work shall be executed as per APSS.
E17: ='lead 2025-26'!$G$14 -> Deputy Executive Engineer | H17: ='lead 2025-26'!J14 -> Assistant Engineer
E18: ='lead 2025-26'!$G$15 -> PRI Sub Division: Kanigiri | H18: ='lead 2025-26'!J15 -> Mandal Praja Parishad
H19: ='lead 2025-26'!J16 -> P.C.Palli

Sheet DET
A1: DETAILED CUM ABSTRACT ESTIMATE
A2: ='lead 2025-26'!B3 -> Name of the work : | C2: ='lead 2025-26'!C3 -> Gravelling the road from Nagaiah kunta road to Gaddam vinodsai fields in Vepagumpalli village and GP of P.C.Palli mandal.
K3: Est.Rs. | M3: ='lead 2025-26'!K4 -> 5.00 Lakhs
A4: Sl. No | B4: Description of Item | C4: No. | F4: Measurements | I4: Quantity | K4: Rate | L4: Per | M4: Amount Rs.
F5: L | G5: B | H5: D
A6: 1 | B6: 2 | C6: 3 | F6: 4 | G6: 5 | H6: 6 | I6: 7 | K6: 8 | L6: 9 | M6: 10
A7: 1 | B7: Clearing and grubbing road land including uprooting wild vegetation, grass, bushes, shrubs, saplings and trees of girth upto 300 mm, removal of stumps of such trees cut earlier and disposal of unserviceable materials and stacking of serviceable material to be used or auctioned, upto a lead of 1000 m including removal and disposal of top organic soil not exceeding 150 mm in thickness as per Technical Specification Clause 201 MORD / MORTH. | N7: =M67 -> 0
C8: 1 | D8: x | E8: 2 | F8: 850 | G8: 2 | H8: 0 | I8: =ROUND(IF(AND(F8:H8),C8*E8*F8*G8*H8,IF(AND(F8,G8),C8*E8*F8*G8,IF(AND(F8,H8),C8*E8*F8*H8,IF(AND(G8,H8),C8*E8*G8*H8,IF(F8,C8*E8*F8,IF(G8,C8*E8*G8,IF(H8,C8*E8*H8,C8*E8))))))),2) -> 3400 | J8: Sqm
I9: =SUM(I8:I8) -> 3400 | J9: Sqm
B10: Deduct voids at 40% | I10: =ROUND(-I9*40%,20) -> -1360 | J10: Sqm
I11: =SUM(I9:I10) -> 2040 | J11: Sqm | K11: ='data 2025-26'!H18 -> 2.8 | L11: 1Sqm | M11: =ROUND(I11*K11,0) -> 5712 | N11: =N37 -> 5999
A12: 2 | B12: Earthwork excavation for road way in soil by mechanical means including cutting and pushing the earth to side of embankment upto a lead of 100 metres including trimming bottom and side slopes in accordance with requirements of lines, grades and cross sections etc., complete for finished item of work for trench cutting as per MOR&H specification No.301 and as directed by the Engineer-in-Charge
B13: =B8 -> 0 | C13: 1 | D13: x | E13: 2 | F13: =F8 -> 850 | G13: 0.6 | H13: 0.3 | I13: =ROUND(IF(AND(F13:H13),C13*E13*F13*G13*H13,IF(AND(F13,G13),C13*E13*F13*G13,IF(AND(F13,H13),C13*E13*F13*H13,IF(AND(G13,H13),C13*E13*G13*H13,IF(F13,C13*E13*F13,IF(G13,C13*E13*G13,IF(H13,C13*E13*H13,C13*E13))))))),2) -> 306 | J13: Cum
J15: Cum | K15: ='data 2025-26'!H24 -> 67.23 | L15: 1Cum | M15: =ROUND(I15*K15,0) -> 0
A16: 2 | B16: Scarifying existing granular surface to a depth of 50 mm and disposal of scarified material with all lifts and leads up to 1000 m as per Technical Specification Clause 301.4.MORD
C17: 1 | D17: x | E17: 1 | F17: =F8 -> 850 | G17: 4 | H17: 0 | I17: =ROUND(IF(AND(F17:H17),C17*E17*F17*G17*H17,IF(AND(F17,G17),C17*E17*F17*G17,IF(AND(F17,H17),C17*E17*F17*H17,IF(AND(G17,H17),C17*E17*G17*H17,IF(F17,C17*E17*F17,IF(G17,C17*E17*G17,IF(H17,C17*E17*H17,C17*E17))))))),2) -> 3400 | J17: Sqm
B18: Deduct vagu | C18: 1 | D18: x | E18: 1 | F18: 7 | G18: 4 | H18: 0 | I18: =-ROUND(IF(AND(F18:H18),C18*E18*F18*G18*H18,IF(AND(F18,G18),C18*E18*F18*G18,IF(AND(F18,H18),C18*E18*F18*H18,IF(AND(G18,H18),C18*E18*G18*H18,IF(F18,C18*E18*F18,IF(G18,C18*E18*G18,IF(H18,C18*E18*H18,C18*E18))))))),2) -> -28 | J18: Sqm
I20: =SUM(I17:I19) -> 3372 | J20: Sqm | K20: ='data 2025-26'!H30 -> 33.88 | L20: 1Sqm | M20: =ROUND(I20*K20,0) -> 114243
A21: 3 | B21: Construction of sub base by provided selected earth and spreading in uniform layers with tractor grader on prepared surface and compacted at OMC with vibratory roller 80-100 KN to meet requirement of table 00.2 with as per technical specification clause 303 MORD, 305 MORTH by using machinery
B22: =B13 -> 0 | C22: 1 | D22: x | E22: 1 | F22: 5 | G22: 4+7/2 | H22: 0.15 | I22: =ROUND(C22*E22*F22*H22*(4+7)/2,2) -> 4.13 | J22: Cum
B23: =B14 -> 0 | C23: 1 | D23: x | E23: 1 | F23: 845 | G23: 4 | H23: 0.15 | I23: =ROUND(IF(AND(F23:H23),C23*E23*F23*G23*H23,IF(AND(F23,G23),C23*E23*F23*G23,IF(AND(F23,H23),C23*E23*F23*H23,IF(AND(G23,H23),C23*E23*G23*H23,IF(F23,C23*E23*F23,IF(G23,C23*E23*G23,IF(H23,C23*E23*H23,C23*E23))))))),2) -> 507 | J23: Cum
B24: Deduct vagu | C24: 1 | D24: x | E24: 1 | F24: 7 | G24: 4 | H24: 0.15 | I24: =-ROUND(IF(AND(F24:H24),C24*E24*F24*G24*H24,IF(AND(F24,G24),C24*E24*F24*G24,IF(AND(F24,H24),C24*E24*F24*H24,IF(AND(G24,H24),C24*E24*G24*H24,IF(F24,C24*E24*F24,IF(G24,C24*E24*G24,IF(H24,C24*E24*H24,C24*E24))))))),2) -> -4.2 | J24: Cum
B25: shoulders | C25: 1 | D25: x | E25: 2 | F25: 850 | G25: 0.75 | H25: 0.15 | I25: =ROUND(IF(AND(F25:H25),C25*E25*F25*G25*H25,IF(AND(F25,G25),C25*E25*F25*G25,IF(AND(F25,H25),C25*E25*F25*H25,IF(AND(G25,H25),C25*E25*G25*H25,IF(F25,C25*E25*F25,IF(G25,C25*E25*G25,IF(H25,C25*E25*H25,C25*E25))))))),2) -> 191.25 | J25: Cum
I27: =SUM(I22:I26) -> 698.18 | J27: Cum | K27: ='data 2025-26'!H46 -> 337.36 | L27: 1Cum | M27: =ROUND(I27*K27,0) -> 235538
M28: =SUM(M7:M27) -> 355493
A29: 4 | B29: Provision for Seigneorage charges | M29: =seigneorage!J11 -> 57600
M30: =SUM(M28:M29) -> 413093
A31: 5 | B31: Provision QC charges @ 0.50% (on Value of work done) | K31: =M28 -> 355493 | M31: =ROUND(K31*0.5%,0) -> 1777
A32: 6 | B32: Provision for NAC amount 0.1% (on Value of work done + Seigneorage) | K32: =M30 -> 413093 | M32: =ROUND(K32*0.1%,0) -> 413
A33: 7 | B33: Provision GST charges @ 12% ((on Value of work done + NAC + Seigneorage) | K33: =M30+M32 -> 413506 | M33: =ROUND(K33*12%,0) -> 49621
A34: 8 | B34: Provision for DMF Amount 30% (on Seigneorage charges) | K34: =M29 -> 57600 | M34: =ROUND(K34*30%,0) -> 17280
A35: 9 | B35: Provision for Merit amount 2% (on Seigneorage charges) | K35: =M29 -> 57600 | M35: =ROUND(K35*2%,0) -> 1152
A36: 10 | B36: Provision for Supervision charges @ 3% (on Value of work done) | K36: =M28 -> 355493 | M36: =ROUND(K36*3%,0) -> 10665
A37: 11 | B37: Unforseen items such as if any | M37: =N37 -> 5999 | N37: =N38-M30-M31-M32-M33-M34-M35-M36 -> 5999
B38: Total | M38: =SUM(M30:M37) -> 500000 | N38: 500000
G42: ='lead 2025-26'!$G$14 -> Deputy Executive Engineer | L42: ='lead 2025-26'!J14 -> Assistant Engineer
G43: ='lead 2025-26'!$G$15 -> PRI Sub Division: Kanigiri | L43: ='lead 2025-26'!J15 -> Mandal Praja Parishad
L44: P.C.palli

Sheet seigneorage
A1: SEIGNEORAGE STATEMENT
A2: ='lead 2025-26'!B3&'lead 2025-26'!C3 -> Name of the work : Gravelling the road from Nagaiah kunta road to Gaddam vinodsai fields in Vepagumpalli village and GP of P.C.Palli mandal.
H3: Est Rs. | I3: ='lead 2025-26'!K4 -> 5.00 Lakhs
A4: S.No | B4: Description of Item | H4: S.earth | I4: Earth | J4: Granular sub base | K4: Metal | L4: Cement
A5: 1 | B5: Selected earth | C5: S.erth | D5: =DET!I27 -> 698.18 | E5: x | F5: 1 | G5: = | H5: =ROUND(D5*F5,20) -> 698.18
A6: 2 | B6: Earthwork | C6: Earth | D6: =DET!I15 -> 0 | G6: = | I6: =D6 -> 0
H8: =SUM(H5:H7) -> 698.18 | I8: =SUM(I5:I7) -> 0 | J8: =SUM(J5:J7) -> 0 | K8: =SUM(K5:K7) -> 0 | L8: =SUM(L5:L7) -> 0
H9: 82.5 | I9: 82.5 | J9: 157.5 | K9: 157.5 | L9: Bags
G10: = | H10: =ROUND(H8*H9,2) -> 57599.85 | I10: =ROUND(I8*I9,2) -> 0 | J10: =ROUND(J8*J9,2) -> 0 | K10: =ROUND(K8*K9,2) -> 0
E11: Total | G11: = | H11: =H10+I10+J10+K10 -> 57599.85 | I11: Or | J11: =ROUND(H11,0) -> 57600
F14: ='lead 2025-26'!G14 -> Deputy Executive Engineer | J14: ='lead 2025-26'!J14 -> Assistant Engineer
F15: ='lead 2025-26'!G15 -> PRI Sub Division: Kanigiri | J15: ='lead 2025-26'!J15 -> Mandal Praja Parishad
J16: ='lead 2025-26'!J16 -> P.C.Palli

Sheet lead 2025-26
A1: LEAD STATEMENT (2025-2026)
B3: Name of the work : | C3: Gravelling the road from Nagaiah kunta road to Gaddam vinodsai fields in Vepagumpalli village and GP of P.C.Palli mandal.
I4: Est. Cost Rs: | K4: 5.00 Lakhs
A6: Sl. No. | B6: Name of the Material | C6: Name of the Quarry | D6: CFMS Code | E6: Units | F6: Conveyance charges | H6: Initial cost | I6: Blastering charges | J6: 25% HBG MC Charges | K6: Total | L6: Average rate | M6: 62
F7: Lead in Km | G7: Conveyance charges
A8: 1 | B8: 2 | C8: 3 | D8: 4 | E8: 5 | F8: 6 | G8: 7 | H8: 8 | I8: 9 | J8: 10 | K8: 11 | L8: 12
A9: 1 | B9: Selected earth | C9: Local | D9: MAT-00252 | E9: 1 Cum | F9: 5 | G9: =VLOOKUP(F9,'CON 2025-26'!A7:D127,2,TRUE) -> 103 | H9: 145 | J9: - | K9: =SUM(G9:J9) -> 248
A11: 1 | B11: Certified that the above leads are correct to the best of my knowledge.
A12: 2 | B12: Certified that the rates are provided as per SSR 2025-26
G14: Deputy Executive Engineer | J14: Assistant Engineer
G15: PRI Sub Division: Kanigiri | J15: Mandal Praja Parishad
J16: P.C.Palli

Sheet CON 2025-26
A1: Conveyance charges-2025-26
B2: As per Machinery
A3: Lead in KM | B3: Earth/Sand/Gravel | C3: Metal | D3: Bricks
B4: Initial lead Rete | C4: Initial lead Rete | D4: Initial lead Rete
A5: 1 | B5: 2 | C5: 3 | D5: 4
A6: 1 | B6: 38.62 | C6: 37.07 | D6: 61.79
A7: 2 | B7: 54.08 | C7: 51.91 | D7: 86.51
A8: 3 | B8: 72.1 | C8: 69.21 | D8: 115.34
A9: 4 | B9: 87.55 | C9: 84.04 | D9: 140.06
A10: 5 | B10: 103 | C10: 98.86 | D10: 164.77
A11: 6 | B11: =B10+15.45 -> 118.45 | C11: =C10+14.83 -> 113.69 | D11: =D10+24.72 -> 189.49
A12: 7 | B12: =B11+15.45 -> 133.9 | C12: =C11+14.83 -> 128.52 | D12: =D11+24.72 -> 214.21
A13: 8 | B13: =B12+15.45 -> 149.35 | C13: =C12+14.83 -> 143.35 | D13: =D12+24.72 -> 238.93
A14: 9 | B14: =B13+15.45 -> 164.8 | C14: =C13+14.83 -> 158.18 | D14: =D13+24.72 -> 263.65
A15: 10 | B15: =B14+15.45 -> 180.25 | C15: =C14+14.83 -> 173.01 | D15: =D14+24.72 -> 288.37
A16: 11 | B16: =B15+15.45 -> 195.7 | C16: =C15+14.83 -> 187.84 | D16: =D15+24.72 -> 313.09
A17: 12 | B17: =B16+15.45 -> 211.15 | C17: =C16+14.83 -> 202.67 | D17: =D16+24.72 -> 337.81
A18: 13 | B18: =B17+15.45 -> 226.6 | C18: =C17+14.83 -> 217.5 | D18: =D17+24.72 -> 362.53
A19: 14 | B19: =B18+15.45 -> 242.05 | C19: =C18+14.83 -> 232.33 | D19: =D18+24.72 -> 387.25
A20: 15 | B20: =B19+15.45 -> 257.5 | C20: =C19+14.83 -> 247.16 | D20: =D19+24.72 -> 411.97
A21: 16 | B21: =B20+15.45 -> 272.95 | C21: =C20+14.83 -> 261.99 | D21: =D20+24.72 -> 436.69
A22: 17 | B22: =B21+15.45 -> 288.4 | C22: =C21+14.83 -> 276.82 | D22: =D21+24.72 -> 461.41
... A35: 30 | B35: =B34+15.45 -> 489.25 | C35: =C34+14.83 -> 469.61 | D35: =D34+24.72 -> 782.77
A36: 31 | B36: =B35+12.87 -> 502.12 | C36: =C35+12.36 -> 481.97 | D36: =D35+20.6 -> 803.37
A37: 32 | B37: =B36+12.87 -> 514.99 | C37: =C36+12.36 -> 494.33 | D37: =D36+20.6 -> 823.97
A38: 33 | B38: =B37+12.87 -> 527.86 | C38: =C37+12.36 -> 506.69 | D38: =D37+20.6 -> 844.57
A39: 34 | B39: =B38+12.87 -> 540.73 | C39: =C38+12.36 -> 519.05 | D39: =D38+20.6 -> 865.17
A40: 35 | B40: =B39+12.87 -> 553.6 | C40: =C39+12.36 -> 531.41 | D40: =D39+20.6 -> 885.77
A41: 36 | B41: =B40+12.87 -> 566.47 | C41: =C40+12.36 -> 543.77 | D41: =D40+20.6 -> 906.37
A42: 37 | B42: =B41+12.87 -> 579.34 | C42: =C41+12.36 -> 556.13 | D42: =D41+20.6 -> 926.97
A43: 38 | B43: =B42+12.87 -> 592.21 | C43: =C42+12.36 -> 568.49 | D43: =D42+20.6 -> 947.57
A44: 39 | B44: =B43+12.87 -> 605.08 | C44: =C43+12.36 -> 580.85 | D44: =D43+20.6 -> 968.17
A45: 40 | B45: =B44+12.87 -> 617.95 | C45: =C44+12.36 -> 593.21 | D45: =D44+20.6 -> 988.77
A46: 41 | B46: =B45+12.87 -> 630.82 | C46: =C45+12.36 -> 605.57 | D46: =D45+20.6 -> 1009.37
A47: 42 | B47: =B46+12.87 -> 643.69 | C47: =C46+12.36 -> 617.93 | D47: =D46+20.6 -> 1029.97
... A305: 300 | B305: =B304+12.87 -> 3964.15 | C305: =C304+12.36 -> 3806.81 | D305: =D304+20.6 -> 6344.77

Sheet data 2025-26
A1: DATA SHEET (SSR 2025-26)
A2: ='lead 2025-26'!B3 -> Name of the work : | D2: ='lead 2025-26'!C3 -> Gravelling the road from Nagaiah kunta road to Gaddam vinodsai fields in Vepagumpalli village and GP of P.C.Palli mandal.
F3: ='lead 2025-26'!I4 -> Est. Cost Rs: | G3: ='lead 2025-26'!K4 -> 5.00 Lakhs
A4: S.No | B4: Qty. | C4: Unit | D4: Description of Tasks | E4: CFMS Code | F4: Rate. | G4: Per | H4: Amount.
A5: 1 | B5: 2 | C5: 3 | D5: 4 | E5: 5 | F5: 6 | G5: 7 | H5: 8
A6: 1 | B6: RBR-STCL-2-II-B | D6: Clearing and Grubbing Road Land
D7: Clearing and grubbing road land including uprooting wild vegetation, grass, bushes, shrubs, saplings and trees of girth upto 300 mm, removal of stumps of such trees cut earlier and disposal of unserviceable materials and stacking of serviceable material to be used or auctioned, upto a lead of 1000 m including removal and disposal of top organic soil not exceeding 150 mm in thickness as per Technical Specification Clause 201 MORD / MORTH.
D8: Taking output = 1 hectare
D9: By Mechanical Means
D10: In area of thorny jungle
C11: a) | D11: Labour
D12: Mate
B13: 6.24 | C13: day | D13: Mazdoor (Unskilled) | E13: LAB-00120 | F13: 615 | G13: 1day | H13: =ROUND(B13*F13,2) -> 3837.6
D14: Machinery
B15: 12 | C15: hour | D15: Dozer D 50 with attachment or suitable machinery for removal of trees & stumps | E15: HIR-00072 | F15: 1945 | G15: hour | H15: =ROUND(B15*F15,2) -> 23340
B16: 1.5 | C16: hour | D16: Tractor with trolley 3t | E16: HIR-00077 | F16: 541 | G16: hour | H16: =ROUND(B16*F16,2) -> 811.5
D17: Rate per 10000 Sqm | H17: =SUM(H13:H16) -> 27989.1
D18: Rate per 1 Sqm | H18: =ROUND(H17/10000,2) -> 2.8
A19: 2 | B19: RBR-EECD-8 C | D19: Earthwork excavation for road way in soil by mechanical means including cutting and pushing the earth to side of embankment upto a lead of 100 metres including trimming bottom and side slopes in accordance with requirements of lines, grades and cross sections etc., complete for finished item of work for trench cutting as per MOR&H specification No.301 and as directed by the Engineer-in-Charge
D20: Taking output = 180 cum
B21: 2.08 | C21: Cum | D21: Mazdoor (Unskilled) | E21: LAB-00120 | F21: 615 | G21: 1Cum | H21: =ROUND(B21*F21,2) -> 1279.2
B22: 3 | C22: Cum | D22: Hydraulic excavator 0.9 cum bucket capacity @ 100 cum/ hour | E22: HIR-00052 | F22: 3607.52 | G22: 1Cum | H22: =ROUND(B22*F22,2) -> 10822.56
D23: Taking output = 180 cum | H23: =SUM(H21:H22) -> 12101.76
D24: Rate per 1 Cum | H24: =ROUND(H23/180,2) -> 67.23
A25: 2 | D25: Scarifying existing granular surface to a depth of 50 mm and disposal of scarified material with all lifts and leads up to 1000 m as per Technical Specification Clause 301.4.MORD
D26: Taking output - 100 sqm
B27: 4.16 | C27: Cum | D27: Mazdoor | E27: LAB-00120 | F27: 615 | G27: 1Cum | H27: =ROUND(B27*F27,2) -> 2558.4
B28: 1.5 | C28: hour | D28: Tractor with trally | E28: HIR-00079 | F28: 553 | G28: 1Hour | H28: =ROUND(B28*F28,2) -> 829.5
D29: Rate per 100 Sqm | H29: =SUM(H27:H28) -> 3387.9
D30: Rate per 1 Sqm | H30: =ROUND(H29/100,2) -> 33.88
A31: 3 | B31: RBR-SBBS-1 - iii | D31: Improved subgrade
D32: Construction of sub base by provided selected earth and spreading in uniform layers with tractor grader on prepared surface and compacted at OMC with vibratory roller 80-100 KN to meet requirement of table 00.2 with as per technical specification clause 303 MORD, 305 MORTH by using machinery
D33: Taking out put = 100 cum
D34: Labour
B35: 1.04 | C35: day | D35: Mazdoor (Un-Skilled) | E35: LAB-00120 | F35: 595 | G35: 1day | H35: =ROUND(F35*B35,2) -> 618.8
D36: Machinery
B37: 0.5 | C37: hour | D37: Dozer D-50 for spreading @ 200 cum per hour | E37: HIR-00072 | F37: 1926 | G37: 1hour | H37: =ROUND(F37*B37,2) -> 963
B38: 1 | C38: hour | D38: vibratory roller 80-100 kN | E38: HIR-00062 | F38: 3518.6 | G38: 1hour | H38: =ROUND(F38*B38,2) -> 3518.6
B39: 2 | C39: hour | D39: Water tanker 6 kl capacity | E39: HIR-00076 | F39: 822 | G39: 1hour | H39: =ROUND(F39*B39,2) -> 1644
B40: 4 | C40: hour | D40: Tractor with Grader @ 25 cum per hour | E40: HIR-00078 | F40: 548 | G40: 1hour | H40: =ROUND(F40*B40,2) -> 2192
...

Sheet DET (2)
A1: DETAILED CUM ABSTRACT ESTIMATE
A2: ='lead 2025-26'!B3 -> Name of the work : | C2: ='lead 2025-26'!C3 -> Gravelling the road from Nagaiah kunta road to Gaddam vinodsai fields in Vepagumpalli village and GP of P.C.Palli mandal.
K3: Est.Rs. | M3: ='lead 2025-26'!K4 -> 5.00 Lakhs
A4: Sl. No | B4: Description of Item | C4: No. | F4: Measurements | I4: Quantity | K4: Rate | L4: Per | M4: Amount Rs.
F5: L | G5: B | H5: D
A6: 1 | B6: 2 | C6: 3 | F6: 4 | G6: 5 | H6: 6 | I6: 7 | K6: 8 | L6: 9 | M6: 10
A7: 1 | B7: Clearing and grubbing road land including uprooting wild vegetation, grass, bushes, shrubs, saplings and trees of girth upto 300 mm, removal of stumps of such trees cut earlier and disposal of unserviceable materials and stacking of serviceable material to be used or auctioned, upto a lead of 1000 m including removal and disposal of top organic soil not exceeding 150 mm in thickness as per Technical Specification Clause 201 MORD / MORTH. | N7: =M80 -> 0
B8: Km 0/0 to 0/2 | C8: 1 | D8: x | E8: 2 | F8: 200 | G8: 2 | H8: 0 | I8: =ROUND(IF(AND(F8:H8),C8*E8*F8*G8*H8,IF(AND(F8,G8),C8*E8*F8*G8,IF(AND(F8,H8),C8*E8*F8*H8,IF(AND(G8,H8),C8*E8*G8*H8,IF(F8,C8*E8*F8,IF(G8,C8*E8*G8,IF(H8,C8*E8*H8,C8*E8))))))),2) -> 800 | J8: Sqm
B9: Km 0/2 to 0/4 | C9: 1 | D9: x | E9: 2 | F9: 200 | G9: 2 | H9: 0 | I9: =ROUND(IF(AND(F9:H9),C9*E9*F9*G9*H9,IF(AND(F9,G9),C9*E9*F9*G9,IF(AND(F9,H9),C9*E9*F9*H9,IF(AND(G9,H9),C9*E9*G9*H9,IF(F9,C9*E9*F9,IF(G9,C9*E9*G9,IF(H9,C9*E9*H9,C9*E9))))))),2) -> 800 | J9: Sqm
B10: Km 0/4 to 0/6 | C10: 1 | D10: x | E10: 2 | F10: 200 | G10: 2 | H10: 0 | I10: =ROUND(IF(AND(F10:H10),C10*E10*F10*G10*H10,IF(AND(F10,G10),C10*E10*F10*G10,IF(AND(F10,H10),C10*E10*F10*H10,IF(AND(G10,H10),C10*E10*G10*H10,IF(F10,C10*E10*F10,IF(G10,C10*E10*G10,IF(H10,C10*E10*H10,C10*E10))))))),2) -> 800 | J10: Sqm
B11: Km 0/6 to 0/8 | C11: 1 | D11: x | E11: 2 | F11: 200 | G11: 2 | H11: 0 | I11: =ROUND(IF(AND(F11:H11),C11*E11*F11*G11*H11,IF(AND(F11,G11),C11*E11*F11*G11,IF(AND(F11,H11),C11*E11*F11*H11,IF(AND(G11,H11),C11*E11*G11*H11,IF(F11,C11*E11*F11,IF(G11,C11*E11*G11,IF(H11,C11*E11*H11,C11*E11))))))),2) -> 800 | J11: Sqm
B12: Km 0/8 to 0/8 +50 | C12: 1 | D12: x | E12: 2 | F12: 50 | G12: 2 | H12: 0 | I12: =ROUND(IF(AND(F12:H12),C12*E12*F12*G12*H12,IF(AND(F12,G12),C12*E12*F12*G12,IF(AND(F12,H12),C12*E12*F12*H12,IF(AND(G12,H12),C12*E12*G12*H12,IF(F12,C12*E12*F12,IF(G12,C12*E12*G12,IF(H12,C12*E12*H12,C12*E12))))))),2) -> 200 | J12: Sqm
I13: =SUM(I8:I12) -> 3400 | J13: Sqm
B14: Deduct voids at 40% | I14: =ROUND(-I13*40%,20) -> -1360 | J14: Sqm
I15: =SUM(I13:I14) -> 2040 | J15: Sqm | K15: ='data 2025-26'!H18 -> 2.8 | L15: 1Sqm | M15: =ROUND(I15*K15,0) -> 5712 | N15: =N50 -> 286
A16: 2 | B16: Earthwork excavation for road way in soil by mechanical means including cutting and pushing the earth to side of embankment upto a lead of 100 metres including trimming bottom and side slopes in accordance with requirements of lines, grades and cross sections etc., complete for finished item of work for trench cutting as per MOR&H specification No.301 and as directed by the Engineer-in-Charge
B17: =B8 -> Km 0/0 to 0/2 | C17: 1 | D17: x | E17: 2 | F17: =F8 -> 200 | G17: 0.6 | H17: 0.3 | I17: =ROUND(IF(AND(F17:H17),C17*E17*F17*G17*H17,IF(AND(F17,G17),C17*E17*F17*G17,IF(AND(F17,H17),C17*E17*F17*H17,IF(AND(G17,H17),C17*E17*G17*H17,IF(F17,C17*E17*F17,IF(G17,C17*E17*G17,IF(H17,C17*E17*H17,C17*E17))))))),2) -> 72 | J17: Cum
J19: Cum | K19: ='data 2025-26'!H24 -> 67.23 | L19: 1Cum | M19: =ROUND(I19*K19,0) -> 0
A20: 2 | B20: Scarifying existing granular surface to a depth of 50 mm and disposal of scarified material with all lifts and leads up to 1000 m as per Technical Specification Clause 301.4.MORD
B21: Km 0/0 to 0/2 | C21: 1 | D21: x | E21: 1 | F21: =F8 -> 200 | G21: 4 | H21: 0 | I21: =ROUND(IF(AND(F21:H21),C21*E21*F21*G21*H21,IF(AND(F21,G21),C21*E21*F21*G21,IF(AND(F21,H21),C21*E21*F21*H21,IF(AND(G21,H21),C21*E21*G21*H21,IF(F21,C21*E21*F21,IF(G21,C21*E21*G21,IF(H21,C21*E21*H21,C21*E21))))))),2) -> 800 | J21: Sqm
B22: Km 0/2 to 0/4 | C22: 1 | D22: x | E22: 1 | F22: =F9 -> 200 | G22: 4 | H22: 0 | I22: =ROUND(IF(AND(F22:H22),C22*E22*F22*G22*H22,IF(AND(F22,G22),C22*E22*F22*G22,IF(AND(F22,H22),C22*E22*F22*H22,IF(AND(G22,H22),C22*E22*G22*H22,IF(F22,C22*E22*F22,IF(G22,C22*E22*G22,IF(H22,C22*E22*H22,C22*E22))))))),2) -> 800 | J22: Sqm
B23: Km 0/4 to 0/6 | C23: 1 | D23: x | E23: 1 | F23: =F10 -> 200 | G23: 4 | H23: 0 | I23: =ROUND(IF(AND(F23:H23),C23*E23*F23*G23*H23,IF(AND(F23,G23),C23*E23*F23*G23,IF(AND(F23,H23),C23*E23*F23*H23,IF(AND(G23,H23),C23*E23*G23*H23,IF(F23,C23*E23*F23,IF(G23,C23*E23*G23,IF(H23,C23*E23*H23,C23*E23))))))),2) -> 800 | J23: Sqm
B24: Km 0/6 to 0/8 | C24: 1 | D24: x | E24: 1 | F24: =F11 -> 200 | G24: 4 | H24: 0 | I24: =ROUND(IF(AND(F24:H24),C24*E24*F24*G24*H24,IF(AND(F24,G24),C24*E24*F24*G24,IF(AND(F24,H24),C24*E24*F24*H24,IF(AND(G24,H24),C24*E24*G24*H24,IF(F24,C24*E24*F24,IF(G24,C24*E24*G24,IF(H24,C24*E24*H24,C24*E24))))))),2) -> 800 | J24: Sqm
B25: Km 0/8 to 0/8 +50 | C25: 1 | D25: x | E25: 1 | F25: =F12 -> 50 | G25: 4 | H25: 0 | I25: =ROUND(IF(AND(F25:H25),C25*E25*F25*G25*H25,IF(AND(F25,G25),C25*E25*F25*G25,IF(AND(F25,H25),C25*E25*F25*H25,IF(AND(G25,H25),C25*E25*G25*H25,IF(F25,C25*E25*F25,IF(G25,C25*E25*G25,IF(H25,C25*E25*H25,C25*E25))))))),2) -> 200 | J25: Sqm
I27: =SUM(I21:I26) -> 3400 | J27: Sqm | K27: ='data 2025-26'!H30 -> 33.88 | L27: 1Sqm | M27: =ROUND(I27*K27,0) -> 115192
A28: 3 | B28: Construction of sub base by provided selected earth and spreading in uniform layers with tractor grader on prepared surface and compacted at OMC with vibratory roller 80-100 KN to meet requirement of table 00.2 with as per technical specification clause 303 MORD, 305 MORTH by using machinery
B29: Km 0/0 to 0/2 | C29: 1 | D29: x | E29: 1 | F29: =F21 -> 200 | G29: 4 | H29: 0.15 | I29: =ROUND(IF(AND(F29:H29),C29*E29*F29*G29*H29,IF(AND(F29,G29),C29*E29*F29*G29,IF(AND(F29,H29),C29*E29*F29*H29,IF(AND(G29,H29),C29*E29*G29*H29,IF(F29,C29*E29*F29,IF(G29,C29*E29*G29,IF(H29,C29*E29*H29,C29*E29))))))),2) -> 120 | J29: Cum
B30: Km 0/2 to 0/4 | C30: 1 | D30: x | E30: 1 | F30: =F22 -> 200 | G30: 4 | H30: 0.15 | I30: =ROUND(IF(AND(F30:H30),C30*E30*F30*G30*H30,IF(AND(F30,G30),C30*E30*F30*G30,IF(AND(F30,H30),C30*E30*F30*H30,IF(AND(G30,H30),C30*E30*G30*H30,IF(F30,C30*E30*F30,IF(G30,C30*E30*G30,IF(H30,C30*E30*H30,C30*E30))))))),2) -> 120 | J30: Cum
B31: Km 0/4 to 0/6 | C31: 1 | D31: x | E31: 1 | F31: =F23 -> 200 | G31: 4 | H31: 0.15 | I31: =ROUND(IF(AND(F31:H31),C31*E31*F31*G31*H31,IF(AND(F31,G31),C31*E31*F31*G31,IF(AND(F31,H31),C31*E31*F31*H31,IF(AND(G31,H31),C31*E31*G31*H31,IF(F31,C31*E31*F31,IF(G31,C31*E31*G31,IF(H31,C31*E31*H31,C31*E31))))))),2) -> 120 | J31: Cum
B32: Km 0/6 to 0/8 | C32: 1 | D32: x | E32: 1 | F32: =F24 -> 200 | G32: 4 | H32: 0.15 | I32: =ROUND(IF(AND(F32:H32),C32*E32*F32*G32*H32,IF(AND(F32,G32),C32*E32*F32*G32,IF(AND(F32,H32),C32*E32*F32*H32,IF(AND(G32,H32),C32*E32*G32*H32,IF(F32,C32*E32*F32,IF(G32,C32*E32*G32,IF(H32,C32*E32*H32,C32*E32))))))),2) -> 120 | J32: Cum
B33: Km 0/8 to 0/8 +50 | C33: 1 | D33: x | E33: 1 | F33: =F25 -> 50 | G33: 4 | H33: 0.15 | I33: =ROUND(IF(AND(F33:H33),C33*E33*F33*G33*H33,IF(AND(F33,G33),C33*E33*F33*G33,IF(AND(F33,H33),C33*E33*F33*H33,IF(AND(G33,H33),C33*E33*G33*H33,IF(F33,C33*E33*F33,IF(G33,C33*E33*G33,IF(H33,C33*E33*H33,C33*E33))))))),2) -> 30 | J33: Cum
B34: shoulders Km 0/0 to 0/2 | C34: 1 | D34: x | E34: 2 | F34: =F29 -> 200 | G34: 0.8 | H34: 0.15 | I34: =ROUND(IF(AND(F34:H34),C34*E34*F34*G34*H34,IF(AND(F34,G34),C34*E34*F34*G34,IF(AND(F34,H34),C34*E34*F34*H34,IF(AND(G34,H34),C34*E34*G34*H34,IF(F34,C34*E34*F34,IF(G34,C34*E34*G34,IF(H34,C34*E34*H34,C34*E34))))))),2) -> 48 | J34: Cum
B35: Km 0/2 to 0/4 | C35: 1 | D35: x | E35: 2 | F35: =F30 -> 200 | G35: 0.75 | H35: 0.15 | I35: =ROUND(IF(AND(F35:H35),C35*E35*F35*G35*H35,IF(AND(F35,G35),C35*E35*F35*G35,IF(AND(F35,H35),C35*E35*F35*H35,IF(AND(G35,H35),C35*E35*G35*H35,IF(F35,C35*E35*F35,IF(G35,C35*E35*G35,IF(H35,C35*E35*H35,C35*E35))))))),2) -> 45 | J35: Cum
B36: Km 0/4 to 0/6 | C36: 1 | D36: x | E36: 2 | F36: =F31 -> 200 | G36: 0.8 | H36: 0.15 | I36: =ROUND(IF(AND(F36:H36),C36*E36*F36*G36*H36,IF(AND(F36,G36),C36*E36*F36*G36,IF(AND(F36,H36),C36*E36*F36*H36,IF(AND(G36,H36),C36*E36*G36*H36,IF(F36,C36*E36*F36,IF(G36,C36*E36*G36,IF(H36,C36*E36*H36,C36*E36))))))),2) -> 48 | J36: Cum
B37: Km 0/6 to 0/8 | C37: 1 | D37: x | E37: 2 | F37: =F32 -> 200 | G37: 0.75 | H37: 0.15 | I37: =ROUND(IF(AND(F37:H37),C37*E37*F37*G37*H37,IF(AND(F37,G37),C37*E37*F37*G37,IF(AND(F37,H37),C37*E37*F37*H37,IF(AND(G37,H37),C37*E37*G37*H37,IF(F37,C37*E37*F37,IF(G37,C37*E37*G37,IF(H37,C37*E37*H37,C37*E37))))))),2) -> 45 | J37: Cum
B38: Km 0/8 to 0/8 +50 | C38: 1 | D38: x | E38: 2 | F38: =F33 -> 50 | G38: 0.75 | H38: 0.15 | I38: =ROUND(IF(AND(F38:H38),C38*E38*F38*G38*H38,IF(AND(F38,G38),C38*E38*F38*G38,IF(AND(F38,H38),C38*E38*F38*H38,IF(AND(G38,H38),C38*E38*G38*H38,IF(F38,C38*E38*F38,IF(G38,C38*E38*G38,IF(H38,C38*E38*H38,C38*E38))))))),2) -> 11.25 | J38: Cum
I40: =SUM(I29:I39) -> 707.25 | J40: Cum | K40: ='data 2025-26'!H46 -> 337.36 | L40: 1Cum | M40: =ROUND(I40*K40,0) -> 238598
M41: =SUM(M7:M40) -> 359502
A42: 4 | B42: Provision for Seigneorage charges | M42: ='seigneorage (2)'!J11 -> 58348
M43: =SUM(M41:M42) -> 417850
...

Sheet seigneorage (2)
A1: SEIGNEORAGE STATEMENT
A2: ='lead 2025-26'!B3&'lead 2025-26'!C3 -> Name of the work : Gravelling the road from Nagaiah kunta road to Gaddam vinodsai fields in Vepagumpalli village and GP of P.C.Palli mandal.
H3: Est Rs. | I3: ='lead 2025-26'!K4 -> 5.00 Lakhs
A4: S.No | B4: Description of Item | H4: S.earth | I4: Earth | J4: Granular sub base | K4: Metal | L4: Cement
A5: 1 | B5: Selected earth | C5: S.erth | D5: ='DET (2)'!I40 -> 707.25 | E5: x | F5: 1 | G5: = | H5: =ROUND(D5*F5,20) -> 707.25
A6: 2 | B6: Earthwork | C6: Earth | D6: ='DET (2)'!I19 -> 0 | G6: = | I6: =D6 -> 0
H8: =SUM(H5:H7) -> 707.25 | I8: =SUM(I5:I7) -> 0 | J8: =SUM(J5:J7) -> 0 | K8: =SUM(K5:K7) -> 0 | L8: =SUM(L5:L7) -> 0
H9: 82.5 | I9: 82.5 | J9: 157.5 | K9: 157.5 | L9: Bags
G10: = | H10: =ROUND(H8*H9,2) -> 58348.13 | I10: =ROUND(I8*I9,2) -> 0 | J10: =ROUND(J8*J9,2) -> 0 | K10: =ROUND(K8*K9,2) -> 0
E11: Total | G11: = | H11: =H10+I10+J10+K10 -> 58348.13 | I11: Or | J11: =ROUND(H11,0) -> 58348
F14: ='lead 2025-26'!G14 -> Deputy Executive Engineer | J14: ='lead 2025-26'!J14 -> Assistant Engineer
F15: ='lead 2025-26'!G15 -> PRI Sub Division: Kanigiri | J15: ='lead 2025-26'!J15 -> Mandal Praja Parishad
J16: ='lead 2025-26'!J16 -> P.C.Palli

Sheet CC f
A1: CONTRACT CERTIFICATE
G2: GP Grant
B4: Name of the work :Construction of internal CC road from Kasu Pakirreddy house to Poleramma gudi in Laddimallapuram GP of Kanigiri Mandal.
B5: Name of the Contractor :
B6: Voucher : CC 1st & Final
B7: Last Certificate if any :
B8: Month :
B9: Number and month of the last schedule if any :-
B10: Mandal : Kanigiri | E10: Amount of estimate : Rs. 1.43 Lakhs | H10: Voucher No:
B11: Overseer's No. | E11: Authority Covering list No. | H11: Schedule No.
A13: S.No | B13: Quantity executed or Supplied | E13: Description of Items. | F13: Rate in Rs. | G13: Per | H13: Amount | J13: Remarks
B14: Upto Date | D14: Since last certificate | H14: Upto Date in Rs. | I14: Since last certificate in Rs.
A15: 1 | B15: =DET!#REF! -> #REF! | C15: Cum | E15: Removal of unsuitable / Unservieeble soil including excavation loading and disposal upto 1000Mts lead but excluding compaction gravel supporting embankment subgrade replacement by suitable soil which shall be paid seperately as per clause 303.5.2 as per technical specification clause 303.3.11 MORD/ 301 MORTH (Average depth 100mm to 200mm) | F15: =DET!#REF! -> #REF! | G15: 1Cum | H15: =ROUND(B15*F15,2) -> #REF!
A16: 2 | B16: =DET!#REF! -> #REF! | C16: Cum | E16: Construction of Granular Sub Base using well graded material, spreading in uniform layers with tractor mounted grader on prepared surface , mixing by mix in place method with rotovator at OMC and compacting with Smooth wheel roller to achive the desired density , Complete as per technical speficaction clause 401 of MORD | F16: =DET!#REF! -> #REF! | G16: 1Cum | H16: =ROUND(B16*F16,2) -> #REF!
A17: 3 | B17: =DET!#REF! -> #REF! | C17: Cum | E17: Plain cement concrete for CC pavement, thickness as per design, over a prepared sub base, with 43 grade cement or any other type as per Clause 1501.2.2 M20 (Grade), coarse and fine aggregates conforming to IS : 383, maximum in a concrete mixer of not less than 0.2 cum capacity and appropeiate weigh batcher using approved mix design, laid in approved fixed side formwork (steel channel, laying and fixing of 125 mictron thick polythene film, wedges, steel plates including levelling the formwork as per drawing), spreading the concrete with sholvels, rakes, compacted using needle, scareed and plate vibrators and finished in continuous operation including provision of contraction and expansion, construction joints, applying debonding strips, primer, sealant, dowel bars, near approaches to bridge / culvert and construction joints, admixtures as approved, curing of concrete slabs for 28- days, curing compound (where specified) and water finishing to lines and grade as per drawing and Technical Specification Clause 1501 MORD | F17: =DET!#REF! -> #REF! | G17: 1Cum | H17: =ROUND(B17*F17,2) -> #REF!
E19: Total value o work done or suplies made to date | G19: = | H19: =SUM(H15:H18) -> #REF! | L19: =SUM(L15:L18) -> 0
E20: Deduct value of work supplies shown on last certificate. | G20: = | H20: =L19 -> 0
E21: Net value of work/supplies since lst certificate | G21: = | H21: =H19-H20 -> #REF! | I21: =ROUND(H21,0) -> #REF!
B22: Signature of Contractor | H22: Date…………..……2020
D23: Certificate that the proceeding claim is correct that the necessary measurements have been made by me on 200 and record on page ………………………………… ……………………….. and the work has been satisfactory performed | F23: CHECK MEASUREMENT CERTIFICATE
D25: Certified also that the materials billed for have been recived and brought to account. | F25: Certified that the work and materials were duly Checked and Measured by me on (Date………….)
D26: Date………….. OFFICE INCHARGE | F26: Date………………2020 | I26: DESIGNATION
E28: Assistant Engineer
E29: Mandal Praja Parishad
E30: Kanigiri

Sheet ccbc 
A1: MEMORANDUM OF PAYMENTS MADE | G1: Rs. | H1: P. | I1: Rs. | J1: P.
B2: Total value of work done
B3: Amount of prevont payment from last certificate No………………….
C4: of | D4: Forward
C5: With accouts for…………………………………
C6: Fines and other deduction up to date
A8: Payments now made | C8: By Cash
C9: By Cheque No………………..
C10: By Value of Stock supplied
C11: Balance due
A12: Allotment of the year | D12: Rs P
A13: Expenditure included in this bill
C15: Balance availabe
A17: PAY RUPEES ( ) RECEIVED ( )
E18: Only as final payments in settlement of all demands
E19: ……………………………………………………………………………….
E21: ……………………………………………………………………………….
E23: Witness
A25: Head Clerk | D25: Presented of | E25: ……………………………………………………………………………….
E27: ……………………………………………………………………………….
A29: Head Account | D29: Engineer | E29: ……………………………………………………………………………….
E31: ……………………………………………………………………………….
G32: Date ………………………….. | J32: Payee……………………
I34: AUDIT ENFACEMENT
I35: Admitted Rs. ………………………….
I36: Objected Rs. ………………………….
I37: Total Rs. ………………..…………….
D38: Date | G38: 200 | J38: Auditor
D39: INVERNACULAR
B40: DISTRICT ENGINEET'S REMARKS
C41: NOTES
C42: 1. This form is intended for use in the case of running account i.e for works in progress or supplies in course
B43: of delivery when the liability is discharged in full single payment Form No. of A should be used.
C44: 2. Payment will be made only up to nineteenth of the total value of the work done. The balance being returned
B45: as a security both for the due performance of the contracts or to cover posible over payment which may be detected on cheque measurement in the case of work whose estimated cost does not exceed Rs. 50/- Payment may be made in full
B46: on the measuring officer's certificate subject to subsequent check measurement by the proper check measuring authority.
C47: 3. In calculating the amount of each item dur to the contractor in this bill, sums of five pieces or less shall be
B48: omitted and sums exceeding five pieces shall be recorded.
C49: 4. Payment made in case of sum exceeding Rs. 100/- should be attested by two witness and for smaller sum
B50: by one witness payment made by cheque to recognised firms of institutions need not be so witnessed.
...
